BEGIN:VCALENDAR
VERSION:2.0
PRODID:-//FEBRAPSI - ECPv6.15.20//NONSGML v1.0//EN
CALSCALE:GREGORIAN
METHOD:PUBLISH
X-WR-CALNAME:FEBRAPSI
X-ORIGINAL-URL:https://febrapsi.org
X-WR-CALDESC:Eventos para FEBRAPSI
REFRESH-INTERVAL;VALUE=DURATION:PT1H
X-Robots-Tag:noindex
X-PUBLISHED-TTL:PT1H
BEGIN:VTIMEZONE
TZID:America/Sao_Paulo
BEGIN:STANDARD
TZOFFSETFROM:-0300
TZOFFSETTO:-0300
TZNAME:-03
DTSTART:20240101T000000
END:STANDARD
END:VTIMEZONE
BEGIN:VEVENT
DTSTART;TZID=America/Sao_Paulo:20250702T080000
DTEND;TZID=America/Sao_Paulo:20251215T170000
DTSTAMP:20260422T085727
CREATED:20250704T023710Z
LAST-MODIFIED:20250704T023710Z
UID:55862-1751443200-1765818000@febrapsi.org
SUMMARY:Grupos de Estudos para a Comunidade: Inscrições abertas para os Grupos de Estudos 2º semestre de 2025
DESCRIPTION:Grupos de Estudos para a Comunidade:Inscrições abertas para os Grupos de Estudos 2º semestre de 2025\n\n\nOito grupos com programação diversificada oferecem à comunidade um espaço de aprofundamento teórico e reflexões clínicas sobre os fundamentos da psicanálise. Com foco em incentivar a formação continuada\, esses grupos promovem leituras e discussões qualificadas sobre diferentes autores e temáticas\, sendo organizados semestralmente conforme as áreas de interesse. \nSob a organização da Diretoria de Comunidade e Cultura – Área de Transmissão da Psicanálise – os encontros são semanais ou quinzenais\, conforme os coordenadores. \nInteressados de outras áreas podem verificar a possibilidade de participação diretamente na secretaria. \n   
URL:https://febrapsi.org/evento/grupos-de-estudos-para-a-comunidade-inscricoes-abertas-para-os-grupos-de-estudos-2o-semestre-de-2025/
LOCATION:curso online
CATEGORIES:Geral
ATTACH;FMTTYPE=image/png:https://febrapsi.org/storage/2025/07/2-1.png
ORGANIZER;CN="SBPdePA":MAILTO:secretaria@sbpdepa.org.br
END:VEVENT
BEGIN:VEVENT
DTSTART;TZID=America/Sao_Paulo:20251015T080000
DTEND;TZID=America/Sao_Paulo:20251205T170000
DTSTAMP:20260422T085727
CREATED:20251013T180602Z
LAST-MODIFIED:20251013T180602Z
UID:56851-1760515200-1764954000@febrapsi.org
SUMMARY:CINAPSIA 2026
DESCRIPTION:CINAPSIA – Curso Introdutório ao Atendimento\nPsicanalítico da Infância e Adolescência\n \nA Diretoria de Atendimento à Comunidade (DAC) da Sociedade Brasileira de Psicanálise de São Paulo abre novas inscrições para a décima segunda turma do Curso Introdutório ao Atendimento Psicanalítico da Infância e Adolescência – CINAPSIA\, para 2026. O objetivo do curso é desenvolver a escuta\, o olhar e a postura psicanalítica. É destinado a profissionais de saúde e educação interessados no desenvolvimento de bebês\, crianças e adolescentes.\n \nCONTEÚDO PROGRAMÁTICO\nAULAS TEÓRICAS:\n1º Ano: Desenvolvimento emocional do bebê ao adolescente \ne a teoria da técnica do ponto de vista psicanalítico.\n2º Ano: Psicopatologia do desenvolvimento emocional do bebê ao adolescente e a teoria da técnica do ponto de vista psicanalítico.\n \nAULAS PRÁTICAS DO 1º E 2º ANOS:\nDiscussão em pequenos grupos de situações de trabalho dos alunos em suas diversas modalidades profissionais.\n \nCARGA HORÁRIA:  3 HORAS SEMANAIS\nÀs terças-feiras das 17h30 às 19h e das 19h30 às 21h.\n \nINÍCIO DAS AULAS: 03/03/2026\n \nINFORMAÇÕES: vinicius@sbpsp.org.br\n \nINSCRIÇÃO PARA O PROCESSO DE SELEÇÃO:\n15/10 a 05/12/25 pelo site: www.sbpsp.org.br\n \nPÚBLICO ALVO: Profissionais de saúde e educação.\n \nNÚMERO DE VAGAS: Mínimo 12\, máximo 24 alunos.\nSerão feitas entrevistas para seleção com os professores do CINAPSIA. \nA SBPSP oferece 5 vagas referentes ao programa de cotas para profissionais negros\, indígenas e refugiados para este curso.\n \nPUBLICAÇÃO DOS RESULTADOS: 15/12/2025\n \nMATRÍCULA: R$ 600\,00 \nAté 19/12/2025 para os candidatos selecionados. \n \nMENSALIDADE:\n1º ano: 8 parcelas de R$ 800\,00\n2º ano: matrícula R$ 600\,00 mais 8 parcelas de R$ 800\,00\n \nRESPONSÁVEIS PELO CURSO:\nEste curso é promovido pela Diretoria de Atendimento \nà Comunidade (DAC) da SBPSP.\n\nNORMA LOTTENBERG SEMER\nCoordenadora do curso CINAPSIA.\nMembro Efetivo\, Analista de Crianças e Adolescentes.\nDocente do Instituto de Psicanálise “Durval Marcondes” da SBPSP.\n \nAnexo às inscrições:\nOs candidatos interessados\, além do preenchimento da ficha de inscrição\, deverão enviar um currículo e um memorial. Anexar foto ao currículo.\nO currículo deve ser completo\, contendo dados da formação escolar e acadêmica\, da experiência profissional e terapêutica (se houver). \nO memorial deve conter uma descrição do percurso profissional e pessoal e do interesse pelo curso CINAPSIA. \n \nCORPO DOCENTE: psicanalistas da SBPSP com experiência no atendimento de pais-bebês\, crianças e adolescentes.\n \nALESSANDRA RICCIARDI GORDON\nMembro Efetivo da SBPSP\n \nANA MARIA ROSA ROCCA RIVAROLA\nMembro Efetivo e Didata da SBPSP\n \nELIZABETH GNATOS LOMBARDI\nMembro Associado da SBPSP\n \nIARA SPADA BONDIOLI DE SOUZA NOTO\nMembro Efetivo da SBPSP\n \nJOICE CALZA MACEDO\nMembro Efetivo e Didata da SBPSP\n \nLIGIA TODESCAN LESSA MATTOS\nMembro Efetivo e Didata da SBPSP\n \nMARIA LÚCIA FERRÃO DE SOUSA CAMPOS\nMembro Efetivo da SBPSP\n \nMARIÂNGELA MENDES DE ALMEIDA\nMembro Associado da SBPSP\n \nMARIA REGINA JUNQUEIRA\nMembro Associado da SBPSP\n \nMARIA THEREZA DE BARROS FRANÇA\nMembro Efetivo e Didata da SBPSP\n \nMARÍLIA AMARO DA SILVEIRA MODESTO SANTOS\nMembro Efetivo da SBPSP\n \nNORMA LOTTENBERG SEMER\nMembro Efetivo da SBPSP\n \nRAQUEL ANDREUCCI PEREIRA GOMES\nMembro Associado da SBPSP\n \nROSELY MARIA RIBEIRO GARRAFA (Colaborador)\nMembro Filiado ao Instituto Durval Marcondes da SBPSP\n \nTANIA MARA ZALCBERG\nMembro Associado da SBPSP
URL:https://febrapsi.org/evento/cinapsia-2026/
LOCATION:curso online
CATEGORIES:Geral
ATTACH;FMTTYPE=image/png:https://febrapsi.org/storage/2025/10/CARTAZ-CINAPSIA-2026.png
ORGANIZER;CN="SBPSP":MAILTO:contato@sbpsp.org.br
END:VEVENT
BEGIN:VEVENT
DTSTART;TZID=America/Sao_Paulo:20251204T203000
DTEND;TZID=America/Sao_Paulo:20251204T220000
DTSTAMP:20260422T085727
CREATED:20251115T020512Z
LAST-MODIFIED:20251115T020512Z
UID:57740-1764880200-1764885600@febrapsi.org
SUMMARY:Quinta Científica dos Candidatos: JOGARAM UM MENINO NEGRO NO LIXO: Reflexões sobre a escuta psicanalítica das questões étnico raciais
DESCRIPTION:Convidamos para a Quinta Científica dos Candidatos: JOGARAM UM MENINO NEGRO NO LIXO: Reflexões sobre a escuta psicanalítica das questões étnico raciais\, dia 04 de dezembro (quinta-feira)\, às 20h30\, no Auditório da SPPA (Residentes em Porto Alegre) e Plataforma Zoom/SPPA (Pessoas que estiverem fora de Porto Alegre). \nApresentação:\nFlávia Friedman Maltz\nMembro Associado da SPPA \nCoordenação:\nPedro Víctor Santos\nMembro Aspirante e Presidente da Associação dos Candidatos da SPPA \nInscrição antecipada:\nhttps://forms.gle/K4692G7EvdR63N2A7 \nAtividade aberta e gratuita
URL:https://febrapsi.org/evento/quinta-cientifica-dos-candidatos-jogaram-um-menino-negro-no-lixo-reflexoes-sobre-a-escuta-psicanalitica-das-questoes-etnico-raciais/
LOCATION:Evento híbrido
CATEGORIES:Geral
ATTACH;FMTTYPE=image/jpeg:https://febrapsi.org/storage/2025/11/2025-12-04-Story.jpeg
ORGANIZER;CN="SPPA":MAILTO:sppa@sppa.org.br
END:VEVENT
END:VCALENDAR