BEGIN:VCALENDAR
VERSION:2.0
PRODID:-//FEBRAPSI - ECPv6.15.20//NONSGML v1.0//EN
CALSCALE:GREGORIAN
METHOD:PUBLISH
X-WR-CALNAME:FEBRAPSI
X-ORIGINAL-URL:https://febrapsi.org
X-WR-CALDESC:Eventos para FEBRAPSI
REFRESH-INTERVAL;VALUE=DURATION:PT1H
X-Robots-Tag:noindex
X-PUBLISHED-TTL:PT1H
BEGIN:VTIMEZONE
TZID:America/Sao_Paulo
BEGIN:STANDARD
TZOFFSETFROM:-0300
TZOFFSETTO:-0300
TZNAME:-03
DTSTART:20230101T000000
END:STANDARD
END:VTIMEZONE
BEGIN:VEVENT
DTSTART;TZID=America/Sao_Paulo:20240102T080000
DTEND;TZID=America/Sao_Paulo:20240210T170000
DTSTAMP:20260423T213828
CREATED:20240129T125917Z
LAST-MODIFIED:20240129T130135Z
UID:48715-1704182400-1707584400@febrapsi.org
SUMMARY:NOTÍCIAS - Curso  “Psicanálise: Teoria e Método” - SPFOR
DESCRIPTION:Atenção: em fevereiro de 2024 teremos uma novidade! \nIniciará o curso “Psicanálise: Teoria e Método”\, uma iniciativa da Sociedade Psicanalítica de Fortaleza – SPFOR.   \nO curso é direcionado a profissionais e estudantes da área da saúde\, tais como psicólogos\, enfermeiros\, terapeutas ocupacionais\, fonoaudiólogos\, médicos\, nutricionistas\, entre outros. \nO curso “Psicanálise: Teoria e Método” terá a duração de 1 (um) ano\, com aulas quinzenais aos sábados\, no formato presencial\, abordando os conceitos centrais de Sigmund Freud\, Melanie Klein\, Donald Winnicott e Wilfred Bion. Os participantes terão a oportunidade de trazer situações da sua prática diária para discussão. \nSe você nutre curiosidade pela Psicanálise e deseja aprimorar sua capacidade de escuta e compreensão\, convidamos você a fazer parte do curso “Psicanálise: teoria e método”. \nEm breve abriremos as inscrições.\nRessaltamos que as vagas são limitadas\, portanto\, não perca a oportunidade de enriquecer sua prática profissional conosco. \n 
URL:https://febrapsi.org/evento/noticias-curso-psicanalise-teoria-e-metodo-spfor/
LOCATION:São Paulo
CATEGORIES:Geral
ATTACH;FMTTYPE=image/png:https://febrapsi.org/storage/2024/01/unnamed.png
ORGANIZER;CN="SPFOR":MAILTO:psicanalisefortaleza@gmail.com
END:VEVENT
BEGIN:VEVENT
DTSTART;TZID=America/Sao_Paulo:20240217T090000
DTEND;TZID=America/Sao_Paulo:20240217T110000
DTSTAMP:20260423T213828
CREATED:20240129T125843Z
LAST-MODIFIED:20240129T125843Z
UID:48802-1708160400-1708167600@febrapsi.org
SUMMARY:AULA INAUGURAL
DESCRIPTION:Aula Inaugural \nA Diretoria do Instituto tem o grande prazer de convidar você para participar da Aula Inaugural de abertura das atividades do ano letivo 2024\, em que a nossa colega convidada\, Dra. Maria Bernadete Amêndola Contart de Assis\, através desse tema instigante\, mergulhará nas diversas camadas da relação entre analista e analisando. \nValores:\nProfissionais da área da saúde – R$ 100\,00.\nEstudantes – R$ 70\,00.\nEntrada franca para membros e membros filiados da SBPRP. \n5 vagas gratuitas para negros e indígenas. \nVagas limitadas. \nMaiores informações e inscrições: https://sbprp.org.br/proximos-eventos/ \nATENÇÃO: Não é possível alterar a modalidade de inscrição. Quem fizer a inscrição presencial não terá acesso ao link. Quem fizer a inscrição online não poderá vir presencialmente. \nIMPORTANTE: Não enviamos link por e-mail\, caso tenha dificuldades em acessá-lo\, CLIQUE AQUI e siga o passo a passo. E não se esqueça de entrar com o nome completo\, pois verificamos a lista de inscritos \nPolítica de Devolução de Valores: \n\n\nA desistência deverá ser solicitada exclusivamente pelo e-mail sbprp.financeiro@gmail.com\, informando o nome completo da pessoa inscrita\, CPF e dados bancários para depósito da devolução do valor da inscrição; \n\n\nA devolução dar-se-á em até 30 dias após o término do evento\, via depósito na conta informada no e-mail de solicitação de cancelamento; \n\n\nDesistências informadas até 20 dias antes do evento terão direito a 50% do valor pago; \n\n\nDesistências informadas até 7 dias antes do evento terão direito a 30% do valor pago; \n\n\nDesistências informadas após 7 dias antes do evento não terão direito a devolução de valores. \n\n\n \n \n 
URL:https://febrapsi.org/evento/aula-inaugural/
LOCATION:Evento híbrido
CATEGORIES:Geral
ATTACH;FMTTYPE=image/jpeg:https://febrapsi.org/storage/2024/01/570x727-18.jpg
ORGANIZER;CN="SBPRP":MAILTO:sbprp.secretaria@gmail.com
END:VEVENT
BEGIN:VEVENT
DTSTART;TZID=America/Sao_Paulo:20240217T140000
DTEND;TZID=America/Sao_Paulo:20240217T170000
DTSTAMP:20260423T213828
CREATED:20240216T123358Z
LAST-MODIFIED:20240216T123358Z
UID:48949-1708178400-1708189200@febrapsi.org
SUMMARY:Cinema e Psicanálise - "Saltburn"
DESCRIPTION:Inscrições gratuitas apenas no local \nO Cinema e Psicanálise esta iniciando suas atividades para 2024. Estamos em novo formato. Os encontros serão somente presenciais com exibição do filme e em seguida teremos o comentário de um ou mais convidados.\nGostaríamos de convidá-los para o nosso primeiro encontro que será no dia 17 de fevereiro de 2024\, às 14 horas\, na Biblioteca Sinhá Junqueira\, que fica na Rua Duque de Caxias\, 547 – Centro\, Ribeirão Preto/SP (defronte ao Theatro Pedro II) \nDessa vez\, vamos assistir ao filme “Saltburn” e depois teremos os comentários da psiquiatra e psicanalista\, Membro Efetivo com funções didáticas da SBPRP\, Dra. Beatriz Troncon Busatto. \nResumo do filme:\nSaltburn” é o nome da opulente propriedade da família de Felix Calton (Jacob Elordi)\, estudante da Universidade de Oxford\, onde o jovem conhece Oliver (Barry Keoghan)\, bolsista que aparenta origem modesta. Convidado\, Oliver\, ao chegar a Saltburn\, se encanta com o mundo aristocrata\, resistindo ao olhar curioso dos pais de Felix e às provocações de seus amigos\, que o rejeitam. \nSaltburn\, da diretora Emerald Fennell\, é um filme instigante\, que acompanha um personagem que busca entender quem ele realmente é\, enfrentando traumas e se confrontando com sua própria história. E ainda\, em um cenário deslumbrante e algo onírico. \nInscrições gratuitas apenas no local. Vagas limitadas. \nO filme será exibido no local. \n  \n 
URL:https://febrapsi.org/evento/cinema-e-psicanalise-saltburn/
LOCATION:Biblioteca Sinhá Junqueira\, R. Duque de Caxias\, 547\, Centro\, Ribeirão Preto\, São Paulo\, 14015-020
CATEGORIES:Geral
ATTACH;FMTTYPE=image/jpeg:https://febrapsi.org/storage/2024/02/570x727-22.jpg
ORGANIZER;CN="SBPRP":MAILTO:sbprp.secretaria@gmail.com
END:VEVENT
BEGIN:VEVENT
DTSTART;TZID=America/Sao_Paulo:20240219T200000
DTEND;TZID=America/Sao_Paulo:20240219T213000
DTSTAMP:20260423T213828
CREATED:20240216T123358Z
LAST-MODIFIED:20240216T123358Z
UID:48956-1708372800-1708378200@febrapsi.org
SUMMARY:Curso de Psicanálise da Criança e do Adolescente
DESCRIPTION:Tema: A Parentalidade e os processos de subjetivação. \nInício dia 19 de fevereiro às 20hs  \n O curso ocorrerá às segundas – feiras (quinzenalmente) \nValor: R$150\,00 \nPix para pagamento: CNPJ: 35467612000173 \nInformações e Inscrições: \nTelefones: (81) 98609.0196 – 98609.0198 \nE-mail: sprsecretaria@uol.com.br \n 
URL:https://febrapsi.org/evento/curso-de-psicanalise-da-crianca-e-do-adolescente-2/
LOCATION:São Paulo
CATEGORIES:Geral
ATTACH;FMTTYPE=image/jpeg:https://febrapsi.org/storage/2024/02/458ee5ea-544c-406c-9b82-1c9bf7d227ca-1.jpg
ORGANIZER;CN="SPRPE":MAILTO:contato@spr-pe.org.br
END:VEVENT
BEGIN:VEVENT
DTSTART;TZID=America/Sao_Paulo:20240220T203000
DTEND;TZID=America/Sao_Paulo:20240220T220000
DTSTAMP:20260423T213828
CREATED:20240208T114916Z
LAST-MODIFIED:20240208T114916Z
UID:48903-1708461000-1708466400@febrapsi.org
SUMMARY:Reflexão Psicanalítica -  “O desejo da ilusão”
DESCRIPTION:Apresentação: Austregésilo Castro –  Membro Titular e Didata da SPRPE \nData: 20|02|2024 | 3ª feira – Hora: 20:30 \nINVESTIMENTO: \nPúblico Externo: R$ 40\,00 para profissionais.  \nSem ônus: Membros\, Candidatos da SPRPE\, Estudantes de Graduação e profissionais com deficiência\, negros\, indígenas\, refugiados em concordância com as Ações Afirmativas. \nPIX: 35467612000173 \nBANCO ITAÚ: AG. 3175 –  CONTA: 45854-0 – CNPJ SPRPE: 35.467.612/0001-73 \nPlataforma Zoom
URL:https://febrapsi.org/evento/reflexao-psicanalitica-o-desejo-da-ilusao/
LOCATION:Online – Plataforma Zoom
CATEGORIES:Geral
ATTACH;FMTTYPE=image/jpeg:https://febrapsi.org/storage/2024/02/Tege.jpg
ORGANIZER;CN="SPRPE":MAILTO:contato@spr-pe.org.br
END:VEVENT
BEGIN:VEVENT
DTSTART;TZID=America/Sao_Paulo:20240221T203000
DTEND;TZID=America/Sao_Paulo:20240221T220000
DTSTAMP:20260423T213828
CREATED:20240216T123358Z
LAST-MODIFIED:20240216T123358Z
UID:48971-1708547400-1708552800@febrapsi.org
SUMMARY:A conclusão da formação analítica: Uma experiência de diálogo
DESCRIPTION:Convidamos para a videoconferência A conclusão da formação analítica: Uma experiência de diálogo\, com a participação de Zelig Libermann\, médico psiquiatra e analista didata da Sociedade Psicanalítica de Porto Alegre (SPPA)\, e de Maria Lucrécia Scherer Zavazchi\, médica psiquiatra\, analista didata e analista de crianças e adolescentes da Sociedade Psicanalítica de Porto Alegre (SPPA). A coordenação será de Ana Velia Vélez de Sánchez Osella\, diretora do Instituto de Psicanálise VLB. \n     Enviamos anexo o trabalho premiado pela IPA em Cartagena/2023\, que será apresentado pelos convidados. \n     O evento acontecerá no dia 21 de fevereiro\, quarta-feira\, às 20h30\, pelo Zoom. \n     Contamos com a presença de vocês!\n\n    Obs.: Aberto para membros da SPBsb e membros do Instituto de Psicanálise Virgínia Leone Bicudo
URL:https://febrapsi.org/evento/a-conclusao-da-formacao-analitica-uma-experiencia-de-dialogo/
LOCATION:São Paulo
CATEGORIES:Geral
ATTACH;FMTTYPE=image/jpeg:https://febrapsi.org/storage/2024/02/Instituto-Zelig-ok.jpg
END:VEVENT
BEGIN:VEVENT
DTSTART;TZID=America/Sao_Paulo:20240224T100000
DTEND;TZID=America/Sao_Paulo:20240224T120000
DTSTAMP:20260423T213828
CREATED:20240216T123358Z
LAST-MODIFIED:20240216T123358Z
UID:48967-1708768800-1708776000@febrapsi.org
SUMMARY:Espectro autista: evidências e intervenções"
DESCRIPTION: \n\n\n\n     A Diretoria Científica da SPBsb convida para a reunião científica “Espectro autista: evidências e intervenções“\,com apresentação de Rogério Lener\, professor da Universidade de São Paulo (USP) e membro da Sociedade Brasileira de Psicanálise de São Paulo (SBPSP) e Liliana Dutra de Moraes\, membra titular da SPBsb e psicanalista de crianças e adolescentes. A coordenação será de Daniela Yglesias Castro Prieto\, diretora científica da SPBsb.\n \n\n\n\n\n\n\n\n\n\n\n\n\n\n\n\n\n\n\n\n\n\n\n\n\n\n\n\n\n\n\n\n\n\n\n\n\n\n\n\n\n\n\n\n\n\n\n\n\n\n\n\n\n    O evento acontecerá no dia 24 de fevereiro\, sábado\, às 10h\, pelo Zoom.\n \n     Faça sua inscrição aqui \n\n\n\n\n\n\n\n\n\n\n\n\n\n\n\n\n\n\n\n\n\n\n\n\n\n\n\n\n\n\n\n\n\n\n\n\n\n\n\n\n\n\n\n\n\n\n\n\n\n\n\n\n\n\n\n\n\n\n\n\n\n\n\n\n\n\n\n\n\n\n\n\n \n\n\n     Contamos com a presença de vocês!\n\n\n\n\n\n\n\n\n\n\n\n\n\n\n\n\n\n\n\n\n\n\n\n\n\n\n\n\n\n\n\n\n\n\n\n\n\n\n\n\n\n\n\n\n\n\n\n\n\n\n\n\n\n\n\n\n\n\n\n\n\n\n\n\n\n\n\n\n\n\n\n\n\n\n\n\n\n\n\n\n\n\n\n\n\n\n\n\n\n \n     Obs.: Aberto para membros da SPBsb\, membros do Instituto\, Federadas e público externo.
URL:https://febrapsi.org/evento/espectro-autista-evidencias-e-intervencoes/
LOCATION:São Paulo
CATEGORIES:Geral
ATTACH;FMTTYPE=image/jpeg:https://febrapsi.org/storage/2024/02/2024-Rogerio-Lener-okk.jpg
END:VEVENT
BEGIN:VEVENT
DTSTART;TZID=America/Sao_Paulo:20240224T100000
DTEND;TZID=America/Sao_Paulo:20240224T123000
DTSTAMP:20260423T213828
CREATED:20240129T125843Z
LAST-MODIFIED:20240221T020953Z
UID:48703-1708768800-1708777800@febrapsi.org
SUMMARY:MANHA DE AUTÓGRAFOS SBPSP
DESCRIPTION:Temos o prazer de convidá-lo para uma manhã de autógrafos. Todos os livros lançados durante a pandemia poderão ser autografados durante uma confraternização presencial. \nEstamos programando uma abertura com Carmen C. Mion e Marina Massi\, e a coordenação de Ana Maria Stucchi Vannucchi\, que falarão sobre a produção científica da SBPSP! \nEm seguida teremos os autógrafos e um pequeno coquetel no hall de entrada do Auditório. \nEvento sem ônus. \nInscreva-se pelo e-mail:\nmayara.lopes@sbpsp.org.br. \nLocal: Av. Doutor Cardoso de Melo\, 1450 \n1º andar – Auditório SBPSP\nVila Olímpia\, São Paulo / SP \nContamos com sua presença! \n\nAna Maria Stucchi Vannuchi e \nEquipe da Diretoria Científica \n 
URL:https://febrapsi.org/evento/manha-de-autografos-sbpsp/
LOCATION:Sede SBPSP\, Av. Dr. Cardoso de Melo\, 1450\, 9ª andar\, São Paulo\, São Paulo\, 04548005\, Brasil
CATEGORIES:Geral
ATTACH;FMTTYPE=image/jpeg:https://febrapsi.org/storage/2024/01/423249215_18067536463485120_4923020336232039864_n.jpg
ORGANIZER;CN="SBPSP":MAILTO:contato@sbpsp.org.br
END:VEVENT
BEGIN:VEVENT
DTSTART;TZID=America/Sao_Paulo:20240228T203000
DTEND;TZID=America/Sao_Paulo:20240228T220000
DTSTAMP:20260423T213828
CREATED:20240216T123358Z
LAST-MODIFIED:20240216T123358Z
UID:48969-1709152200-1709157600@febrapsi.org
SUMMARY:Convocando vidas não vividas na clínica contemporânea
DESCRIPTION:Prezados colegas\,\n\nNo dia 28 de fevereiro\, quarta-feira\, às 20h30\, o Cenapp receberá\, com satisfação\, em sua 1ª Roda de Conversa de 2024\, o psicanalista Sérgio Gomes\, que apresentará a videoconferência: Convocando vidas não vividas na clínica contemporânea.\nSérgio Gomes é Doutor em Psicologia Clínica (PUC-Rio); Membro Efetivo do Círculo Psicanalítico do Rio de Janeiro; Membro do Grupo Brasileiro de Pesquisas Sándor Ferenczi e Diretor do Instituto Nebulosa Marginal. \nFaça sua inscrição aqui\n\n \nEsperamos encontrá-los lá!\n \nObs.: Aberto para membros da SPBsb\, membros do Instituto\, Federadas e público externo.\n          O evento será transmitido pela plataforma Zoom.\n 
URL:https://febrapsi.org/evento/convocando-vidas-nao-vividas-na-clinica-contemporanea/
LOCATION:São Paulo
CATEGORIES:Geral
ATTACH;FMTTYPE=image/jpeg:https://febrapsi.org/storage/2024/02/2024-Sergio-Gomes.jpg
END:VEVENT
BEGIN:VEVENT
DTSTART;TZID=America/Sao_Paulo:20240229T203000
DTEND;TZID=America/Sao_Paulo:20240229T203000
DTSTAMP:20260423T213828
CREATED:20240220T181247Z
LAST-MODIFIED:20240220T181247Z
UID:49006-1709238600-1709238600@febrapsi.org
SUMMARY:GEP MARÍLIA E REGIÃO - AULA INAUGURAL FORMAÇÃO PSICANALÍTICA
DESCRIPTION:Aula inaugural: FORMAÇÃO PSICANALÍTICA\, uma jornada apaixonante. \nCom Carmen C. Mion \nMembro efetivo e analista Didata da Sociedade Brasileira de Psicanálise de São Paulo (SBPSP).Docente e Supervisora do Instituto de Psicanálise da SBPSP. Atual Presidente da SBPSP. \nPúblico: Membros do GEP de Marília e Região\, alunos\, ex-alunos\, ex-agregados\, candidatos e membros das sociedades psicanalíticas. \nDia 29/02 – Quinta-feira\, às 20h30 -On-line. \nGRATUITO
URL:https://febrapsi.org/evento/gep-marilia-e-regiao-aula-inaugural-formacao-psicanalitica/
LOCATION:Evento Online
CATEGORIES:Geral
ATTACH;FMTTYPE=image/jpeg:https://febrapsi.org/storage/2024/02/Aula-inaugural-formacaopsicanalitica.jpeg
ORGANIZER;CN="GEP Mar%C3%ADlia e Regi%C3%A3o":MAILTO:contato@gepmariliaeregiao.com.br
END:VEVENT
END:VCALENDAR