BEGIN:VCALENDAR
VERSION:2.0
PRODID:-//FEBRAPSI - ECPv6.15.20//NONSGML v1.0//EN
CALSCALE:GREGORIAN
METHOD:PUBLISH
X-WR-CALNAME:FEBRAPSI
X-ORIGINAL-URL:https://febrapsi.org
X-WR-CALDESC:Eventos para FEBRAPSI
REFRESH-INTERVAL;VALUE=DURATION:PT1H
X-Robots-Tag:noindex
X-PUBLISHED-TTL:PT1H
BEGIN:VTIMEZONE
TZID:America/Sao_Paulo
BEGIN:STANDARD
TZOFFSETFROM:-0300
TZOFFSETTO:-0300
TZNAME:-03
DTSTART:20220101T000000
END:STANDARD
END:VTIMEZONE
BEGIN:VEVENT
DTSTART;TZID=America/Sao_Paulo:20231013T103000
DTEND;TZID=America/Sao_Paulo:20231208T120000
DTSTAMP:20260424T025811
CREATED:20230918T192814Z
LAST-MODIFIED:20230918T192814Z
UID:47695-1697193000-1702036800@febrapsi.org
SUMMARY:Curso Os Primórdios da Psicossomática na Obra de Freud - Módulo 3 (2023)
DESCRIPTION:Curso “Os Primórdios da Psicossomática na Obra de Freud” – Módulo 3 (2023) \nCurso para profissionais psicanalistas e psicanalistas em formação  \nHaverá tradução simultânea  \nAs aulas não serão gravadas \nDatas: 13/10\, 10/11 e 08/12 | 10h30 – 12h (sextas-feiras) | via Zoom  \nMinistrado por Claude Smadja\, psicanalista\, membro titular\, formador da Sociedade de Psicanálise de Paris. Ex-médico chefe do Instituto de Psicossomática de Paris. Fundador e ex-presidente da Associação Internacional de Psicossomática Pierre Marty. Co-fundador da Revista Francesa de Psicossomática. Autor dos livros: A vida operatória e Os modelos psicanalíticos da psicossomática. Centenas de artigos de Psicossomática Psicanalítica publicados. \nEmenta: \nA Teoria da Escola de Psicossomática de Paris é de grande valia para nós\, psicanalistas da atualidade\, que\, com frequência\, fazemos atendimentos onde há uma neurose e ao mesmo tempo uma doença orgânica ou sintomas orgânicos e\, também\, cada vez mais atendemos pacientes da tão falada Clínica do Vazio. Toda uma teoria\, construída a partir da metapsicologia freudiana\, utilizando o conceito de neurose atual de Freud\, o aparelho psíquico dividido em instâncias\, a última concepção de trauma\, a segunda teoria das pulsões e\, também\, a última concepção do masoquismo\, de 1924\, com as noções de intrincação e desintrincação pulsional. A partir daí\, surgem os conceitos de mentalização\, pensamento operatório\, depressão essencial e desorganização progressiva\, entre tantos outros. \nDuas vagas gratuitas para profissionais psicanalistas e psicanalistas em formação: negros\, indígenas e refugiados. Inscrições pelo e-mail: sbprj@sbprj.org.br \nINSCRIÇÕES \nMais informações: sbprj@sbprj.org.br \nRealização:  \nAssociação Internacional de Psicossomática Pierre Marty (AIPPM) \nIPSO-Brasil \nCentro de Estudos Psicanalíticos SBPRJ \nPolítica do evento
URL:https://febrapsi.org/evento/curso-os-primordios-da-psicossomatica-na-obra-de-freud-modulo-3-2023/
LOCATION:São Paulo
CATEGORIES:Geral
ATTACH;FMTTYPE=image/png:https://febrapsi.org/storage/2023/09/Smadja_mod3-1.png
ORGANIZER;CN="SBPRJ":MAILTO:sbprj@sbprj.org.br
END:VEVENT
BEGIN:VEVENT
DTSTART;TZID=America/Sao_Paulo:20231108T200000
DTEND;TZID=America/Sao_Paulo:20231108T220000
DTSTAMP:20260424T025811
CREATED:20231109T231016Z
LAST-MODIFIED:20231109T231016Z
UID:48092-1699473600-1699480800@febrapsi.org
SUMMARY:Estupidez no Campo Analítico
DESCRIPTION:Estupidez no Campo Analítico\n\n\nAtividade Híbrida  \n\n\nNa quarta-feira 08 de novembro\, das 20h às 22h\, sob organização do Centro de Atendimento Psicanalítico da (CAP) da Sociedade Brasileira de Psicanálise de Porto Alegre (SBPdePA)\, acontecerá uma atividade científica sobre o segmento analítico da psicanálise. \nO convidado para a ocasião é o Dr. Roosevelt M. S. Cassorla\, doutor em Saúde Mental\, Membro Titular e Analista Didata das Sociedades Brasileiras de Psicanálise de São Paulo e de Campinas. Além disso\, ele é Professor Titular de Psicologia Médica da Universidade Estadual de Campinas e tem uma lista impressionante de realizações na comunidade psicanalítica. \nEsta atividade abordará o intrigante tema “A estupidez no Campo Analítico\,” mergulhando nos aspectos obstrutivos que afetam o analista\, muitas vezes sem que ele se dê conta. O conceito de “enactment” será central na discussão\, e o Dr. Cassorla também expandirá essas ideias para o campo social. Tudo isso está detalhado em seu livro “O Psicanalista\, o Teatro dos Sonhos e a Clínica do Enactment\,” uma leitura obrigatória para aqueles que desejam compreender a psicanálise contemporânea.\nA atividade será enriquecida com a participação dos psicanalistas da SBPdePA Astrid Ribeiro e César Antunes. 
URL:https://febrapsi.org/evento/estupidez-no-campo-analitico/
LOCATION:São Paulo
CATEGORIES:Geral
ATTACH;FMTTYPE=image/jpeg:https://febrapsi.org/storage/2023/11/WhatsApp-Image-2023-10-13-at-14.40.30-1.jpeg
END:VEVENT
BEGIN:VEVENT
DTSTART;TZID=America/Sao_Paulo:20231111T090000
DTEND;TZID=America/Sao_Paulo:20231111T120000
DTSTAMP:20260424T025811
CREATED:20231025T024329Z
LAST-MODIFIED:20231025T024329Z
UID:48007-1699693200-1699704000@febrapsi.org
SUMMARY:DIÁLOGOS PSICANALÍTICOS II - Aula 8: HOWARD LEVINE
DESCRIPTION:NOVEMBRO: 11/11/23 \nTEMA: HOWARD LEVINE \nCoordenação: Elias Mallet da Rocha Barros (SBPSP) \nOrganização: Benedita de Lourdes (SBPSP) e Lidia Magnino (SBPSP) \nInvestimento:\nAula individual: R$ 170\,00 \nwww.sbpsp.org.br\nfabiana@sbpsp.org.br
URL:https://febrapsi.org/evento/dialogos-psicanaliticos-ii-aula-8-howard-levine/
LOCATION:Online – Plataforma Zoom
CATEGORIES:Geral
ATTACH;FMTTYPE=image/png:https://febrapsi.org/storage/2023/10/CARTAZ_DIALOGOS_PSICANALITICOS_23_NOVEMBRO-scaled.png
ORGANIZER;CN="SBPSP":MAILTO:contato@sbpsp.org.br
END:VEVENT
BEGIN:VEVENT
DTSTART;TZID=America/Sao_Paulo:20231111T090000
DTEND;TZID=America/Sao_Paulo:20231111T120000
DTSTAMP:20260424T025811
CREATED:20231109T231016Z
LAST-MODIFIED:20231109T231016Z
UID:48097-1699693200-1699704000@febrapsi.org
SUMMARY:Seminário Aberto - O Projeto (1895)
DESCRIPTION:Seminário Aberto – O Projeto (1895) \n\n\nNo dia 11 de novembro\, das 9h às 12\, teremos um Seminário Aberto que trará como convidada especial Marie Christine Laznik\, Psicanalista franco-brasileira\, doutora em psicologia clínica\, com mais de 40 anos de prática na consulta pais-bebês do Centro Alfred Binet (ASM 13). Autora de diversos livros renomados. \n\nA temática do evento girará em torno do como o Projeto de Freud (1895) oferece respaldo metapsicológico para entender como o bebê com dor desorganiza aquele que presta socorro. Teoria e Clínica. \n\nCoordenação de Aline Pinto\, Coordenadora da Formação Integrada. \n\n🖥️ Formato do Evento: On-line \n\nNão perca a oportunidade de participar deste seminário enriquecedor\, onde exploraremos a interação entre bebês com dor e seus cuidadores. Uma ocasião única para aprofundar seus conhecimentos em psicanálise. \n\n\n  \nTERMO DE RESPONSÁBILIDADE: \n​Devido ao seminário aberto conter material clínico com conteúdos autorizados somente à palestrante\,  é expressamente proibido filmar\, gravar áudio e fotografar. \nPor solicitação da convidada\, as câmeras deverão ser mantidas abertas durante toda atividade. Aqueles que  não estiverem com as câmeras abertas\, serão retirados da sala.
URL:https://febrapsi.org/evento/seminario-aberto-o-projeto-1895/
LOCATION:São Paulo
CATEGORIES:Geral
ATTACH;FMTTYPE=image/jpeg:https://febrapsi.org/storage/2023/11/NOTICIA-2-1.jpeg
END:VEVENT
BEGIN:VEVENT
DTSTART;TZID=America/Sao_Paulo:20231111T100000
DTEND;TZID=America/Sao_Paulo:20231111T120000
DTSTAMP:20260424T025811
CREATED:20231020T205457Z
LAST-MODIFIED:20231020T205457Z
UID:47954-1699696800-1699704000@febrapsi.org
SUMMARY:Curso Psicanálise e Mitologia – Módulo 4: O mito do masculino
DESCRIPTION:Curso Psicanálise e Mitologia – Módulo 4: O mito do masculino\nDia: 11 de novembro\nHorário 10h às 12h\nAtividade Online (Plataforma Zoom/SPPA) \nCoordenação:\nCátia Olivier Mello (Diretora Científica SPPA) \nMódulo 1:\n12 de agosto (sábado)\nNo princípio era o Kháos: o mito do começo do mundo \nMódulo 2:\n16 de setembro (sábado)\nO mito de Édipo \nMódulo 3:\n14 de outubro (sábado)\nO mito do feminino \nMódulo 4:\n11 de novembro (sábado)\nO mito do masculino \nInscrições Antecipadas:\nhttps://forms.gle/JTn5Di3Las6JPub88 \nAtividade aberta\nValor:\nCurso completo: R$ 600\,00\nPor módulo: R$ 200\,00\nMembros SPPA: Isentos
URL:https://febrapsi.org/evento/curso-psicanalise-e-mitologia-modulo-4-o-mito-do-masculino/
LOCATION:Online – Plataforma Zoom
CATEGORIES:Geral
ATTACH;FMTTYPE=image/jpeg:https://febrapsi.org/storage/2023/10/1.jpg
ORGANIZER;CN="SPPA":MAILTO:sppa@sppa.org.br
END:VEVENT
BEGIN:VEVENT
DTSTART;TZID=America/Sao_Paulo:20231111T100000
DTEND;TZID=America/Sao_Paulo:20231111T123000
DTSTAMP:20260424T025811
CREATED:20231109T231016Z
LAST-MODIFIED:20231109T231016Z
UID:48109-1699696800-1699705800@febrapsi.org
SUMMARY:Conversa sobre o livro - Freud e a Mente Lúdica: Novas Idéias em Psicanálise
DESCRIPTION:Conversa sobre o livro – Freud e a Mente Lúdica: Novas Idéias em Psicanálise \n11 de novembro de 2023 \n10h
URL:https://febrapsi.org/evento/conversa-sobre-o-livro-freud-e-a-mente-ludica-novas-ideias-em-psicanalise/
LOCATION:Evento híbrido
CATEGORIES:Geral
ATTACH;FMTTYPE=image/jpeg:https://febrapsi.org/storage/2023/11/11-11-2023.jpeg
ORGANIZER;CN="SPRJ":MAILTO:sprj.rio1@sprj.org.br
END:VEVENT
BEGIN:VEVENT
DTSTART;TZID=America/Sao_Paulo:20231111T160000
DTEND;TZID=America/Sao_Paulo:20231111T190000
DTSTAMP:20260424T025811
CREATED:20231025T024329Z
LAST-MODIFIED:20231025T024329Z
UID:48011-1699718400-1699729200@febrapsi.org
SUMMARY:O BRINCAR COMO REFLEXÃO: ANDRÉ GREEN\, LEITOR DE WINNICOTT
DESCRIPTION:Neste semestre\, continuaremos a refletir sobre as relações entre as ideias de Winnicott e de autores a ele relacionados\, consagrados no campo da psicanálise. Comparando criticamente as perspectivas de alguns psicanalistas contemporâneos\, pretendemos contribuir para a afirmação da “psicanálise como arte de pensar entre-dois”. \n\nO BRINCAR COMO REFLEXÃO: ANDRÉ GREEN\, LEITOR DE WINNICOTT \nPalestrante: Ana Maria Andrade de Azevedo (SBPSP) \nCoordenação: Marlene Rozenberg (SBPSP) e Marisa Granchelli (SBPSP) \nInvestimento:\nMembros SBPSP\, Febrapsi\, IPA\, Fepal e Estudantes de graduação: Sem ônus\nProfissionais: R$ 60\,00 \n5 Cotas para profissionais negros\, indígenas e refugiados.\nInscrições pelo site: www.sbpsp.org.br\nInformações: fabiana@sbpsp.org.br \n  \nDIRETORIA DE CULTURA E COMUNIDADE – DCC / SBPSP\nDiretor: João Frayze-Pereira \nAssistente da Direção: Lila Schwartz\nCoordenação das reuniões: Lila Schwartz\, Marlene Rozenberg\, Marisa Granchelli\, \nMirian Malzyner\, Norma Lottenberg Semer\, Raquel Pires e Tania Zalcberg\nApoio do CDM: Regina Gianesi e Yone Castello\nCiclo “Cinema e Psicanálise”: Luciana Saddi \n 
URL:https://febrapsi.org/evento/o-brincar-como-reflexao-andre-green-leitor-de-winnicott/
LOCATION:Online – Plataforma Zoom
CATEGORIES:Geral
ATTACH;FMTTYPE=image/png:https://febrapsi.org/storage/2023/10/DCC_11_NOV_23b.png
ORGANIZER;CN="SBPSP":MAILTO:contato@sbpsp.org.br
END:VEVENT
BEGIN:VEVENT
DTSTART;TZID=America/Sao_Paulo:20231114T193000
DTEND;TZID=America/Sao_Paulo:20231114T210000
DTSTAMP:20260424T025811
CREATED:20231020T205458Z
LAST-MODIFIED:20231020T205458Z
UID:47956-1699990200-1699995600@febrapsi.org
SUMMARY:Café Literário da Psicanalítica – “Sandman”\, de Neil Gaiman
DESCRIPTION:“Sandman”\, de Neil Gaiman\, será o tema do Café Literário da Psicanalítica do dia 14 de novembro (terça-feira)\, às 19h30\, na plataforma Zoom/SPPA. \nA conversa será entre Fabiano Silveira (Professor de Inglês e Tradutor\, Mestre pela ULBRA) e Ruggero Levy (Psicanalista da SPPA)\, com a coordenação da Psicanalista Maria Regina Limeira Ortiz. \nInscrições antecipadas:\nhttps://us06web.zoom.us/webinar/register/WN_W7qbX_1BSnSHLcwKXc5-jQ \nAtividade aberta e gratuita.
URL:https://febrapsi.org/evento/cafe-literario-da-psicanalitica-sandman-de-neil-gaiman/
LOCATION:Online – Plataforma Zoom
CATEGORIES:Geral
ATTACH;FMTTYPE=image/jpeg:https://febrapsi.org/storage/2023/10/2023-11-14-01-Cafe-Literario-.jpg
ORGANIZER;CN="SPPA":MAILTO:sppa@sppa.org.br
END:VEVENT
BEGIN:VEVENT
DTSTART;TZID=America/Sao_Paulo:20231114T203000
DTEND;TZID=America/Sao_Paulo:20231114T203000
DTSTAMP:20260424T025811
CREATED:20231020T205456Z
LAST-MODIFIED:20231020T205456Z
UID:47946-1699993800-1699993800@febrapsi.org
SUMMARY:Reflexão Psicanalítica - O papel da instituição na formação psicanalítica
DESCRIPTION:Apresentação: Claudio Laks Eizirik \nData: 14-11-2023 \nInformações: \nFones: (81) 986090196 / 986090198 \nE-mail: sprsecretaria@uol.com.br \nSite: www.spr-pe.org.br \nInstagram: @sprpe1
URL:https://febrapsi.org/evento/reflexao-psicanalitica-o-papel-da-instituicao-na-formacao-psicanalitica/
LOCATION:Online – Plataforma Zoom
CATEGORIES:Geral
ATTACH;FMTTYPE=image/jpeg:https://febrapsi.org/storage/2023/10/78c4f1dd-30fd-4cae-bfe1-59302a7b2356.jpg
ORGANIZER;CN="SPRPE":MAILTO:contato@spr-pe.org.br
END:VEVENT
BEGIN:VEVENT
DTSTART;TZID=America/Sao_Paulo:20231115T170000
DTEND;TZID=America/Sao_Paulo:20231115T183000
DTSTAMP:20260424T025811
CREATED:20231028T030411Z
LAST-MODIFIED:20231101T174336Z
UID:48047-1700067600-1700073000@febrapsi.org
SUMMARY:Feira do Livro - Autonarrativas literárias e psicanalíticas
DESCRIPTION:69º Feira do Livro de Porto Alegre\nXXVI Ciclo da Revista de Psicanálise da SPPA\nCâmara Riograndense do Livro \nAutonarrativas literárias e psicanalíticas.\nData: 15 de novembro (quarta-feira)\nHora: 17h30 as 19h\nLocal: Auditório Barbosa Lessa CCCEV (Rua dos Andradas\, 1223) \nSinopse: a atividade será uma conversa sobre a importância atual de autonarrar-se e as dimensões alcançadas na literatura (como forma de arte escrita) e na psicanálise (como forma de conhecer a si mesmo\, de auto apresentar-se acompanhado por um analista). \nParticipantes:\nVitor Bertini (Escritor e professor de storytelling)\nMário Tregnago Barcellos (SPPA) \nMúsica:\nViolão: André Ely\nVoz: Denise Lahude (SPPA) \nCoordenação:\nElena Tomasel (SPPA)
URL:https://febrapsi.org/evento/feira-do-livro-autonarrativas-literarias-e-psicanaliticas/
LOCATION:Rua dos Andradas\, 1223\, Rua dos Andradas\, 1223\, Porto Alegre\, RS\, Brasil
CATEGORIES:Geral
ATTACH;FMTTYPE=image/jpeg:https://febrapsi.org/storage/2023/10/2023-11-15-01-Feira-do-Livro.jpg
ORGANIZER;CN="SPPA":MAILTO:sppa@sppa.org.br
END:VEVENT
BEGIN:VEVENT
DTSTART;TZID=America/Sao_Paulo:20231117T193000
DTEND;TZID=America/Sao_Paulo:20231117T213000
DTSTAMP:20260424T025811
CREATED:20231109T231017Z
LAST-MODIFIED:20231109T231017Z
UID:48112-1700249400-1700256600@febrapsi.org
SUMMARY:S.OS. Brasil - Sobre o S.O.S Brasil na SPRJ - Um Diálogo sobre Clínicas Sociais
DESCRIPTION:S.OS. Brasil – Sobre o S.O.S Brasil na SPRJ – Um Diálogo sobre Clínicas Sociais \n17 de novembro de 2023 \n19:30hs
URL:https://febrapsi.org/evento/s-os-brasil-sobre-o-s-o-s-brasil-na-sprj-um-dialogo-sobre-clinicas-sociais/
LOCATION:Evento Online
CATEGORIES:Geral
ATTACH;FMTTYPE=image/jpeg:https://febrapsi.org/storage/2023/11/17-11-20203.jpeg
ORGANIZER;CN="SPRJ":MAILTO:sprj.rio1@sprj.org.br
END:VEVENT
BEGIN:VEVENT
DTSTART;TZID=America/Sao_Paulo:20231118T100000
DTEND;TZID=America/Sao_Paulo:20231118T130000
DTSTAMP:20260424T025811
CREATED:20231026T231620Z
LAST-MODIFIED:20231026T231620Z
UID:48029-1700301600-1700312400@febrapsi.org
SUMMARY:CAMPOS PSÍQUICOS NA SALA DE ANÁLISE E NA CULTURA: ENTRE BION E CIVITARESE
DESCRIPTION:PSICANÁLISE CONTEMPORÂNEA COMO ARTE DE PENSAR ENTRE-DOIS.\nNeste semestre\, continuaremos a refletir sobre as relações entre as ideias de Winnicott e de autores a ele relacionados\, consagrados no campo da psicanálise. Comparando criticamente as perspectivas de alguns psicanalistas contemporâneos\, pretendemos contribuir para a afirmação da “psicanálise como arte de pensar entre-dois”. \nPalestrante: Juarez Guedes Cruz (SPPA)\nCoordenação: João Frayze-Pereira (SBPSP) e Norma Lottenberg Semer (SBPSP)\nInvestimento:\nMembros SBPSP\, Febrapsi\, IPA\, Fepal e Estudantes de graduação: Sem ônus\nProfissionais: R$ 60\,00 \n5 Cotas para profissionais negros\, indígenas e refugiados.\nInscrições pelo site: www.sbpsp.org.br\nInformações: fabiana@sbpsp.org.br \n  \nDIRETORIA DE CULTURA E COMUNIDADE – DCC / SBPSP\nDiretor: João Frayze-Pereira \nAssistente da Direção: Lila Schwartz\nCoordenação das reuniões: Lila Schwartz\, Marlene Rozenberg\, Marisa Granchelli\, \nMirian Malzyner\, Norma Lottenberg Semer\, Raquel Pires e Tania Zalcberg\nApoio do CDM: Regina Gianesi e Yone Castello\nCiclo “Cinema e Psicanálise”: Luciana Saddi
URL:https://febrapsi.org/evento/campos-psiquicos-na-sala-de-analise-e-na-cultura-entre-bion-e-civitarese/
LOCATION:Online – Plataforma Zoom
CATEGORIES:Geral
ATTACH;FMTTYPE=image/png:https://febrapsi.org/storage/2023/10/DCC_18_NOV_23.png
ORGANIZER;CN="SBPSP":MAILTO:contato@sbpsp.org.br
END:VEVENT
BEGIN:VEVENT
DTSTART;TZID=America/Sao_Paulo:20231122T200000
DTEND;TZID=America/Sao_Paulo:20231122T213000
DTSTAMP:20260424T025811
CREATED:20231109T231016Z
LAST-MODIFIED:20231109T231016Z
UID:48103-1700683200-1700688600@febrapsi.org
SUMMARY:A marcha do silêncio
DESCRIPTION:O evento será uma conversa com o autor do livro explorando os aspectos mais relevantes na compreensão do genocidio negro no Brasil e a busca de uma mãe por justiça por ter um filho de 16 anos assassinado brutalmente.
URL:https://febrapsi.org/evento/a-marcha-do-silencio/
LOCATION:São Paulo
CATEGORIES:Geral
ATTACH;FMTTYPE=image/jpeg:https://febrapsi.org/storage/2023/11/WhatsApp-Image-2023-10-31-at-13.41.40.jpeg
END:VEVENT
BEGIN:VEVENT
DTSTART;TZID=America/Sao_Paulo:20231124T073000
DTEND;TZID=America/Sao_Paulo:20231124T220000
DTSTAMP:20260424T025811
CREATED:20231102T172548Z
LAST-MODIFIED:20231106T182427Z
UID:48073-1700811000-1700863200@febrapsi.org
SUMMARY:Mutualidade\, Experimentação e Prudência
DESCRIPTION:Prezados colegas\, \n\n\n\n\n\n\n\n\n\n\n\n\n\n\n\n\n\n\n\n\n\n\n\n\n\n\n A Diretoria Científica da SPBsb convida para a reunião científica “Mutualidade\,  Experimentação e Prudência”\, com apresentação de Eliana Schueler Reis\, psicanalista\, membra do Espaço Brasileiro de Estudos Psicanalíticos do Rio de Janeiro – EBEPR/RJ e membra do Grupo Brasileiro de Pesquisas Sándor Ferenczi – GBPSF. A coordenação será de Daniela Yglesias Castro Prieto\, diretora científica da SPBsb e Veridiana Canezin Guimarães\, editora da revista Alter.\n        \n\n\n\n\n\n\n\n\n\n\n\n\n\n\n\n\n\n\n\n\n\n\n\n\n\n\n\n\n\n\n\n\n\n\n\n\n\n\n\n\n\n\n\n\n\n\n\n\n\n\n\n\nTeremos o Lançamento da Revista Alter “Sándor Ferenczi”.\n\n\n\n\n\n\n\n\n\n\n\n\n\n\n\n\n\n\n\n\n\n\n\n\n\n\n\n\n\n\n\n\n\n\n\n\n\n\n\n\n\n\n\n\n\n\n\n\n\n\n\n \nO evento acontecerá no dia 24 de novembro\, sexta-feira\, às 19h30\, pelo Zoom.\n\n\n\n\n\n\n\n\n\n\n\n\n\n\n\n\n\n\n\n\n\n\n\n \n\n\n\n\n\n\n\n\n\n\n\n\n\n\n\n\n\n\n\n\n\n\n\n\n\n\n\n\n\n\n\n\n\n\n\n\n\n\n\n\n\n\n\n\n\n\n\n\nFaça a sua inscrição aqui \nContamos com a presença de vocês!\nObs.: Aberto para membros da SPBsb\, membros do Instituto\, Federadas e público externo.
URL:https://febrapsi.org/evento/mutualidade-experimentacao-e-prudencia/
LOCATION:São Paulo
CATEGORIES:Geral
ATTACH;FMTTYPE=image/jpeg:https://febrapsi.org/storage/2023/11/DC-ELIANA-S.jpg
ORGANIZER;CN="SPBsb":MAILTO:spbsb@spbsb.org.br
END:VEVENT
BEGIN:VEVENT
DTSTART;TZID=America/Sao_Paulo:20231124T180000
DTEND;TZID=America/Sao_Paulo:20231124T200000
DTSTAMP:20260424T025811
CREATED:20231109T231017Z
LAST-MODIFIED:20231109T231017Z
UID:48115-1700848800-1700856000@febrapsi.org
SUMMARY:Reflexões Psicanalíticas Sobre Obra Literária
DESCRIPTION:Reflexões Psicanalíticas Sobre Obra Literária \n24 de novembro de 2023 \n18h
URL:https://febrapsi.org/evento/reflexoes-psicanaliticas-sobre-obra-literaria-2/
LOCATION:Evento Online
CATEGORIES:Geral
ATTACH;FMTTYPE=image/jpeg:https://febrapsi.org/storage/2023/11/24-11-2023.jpeg
ORGANIZER;CN="SPRJ":MAILTO:sprj.rio1@sprj.org.br
END:VEVENT
BEGIN:VEVENT
DTSTART;TZID=America/Sao_Paulo:20231125T084500
DTEND;TZID=America/Sao_Paulo:20231125T120000
DTSTAMP:20260424T025811
CREATED:20231121T182200Z
LAST-MODIFIED:20231121T182200Z
UID:48476-1700901900-1700913600@febrapsi.org
SUMMARY:II Ciclo de debate sobre a Ação Afirmativa em um diálogo com a Psicanálise - Tema: Povos Originários.
DESCRIPTION:Dia  25 de novembro de 2023 ás 8:45h \nInvestimento: \nPúblico Externo: R$ 50\,00 para profissionais. \nSem ônus: Membros\, Candidatos da SPRPE\, Estudantes de Graduação e profissionais com deficiência\, negros\, indígenas\, refugiados em concordância com as Ações Afirmativas. \nINFORMAÇÕES E INSCRIÇÕES\nFones: 9 8609-0198 / 9 8609-0196 (WhatsApp)\nE-mail: sprsecretaria@uol.com.br\nInstagram: @sprpe1 \nPLATAFORMA ZOOM
URL:https://febrapsi.org/evento/ii-ciclo-de-debate-sobre-a-acao-afirmativa-em-um-dialogo-com-a-psicanalise-tema-povos-originarios/
LOCATION:São Paulo
CATEGORIES:Geral
ATTACH;FMTTYPE=image/jpeg:https://febrapsi.org/storage/2023/11/II-Ciclo.jpeg
ORGANIZER;CN="SPRPE":MAILTO:contato@spr-pe.org.br
END:VEVENT
BEGIN:VEVENT
DTSTART;TZID=America/Sao_Paulo:20231125T093000
DTEND;TZID=America/Sao_Paulo:20231125T113000
DTSTAMP:20260424T025811
CREATED:20231028T030411Z
LAST-MODIFIED:20231028T030411Z
UID:48043-1700904600-1700911800@febrapsi.org
SUMMARY:Atividade Semestral Diretoria da Área da Infância e Adolescência “O processo de subjetivação desde os vínculos primitivos”
DESCRIPTION:Convidamos para a Atividade Semestral Diretoria da Área da Infância e Adolescência “O processo de subjetivação desde os vínculos primitivos”\, no dia 25 de novembro (sábado)\, às 9h30\, na Plataforma Zoom/SPPA. \nConvidado:\nAlberto Konicheckis\nPsicanalista\, Membro da SPP (Sociedade Psicanalítica de Paris) \nCoordenação:\nKatia Wagner Radke (Diretora da área da Infância e Adolescência da SPPA) \nInscrições Antecipadas:\nhttps://forms.gle/SyCKsBF48niXJi2Q7 \nValor:\nProfissionais: R$ 150\,00\nEstudantes: R$75\,00\nEstrangeiros: equivalente a 30 dólares
URL:https://febrapsi.org/evento/atividade-semestral-diretoria-da-area-da-infancia-e-adolescencia-o-processo-de-subjetivacao-desde-os-vinculos-primitivos/
LOCATION:Online – Plataforma Zoom
CATEGORIES:Geral
ATTACH;FMTTYPE=image/jpeg:https://febrapsi.org/storage/2023/10/2023-11-25-DIA-save-the-date.jpg
ORGANIZER;CN="SPPA":MAILTO:sppa@sppa.org.br
END:VEVENT
BEGIN:VEVENT
DTSTART;TZID=America/Sao_Paulo:20231125T093000
DTEND;TZID=America/Sao_Paulo:20231125T120000
DTSTAMP:20260424T025811
CREATED:20231109T231017Z
LAST-MODIFIED:20231109T231017Z
UID:48106-1700904600-1700913600@febrapsi.org
SUMMARY:Lançamento de Artigos e Livros dos Membros da SPRJ
DESCRIPTION:Lançamento de Artigos e Livros dos Membros da SPRJ \n25 de novembro 2023 \n9:45hs
URL:https://febrapsi.org/evento/lancamento-de-artigos-e-livros-dos-membros-da-sprj/
LOCATION:Evento híbrido
CATEGORIES:Geral
ATTACH;FMTTYPE=image/jpeg:https://febrapsi.org/storage/2023/11/25-11-2023.jpeg
END:VEVENT
BEGIN:VEVENT
DTSTART;TZID=America/Sao_Paulo:20231129T083000
DTEND;TZID=America/Sao_Paulo:20231129T220000
DTSTAMP:20260424T025811
CREATED:20231121T182200Z
LAST-MODIFIED:20231121T182200Z
UID:48460-1701246600-1701295200@febrapsi.org
SUMMARY:Clínica vincular multilíngue
DESCRIPTION:Prezados colegas\,\n \nNo dia 29 de novembro\, quarta-feira\, às 20h30\, o Centro de Atendimento e Pesquisa em Psicanálise – Cenapp terá o prazer de ter como convidada Lisette Weissmann\, Pós-doutoranda pela USP\, Doutora e Mestre em Psicologia. Psicanalista de casais\, famílias e individual. Membro do Departamento de Psicanálise do Instituto Sedes Sapientae e de ABPCF. Professora do CEP e professora convidada na USP\, para a 4ª Roda de Conversa\, com o tema: Clínica vincular multilíngue.\n \nEsperamos encontrá-los lá! \n\n \nFaça a sua inscrição aqui\n \nObs.: Aberto para membros da SPBsb\, membros do Instituto\, Federadas e público externo.\n          
URL:https://febrapsi.org/evento/clinica-vincular-multilingue/
LOCATION:São Paulo
CATEGORIES:Geral
ATTACH;FMTTYPE=image/jpeg:https://febrapsi.org/storage/2023/11/2023-Lisette-Weissmann.jpg
END:VEVENT
END:VCALENDAR