BEGIN:VCALENDAR
VERSION:2.0
PRODID:-//FEBRAPSI - ECPv6.15.20//NONSGML v1.0//EN
CALSCALE:GREGORIAN
METHOD:PUBLISH
X-ORIGINAL-URL:https://febrapsi.org
X-WR-CALDESC:Eventos para FEBRAPSI
REFRESH-INTERVAL;VALUE=DURATION:PT1H
X-Robots-Tag:noindex
X-PUBLISHED-TTL:PT1H
BEGIN:VTIMEZONE
TZID:America/Sao_Paulo
BEGIN:STANDARD
TZOFFSETFROM:-0300
TZOFFSETTO:-0300
TZNAME:-03
DTSTART:20220101T000000
END:STANDARD
END:VTIMEZONE
BEGIN:VEVENT
DTSTART;TZID=America/Sao_Paulo:20230502T200000
DTEND;TZID=America/Sao_Paulo:20230502T213000
DTSTAMP:20260424T131633
CREATED:20230413T191626Z
LAST-MODIFIED:20230413T191626Z
UID:45610-1683057600-1683063000@febrapsi.org
SUMMARY:Encontro Preparatório para XXV Simpósio da Infância e Adolescência da SPPA - "Objeto sobrevivente x Objeto não-sobrevivente"
DESCRIPTION:Convidamos para o Encontro Preparatório para XXV Simpósio da Infância e Adolescência da SPPA “Objeto sobrevivente: Vínculos e Amadurecimento”\, dia 02 de maio\, às 20h\, no Anfiteatro da SPPA e na Plataforma Zoom/SPPA. \nTítulo:\nObjeto sobrevivente x Objeto não-sobrevivente\nApresentadores:\nDenise Steibel (SPPA)\nVictor Mardini (SPPA)\nCoordenação:\nKátia Wagner Radke (Diretora da área da Infância e Adolescência da SPPA) \nEncontro híbrido\, aberto e gratuito \nInscrições Antecipadas:\nhttps://forms.gle/jZsCgRsPeeYmZRVD6 \nAtenciosamente\,\nMaria Cristina Garcia Vasconcellos – Presidente da SPPA\nKátia Wagner Radke – Diretora da área da Infância e Adolescência da SPPA
URL:https://febrapsi.org/evento/encontro-preparatorio-para-xxv-simposio-da-infancia-e-adolescencia-da-sppa-objeto-sobrevivente-x-objeto-nao-sobrevivente/
LOCATION:Evento híbrido
CATEGORIES:Geral
ATTACH;FMTTYPE=image/jpeg:https://febrapsi.org/storage/2023/04/2023-05-02-Encontro-Preparatorio-DIA.jpg
END:VEVENT
BEGIN:VEVENT
DTSTART;TZID=America/Sao_Paulo:20230503T203000
DTEND;TZID=America/Sao_Paulo:20230503T220000
DTSTAMP:20260424T131633
CREATED:20230411T130708Z
LAST-MODIFIED:20230411T130708Z
UID:45532-1683145800-1683151200@febrapsi.org
SUMMARY:DE MÁRIO E O MÁGICO AO DR.FAUSTO: O FASCISMO NA OBRA DE THOMAS MANN
DESCRIPTION:Thomas Mann em abril de 1947: “No fundo\, a novela [Mário e o Mágico] foi\, sim\, uma primeira ação de combate contra algo que já na época dominava toda a atmosfera europeia e que não foi eliminado totalmente pela guerra”.\nAbertura: \nCARMEN C. MION \nPresidente da SBPSP \nCoordenação: \nANA MARIA STUCCHI VANNUCCHI \nDiretora Científica da SBPSP \nPalestrante: \nMARCUS MAZZARI\nÉ professor titular de Literatura Comparada na Universidade de São Paulo. Traduziu para o português textos de Gottfried Keller\, Heinrich Heine\, Karl Marx\, Walter Benjamin\, Jeremias Gotthelf e outros. Entre suas recentes publicações está a monografia A dupla noite das tílias. História e natureza no Fausto de Goethe (São Paulo: Ed. 34\, 2019). Elaborou notas\, posfácios e outros textos para as edições bilíngues da tragédia Fausto\, de Goethe\, publicadas pela Editora 34 em tradução de Jenny K. Segall: Primeira Parte\, 7ª ed. 2020; Segunda Parte\, 6ª ed. 2020. Coordena a Coleção Thomas Mann\, editada pela Companhia das Letras. Contemplado com a “Goldene Goethe-Medaille” [Medalha de Ouro Goethe 2023] pela Goethe-Gesellschaft de Weimar. \nComentários: \nELSA VERA KUNZE POST SUSEMIHL\nMembro efetivo e analista didata da SBPSP. Coeditora da Revista Brasileira de Psicanálise. \nInvestimento:\nMembros SBPSP\, Febrapsi\, IPA e Fepal: Sem ônus\nProfissionais: R$ 120\,00 \nEstudantes de Graduação\, Alunos dos cursos da DAC\nProfissionais da rede pública: R$ 60\,00\n5 cotas para profissionais negros\, indígenas e refugiados. \nInscrições pelo site: www.sbpsp.org.br\ninformações: adele.lacotis@sbpsp.org.br \nEVENTO HÍBRIDO: presencial com transmissão on-line pela plataforma zoom
URL:https://febrapsi.org/evento/de-mario-e-o-magico-ao-dr-fausto-o-fascismo-na-obra-de-thomas-mann/
LOCATION:Sede SBPSP\, Av. Dr. Cardoso de Melo\, 1450\, 9ª andar\, São Paulo\, São Paulo\, 04548005\, Brasil
CATEGORIES:Geral
ATTACH;FMTTYPE=image/png:https://febrapsi.org/storage/2023/04/PSICORREIO_FACISMO_THOMASMANN.png
ORGANIZER;CN="SBPSP":MAILTO:contato@sbpsp.org.br
END:VEVENT
BEGIN:VEVENT
DTSTART;TZID=America/Sao_Paulo:20230506T100000
DTEND;TZID=America/Sao_Paulo:20230506T120000
DTSTAMP:20260424T131633
CREATED:20230428T201711Z
LAST-MODIFIED:20230428T201711Z
UID:45853-1683367200-1683374400@febrapsi.org
SUMMARY:"Precisamos falar sobre violência na infância e adolescência"
DESCRIPTION:Convidamos para a atividade: “Precisamos falar sobre violência na infância e adolescência”\, no dia 06 de maio (sábado)\, às 10h\, no Anfiteatro da SPPA. \nConvidadas:\nAlice Becker Lewkowicz (Coordenadora da parceria SMED/SPPA)\nKatia Wagner Radke (Diretora da área da Infância e Adolescência da SPPA) \nCoordenação:\nMaria Cristina Garcia Vasconcellos (Presidente SPPA)\n\nVenha participar!\nAtividade aberta\, presencial e gratuita\nLivre de Inscrições. \nENDEREÇO: Rua General Andrade Neves\, 14/402 \nAtenciosamente\,\nDiretoria SPPA
URL:https://febrapsi.org/evento/precisamos-falar-sobre-violencia-na-infancia-e-adolescencia/
LOCATION:SPPA\, Rua General Andrade Neves 14/0401\, Porto Alegre\, RS\, 90010210\, Brasil
CATEGORIES:Geral
ATTACH;FMTTYPE=image/jpeg:https://febrapsi.org/storage/2023/04/2023-05-06-Violencia.jpg
ORGANIZER;CN="SPPA":MAILTO:sppa@sppa.org.br
END:VEVENT
BEGIN:VEVENT
DTSTART;TZID=America/Sao_Paulo:20230506T100000
DTEND;TZID=America/Sao_Paulo:20230506T130000
DTSTAMP:20260424T131633
CREATED:20230426T123612Z
LAST-MODIFIED:20230426T123612Z
UID:45749-1683367200-1683378000@febrapsi.org
SUMMARY:OS DESAFIOS DA EXPERTISE  PSICANALÍTICA E SEUS  CONTRAPONTOS - IRONIA?  ENTRE WINNICOTT E ADAM PHILLIPS
DESCRIPTION:PSICANÁLISE CONTEMPORÂNEA COMO ARTE DE PENSAR ENTRE-DOIS \nOS DESAFIOS DA EXPERTISE PSICANALÍTICA E SEUS CONTRAPONTOS – IRONIA? ENTRE WINNICOTT E ADAM PHILLIPS \nPalestrante: \nRahel Boraks e Marlene Rozenberg (SBPSP)\nApresentação / Coordenação: \nTania Zalcberg (SBPSP) \n  \nInvestimento:\nMembros SBPSP\, Febrapsi\, IPA\, Fepal e Estudantes de graduação: Sem ônus\nProfissionais: R$ 60\,00 \n5 Cotas para profissionais negros\, indígenas e refugiados.\nInscrições pelo site: www.sbpsp.org.br\nInformações: fabiana@sbpsp.org.br
URL:https://febrapsi.org/evento/os-desafios-da-expertise-psicanalitica-e-seus-contrapontos-ironia-entre-winnicott-e-adam-phillips/
LOCATION:Online – Plataforma Zoom
CATEGORIES:Geral
ATTACH;FMTTYPE=image/png:https://febrapsi.org/storage/2023/04/DCC_MAIO_23-scaled.png
ORGANIZER;CN="SBPSP":MAILTO:contato@sbpsp.org.br
END:VEVENT
BEGIN:VEVENT
DTSTART;TZID=America/Sao_Paulo:20230508T200000
DTEND;TZID=America/Sao_Paulo:20230508T220000
DTSTAMP:20260424T131633
CREATED:20230421T151154Z
LAST-MODIFIED:20230421T151154Z
UID:45621-1683576000-1683583200@febrapsi.org
SUMMARY:CURSO O PENSAMENTO DE FABIO HERRMANN – PARTE I: AULA 7 | 8 DE MAIO DE 2023
DESCRIPTION:AULA 7\nSANDRA REGINA MOREIRA DE SOUZA FREITAS\nMembro efetivo SBPSP\nCLÍNICA EXTENSA\nOrganização do Curso:\nLeda Herrmann\,\nMaria da Penha Zabani Lanzoni e\nMarilsa Taffarel \nA SBPSP oferece 10 vagas referentes ao programa de cotas para profissionais negros\, indígenas e refugiados para este curso. \nInscrições: www.sbpsp.org.br\nInformações: adele.lacotis@sbpsp.org.br \nInvestimento:\nProfissionais: R$ 100\,00\nMembros SBPSP: R$ 70\,00\nEstudantes de graduação\, Profissionais da rede pública\, Membros filiados\, Alunos dos cursos da DAC: R$ 50\,00
URL:https://febrapsi.org/evento/curso-o-pensamento-de-fabio-herrmann-parte-i-aula-7-8-de-maio-de-2023/
LOCATION:Online – Plataforma Zoom
CATEGORIES:Geral
ATTACH;FMTTYPE=image/png:https://febrapsi.org/storage/2023/04/CARTAZ_FABIO_HERRMANN_MAIO23-scaled.png
ORGANIZER;CN="SBPSP":MAILTO:contato@sbpsp.org.br
END:VEVENT
BEGIN:VEVENT
DTSTART;TZID=America/Sao_Paulo:20230509T193000
DTEND;TZID=America/Sao_Paulo:20230509T210000
DTSTAMP:20260424T131633
CREATED:20230413T191700Z
LAST-MODIFIED:20230413T191700Z
UID:45607-1683660600-1683666000@febrapsi.org
SUMMARY:Café Literário da Psicanalítica - Olhos d’água\, de Conceição Evaristo
DESCRIPTION:Olhos d’água\, de Conceição Evaristo\, será o tema do Café Literário da Psicanalítica do dia 09 de maio (terça-feira)\, às 19h30\, na plataforma Zoom/SPPA.  \nA conversa será entre Roberta Flores (Professora\, Escritora e Doutoranda UFRGS) e Josênia Heck Munhoz (Psicanalista da SPPA)\, com a coordenação da Psicanalista Ana Rita Taschetto. \nInscrições antecipadas:\nhttps://us06web.zoom.us/webinar/register/WN_JL9vBxDKRyiWB-RgX03C7w \nAtividade aberta e gratuita. \nAtenciosamente\,\nMaria Cristina Garcia Vasconcellos – Presidente\nEleonora Abbud Spinelli – Diretora de Divulgação e Ações junto à Comunidade \nMaria Regina Limeira Ortiz – Coordenadora do Café Literário 
URL:https://febrapsi.org/evento/cafe-literario-da-psicanalitica-olhos-dagua-de-conceicao-evaristo/
LOCATION:Evento Online
CATEGORIES:Geral
ATTACH;FMTTYPE=image/jpeg:https://febrapsi.org/storage/2023/04/2023-05-09-Cafe-Literario.jpg
END:VEVENT
BEGIN:VEVENT
DTSTART;TZID=America/Sao_Paulo:20230513T090000
DTEND;TZID=America/Sao_Paulo:20230513T120000
DTSTAMP:20260424T131633
CREATED:20230421T151154Z
LAST-MODIFIED:20230421T151154Z
UID:45666-1683968400-1683979200@febrapsi.org
SUMMARY:CURSO DIÁLOGOS PSICANALÍTICOS II: AULA 3 | DONALD WINNICOTT
DESCRIPTION:A evolução do pensamento e da escuta na prática psicanalítica\nAULA 3 | 13 DE MAIO DE 2023 \nTEMA: DONALD WINNICOTT \nCoordenação: Ana Patricia Ribeiro (SBPSP) e Rose Bulgarão (SBPSP) \nOrganização: Mariangela Canellas Silva (SBPSP) e Silvana Bressan (SBPSP) \nInvestimento:\nCurso completo: R$ 900\,00\nAula individual: R$ 170\,00 \ninscreva-se: www.sbpsp.org.br | fabiana@sbpsp.org.br
URL:https://febrapsi.org/evento/curso-dialogos-psicanaliticos-ii-aula-3-donald-winnicott/
LOCATION:Online – Plataforma Zoom
CATEGORIES:Geral
ATTACH;FMTTYPE=image/png:https://febrapsi.org/storage/2023/04/CARTAZ_DIALOGOS_PSICANALITICOS_MAIO23-scaled.png
ORGANIZER;CN="SBPSP":MAILTO:contato@sbpsp.org.br
END:VEVENT
BEGIN:VEVENT
DTSTART;TZID=America/Sao_Paulo:20230518T080000
DTEND;TZID=America/Sao_Paulo:20230520T140000
DTSTAMP:20260424T131633
CREATED:20230120T211637Z
LAST-MODIFIED:20230204T135007Z
UID:44292-1684396800-1684591200@febrapsi.org
SUMMARY:VI Bienal de Psicanálise e Cultura - Humanidades Possíveis
DESCRIPTION:A VI Bienal de Psicanálise e Cultura acontecerá nos dias 18\, 19 e 20 de maio de 2023\, no Centro de Convenções de Ribeirão Preto\, em formato híbrido e terá como tema “Humanidades Possíveis”\, escolhido para dar continuidade aos importantes questionamentos e intercâmbios entre a Psicanálise e demais saberes e artes. \nA abertura do evento contará com a apresentação do Concerto com Ligiana Costa\, renomada cantora e musicista\, formada em canto lírico\, com especialização em canto barroco. \nObs: Para os inscritos no formato presencial será oferecido um ingresso por pessoa e para os inscritos no formato on-line\, será disponibilizado um link para assistir a abertura ao vivo. \nVagas gratuitas para negros (pretos e pardos) e indígenas\, sendo 20 vagas para o formato online e 15 vagas para o formato presencial. \nConheça o que está sendo programado acessando o arquivo do Programa: clique aqui \nInvestimento: \nMODO PRESENCIAL: \n\n\n\n\nInscrições \n\n\nDe 08/12/22 a 12/01/23 \n\n\nDe 13/01/23  a 23/03/23 \n\n\nDe 24/03/23 a 04/05/23 \n\n\nA partir de 04/05/23 \n\n\n\n\nEstudantes \n\n\nR$ 400\,00 \n\n\nR$ 440\,00 \n\n\nR$ 484\,00 \n\n\nR$ 532\,00 \n\n\n\n\nProfessores de escolas públicas * \n\n\nR$ 400\,00 \n\n\nR$ 440\,00 \n\n\nR$ 484\,00 \n\n\nR$ 532\,00 \n\n\n\n\nMembros Filiados \n\n\nR$ 561\,00 \n\n\nR$ 616\,00 \n\n\nR$ 677\,00 \n\n\nR$ 744\,00 \n\n\n\n\nMembros Febrapsi \n\n\nR$ 621\,00 \n\n\nR$ 682\,00 \n\n\nR$ 750\,00 \n\n\nR$ 825\,00 \n\n\n\n\nProfissionais \n\n\nR$ 680\,00 \n\n\nR$ 748\,00 \n\n\nR$ 822\,00 \n\n\nR$ 904\,00 \n\n\n\n\nNegros (pretos e pardos) e indígenas \n\n\nIsentos \n\n\n\n\nMODO ONLINE: \n\n\n\n\nINSCRIÇÕES \n\n\nModo online: de 17/11/22 a 23/03/23 \n\n\nModo online a partir de 24/03/23 até o evento \n\n\n\n\nEstudantes \n\n\nR$ 150\,00 \n\n\nR$ 150\,00 \n\n\n\n\nProfessores de escolas públicas * \n\n\n  \nR$ 150\,00 \n\n\n  \nR$ 150\,00 \n\n\n\n\nMembros Filiados \n\n\nR$ 477\,00 \n\n\nR$ 523\,00 \n\n\n\n\nMembros Febrapsi \n\n\n R$ 528\,00 \n\n\n R$ 579\,00 \n\n\n\n\nProfissionais \n\n\nR$ 578\,00 \n\n\nR$ 635\,00 \n\n\n\n\nNegros (pretos e pardos) e indígenas \n\n\nIsentos \n\n\n\n\n * condição exclusiva para professores de escola pública de educação infantil\, ensino fundamental e médio \nEste valor poderá ser parcelado no cartão de crédito\, seguindo as regras do sistema PagSeguro. \nOBS.: Atente-se se a sua opção de participação será presencial ou online. \nContamos com a presença de todos vocês para abrilhantar a nossa VI Bienal\, que está repleta de experiências Culturais e Científicas muito especiais\, com o objetivo de proporcionar a todos\, momentos inesquecíveis! Até lá. \nComissão Organizadora da VI Bienal \n Política de Devolução de Valores (aplicada à todas as categorias e formas de pagamento):\n– A desistência deverá ser solicitada exclusivamente pelo e-mail sbprp.financeiro@gmail.com\, informando o nome completo da pessoa inscrita\, CPF e dados bancários para depósito da devolução do valor da inscrição; \n– A devolução dar-se-á em até 30 dias após o término do evento\, via depósito na conta informada no e-mail de solicitação de cancelamento; \n– Desistências informadas até 20 dias antes do evento terão direito a 50% do valor pago; \n– Desistências informadas até 7 dias antes do evento terão direito a 30% do valor pago; \n– Desistências informadas após 7 dias antes do evento não terão direito a devolução de valores \nVagas limitadas! \nMaiores informações e inscrições: https://sbprp.org.br/proximos-eventos/
URL:https://febrapsi.org/evento/vi-bienal-de-psicanalise-e-cultura-humanidades-possiveis/
LOCATION:Evento híbrido
CATEGORIES:Geral
ATTACH;FMTTYPE=image/png:https://febrapsi.org/storage/2023/01/319001365_5545960532192710_6298252506784163474_n.png
ORGANIZER;CN="SBPRP":MAILTO:sbprp.secretaria@gmail.com
END:VEVENT
BEGIN:VEVENT
DTSTART;TZID=America/Sao_Paulo:20230518T203000
DTEND;TZID=America/Sao_Paulo:20230518T220000
DTSTAMP:20260424T131633
CREATED:20230411T130727Z
LAST-MODIFIED:20230411T130727Z
UID:45522-1684441800-1684447200@febrapsi.org
SUMMARY:Quinta Científica "Mudou o paradigma: o que muda na psicanálise?”
DESCRIPTION:Convidamos para a Quinta Científica “Mudou o paradigma: o que muda na psicanálise?”\, no dia 18 de maio (quinta-feira)\, às 20h30\, no Anfiteatro da SPPA e na Plataforma Zoom/SPPA.\nAtividade híbrida. \nApresentação:\nLuis Ernesto Cabral Pellanda (Psicanalista SPPA) \nCoordenação:\nCátia Olivier Mello (Diretora Científica da SPPA) \nAtividade aberta e gratuita \nInscrições Antecipadas:\nhttps://forms.gle/2Jfa9HGGrFofXu4Z8\n\nAtenciosamente\,\nMaria Cristina Garcia Vasconcellos – Presidente da SPPA\nCátia Olivier Mello – Diretora Científica da SPPA
URL:https://febrapsi.org/evento/quinta-cientifica-mudou-o-paradigma-o-que-muda-na-psicanalise/
LOCATION:Evento híbrido
CATEGORIES:Geral
ATTACH;FMTTYPE=image/jpeg:https://febrapsi.org/storage/2023/04/2023-05-18-Quinta-Cientifica.jpeg
ORGANIZER;CN="SPPA":MAILTO:sppa@sppa.org.br
END:VEVENT
BEGIN:VEVENT
DTSTART;TZID=America/Sao_Paulo:20230520T093000
DTEND;TZID=America/Sao_Paulo:20230520T120000
DTSTAMP:20260424T131633
CREATED:20230508T140315Z
LAST-MODIFIED:20230508T140315Z
UID:45905-1684575000-1684584000@febrapsi.org
SUMMARY:TUDO É RIO. O HUMANO NAS CORRENTEZAS DA VIDA
DESCRIPTION:O humano nas correntezas da vida.\nAbertura: \nCARMEN C. MION\nPresidente da SBPSP\nGLAUCIA FERREIRA FURTADO \nDiretora Regional da SBPSP \nPalestrantes: \nCARLA MADEIRA \nEscritora e jornalista\nSILVANA BRESSAN \nMembro associado SBPSP\nMARINA RAMALHO MIRANDA \nMembro efetivo da SBPSP \nCoordenadora: \nMARIANGELA C. CANELLAS SILVA \nMembro associado SBPSP \nInscrições: www.sbpsp.org.br | fabiana@sbpsp.org.br \nInvestimento:\nMembros SBPSP\, FEBRAPSI\, IPA\, FEPAL: Sem ônus\nPúblico externo: R$ 90\,00\nCotas para Negros\, Indígenas e Refugiados sem ônus.(ESGOTADAS) \nLocal: Auditório SBPSP\nAv. Doutor Cardoso de Melo\, 1450 / 1º andar \nVila Olímpia – São Paulo/SP
URL:https://febrapsi.org/evento/tudo-e-rio-o-humano-nas-correntezas-da-vida/
LOCATION:Evento híbrido
CATEGORIES:Geral
ATTACH;FMTTYPE=image/png:https://febrapsi.org/storage/2023/05/CARTAZ_TUDO_RIO_SCOTA.png
ORGANIZER;CN="SBPSP":MAILTO:contato@sbpsp.org.br
END:VEVENT
BEGIN:VEVENT
DTSTART;TZID=America/Sao_Paulo:20230520T100000
DTEND;TZID=America/Sao_Paulo:20230520T123000
DTSTAMP:20260424T131633
CREATED:20230519T220802Z
LAST-MODIFIED:20230519T220802Z
UID:46011-1684576800-1684585800@febrapsi.org
SUMMARY:Masculinidades Tóxicas
DESCRIPTION:Maculinidades Tóxicas  \nSábado\, 20 de maio de 2023\, às 10hs \nEvento: Gratuito \nPelo zoom
URL:https://febrapsi.org/evento/masculinidades-toxicas/
LOCATION:Online – Plataforma Zoom
CATEGORIES:Geral
ATTACH;FMTTYPE=image/jpeg:https://febrapsi.org/storage/2023/05/Evento-20-05-2023.jpeg
ORGANIZER;CN="SPRJ":MAILTO:sprj.rio1@sprj.org.br
END:VEVENT
BEGIN:VEVENT
DTSTART;TZID=America/Sao_Paulo:20230526T133000
DTEND;TZID=America/Sao_Paulo:20230526T150000
DTSTAMP:20260424T131633
CREATED:20230428T201711Z
LAST-MODIFIED:20230428T201711Z
UID:45857-1685107800-1685113200@febrapsi.org
SUMMARY:Experiências em grupos: chave para compreender Bion. Conversando com Giuseppe Civitarese
DESCRIPTION:Convidamos para a atividade Experiências em grupos: chave para compreender Bion. Conversando com Giuseppe Civitarese\, no dia 26 de maio\, das 13h30min às 15h\, na Plataforma Zoom/SPPA. \nConvidado:\nGiuseppe Civitarese\nPsicanalista didata da Sociedade Psicanalítica Italiana. Dentre os seus principais temas de interesse\, estão os modelos pós-bionianos de mente e o campo analítico. Agraciado com o prêmio Sigourney 2022 pela sua relevante contribuição ao avanço do conhecimento psicanalítico. \nCoordenação:\nCátia Olivier Mello (Diretora Científica SPPA) \nAtividade online e aberta\nInscrições Antecipadas:\nhttps://forms.gle/gVAQgvfKm3qEqine9 \nValores:\nProfissionais: 180\,00\nEstudantes: 90\,00 \nMembros SPPA: Isentos \nAtenciosamente\,\nMaria Cristina Garcia Vasconcellos – Presidente da SPPA\nCátia Olivier Mello – Diretora Científica da SPPA
URL:https://febrapsi.org/evento/experiencias-em-grupos-chave-para-compreender-bion-conversando-com-giuseppe-civitarese/
LOCATION:Online – Plataforma Zoom
CATEGORIES:Geral
ATTACH;FMTTYPE=image/jpeg:https://febrapsi.org/storage/2023/04/2023-05-26-1-Civitarese.jpg
ORGANIZER;CN="SPPA":MAILTO:sppa@sppa.org.br
END:VEVENT
BEGIN:VEVENT
DTSTART;TZID=America/Sao_Paulo:20230526T163000
DTEND;TZID=America/Sao_Paulo:20230526T180000
DTSTAMP:20260424T131633
CREATED:20230517T184806Z
LAST-MODIFIED:20230519T220802Z
UID:46024-1685118600-1685124000@febrapsi.org
SUMMARY:Curso: O trabalho do psicanalista fora do consultório (4 encontros)
DESCRIPTION:Curso: O trabalho do psicanalista fora do consultório (encontros) \nOn-line
URL:https://febrapsi.org/evento/curso-o-trabalho-do-psicanalista-fora-do-consultorio-4-encontros/
LOCATION:Online – Plataforma Zoom
CATEGORIES:Geral
ATTACH;FMTTYPE=image/jpeg:https://febrapsi.org/storage/2023/05/Curso-Jorge-Broide.-5-2023jpeg.jpeg
ORGANIZER;CN="SPRJ":MAILTO:sprj.rio1@sprj.org.br
END:VEVENT
BEGIN:VEVENT
DTSTART;TZID=America/Sao_Paulo:20230526T170000
DTEND;TZID=America/Sao_Paulo:20230527T180000
DTSTAMP:20260424T131633
CREATED:20230413T191700Z
LAST-MODIFIED:20230413T191700Z
UID:45598-1685120400-1685210400@febrapsi.org
SUMMARY:XV JORNADA PSICANÁLISE-BION
DESCRIPTION:ENTRE MEMÓRIAS DO PASSADO E MEMÓRIAS DO FUTURO\n\nEvento Híbrido (Presencial com transmissão on-line pela plataforma zoom)\nAULA INTRODUTÓRIA AO PENSAMENTO DE BION\n26/05 | 17h – 18h45 | Auditório (Híbrido)\nCarmen C. Mion (Presidente da SBPSP)\nCoordenação: Celso Antônio Vieira de Camargo (SBPSP)\nInscrição feita separadamente da jornada pelo site da SBPSP.\nInvestimento: R$ 40\,00 \nPROGRAMA\n26 de maio | sexta-feira\n20h – 22h | ABERTURA | Auditório (Híbrido)\nCarmen C. Mion (Presidente da SBPSP)\nEvelise de Souza Marra (SBPSP)\nCoordenadora da Jornada Psicanálise: Bion\nCONFERÊNCIA com Deocleciano Bendocchi Alves (SBPSP) \n27 de maio | sábado\n9h -11h REUNIÃO CLÍNICA | Auditório (Híbrido)\nApresentadora:\nGisèle de Mattos Brito (SBPSP / SBPMG)\nDebatedores:\nEdival Antonio Lessnau Perrini (SBPSP / GPC)\nMarta Prada e Silva (SBPSP / SBPCamp)\nMiguel Marques (SBPSP / SBPRP)\nCoordenador: Julio Frochtengarten (SBPSP) \n11h30 – 13h | PEQUENOS GRUPOS DE LIVRE ESCOLHA\nGRUPOS PRESENCIAIS:\nCoordenadores:\nAlicia Beatriz Dorado de Lisondo (SBPSP / SBPCamp)\nDarcy Portolese (SBPSP)\nEvelise de Souza Marra (SBPSP)\nMaria Bernadete Amêndola Contart de Assis (SBPSP / SBPRP) \nGRUPOS ON-LINE:\nCoordenadores:\nRenato Trachtenberg (SBPdePA)\nLuiz Tenório de Oliveira Lima (SBPSP) \n13h – 14h30 | Almoço \n14h30 – 16h30 | PEQUENOS GRUPOS DE LIVRE ESCOLHA\nEM APRESENTAÇÕES TEÓRICAS SOBRE O TEMA:\nEntre memórias do passado e memórias do futuro \nGRUPOS PRESENCIAIS:\nArnaldo Chuster (SPRJ)\nCoordenadora: Thais Helena Thomé Marques (SBPRP) \nLuiz Carlos Uchôa Junqueira Filho (SBPSP)\nCoordenador: Luiz Fernando Nóbrega (SBPSP) \nPaulo Cesar Sandler (SBPSP)\nCoordenadora: Ana Maria Stucchi Vannucchi (SBPSP) \nPaulo de Morais Mendonça Ribeiro (SBPSP / SBPRP)\nCoordenador: José Neves (SBPSP) \nGRUPOS ON-LINE:\nJoão Carlos Braga (SBPSP / GPC)\nCoordenador: Adriana Maria Nagali de Oliveira (SBPSP / SBPCAM) \nCelso Antônio Vieira de Camargo (SBPSP)\nCoordenador: Cicero José Campos Brasiliano (SBPSP) \nClaudio Castelo Filho (SBPSP)\nCoordenadora: Anne Lise Silveira Sandoval Scappaticci (SBPSP) \n16h45 -18h | Encerramento no auditório (Híbrido)\nCONVERSA FINAL COM OS PARTICIPANTES\nCoordenação: Evelise de Souza Marra (SBPSP)\nAna Maria Stucchi Vannucchi (Diretora Científica da SBPSP) \nComissão Organizadora:\nCoordenadora: Evelise de Souza Marra (SBPSP)\nAna Maria Stucchi Vannucchi (SBPSP)\nCecil José Rezze (SBPSP)\nCelso Antonio Vieira de Camargo (SBPSP)\nJoão Carlos Braga (SBPSP)\nJulio Frochtengarten (SBPSP) \nINSCRIÇÕES: WWW.SBPSP.ORG.BR \nINFORMAÇÕES: adele.lacotis@sbpsp.org.br \nLOCAL: AUDITÓRIO SBPSP | Av. Dr. Cardoso de Melo\, 1450\, 1º andar\, Vila Olímpia\, São Paulo/SP \nINVESTIMENTO: \n\nAULA INTRODUTÓRIA: R$ 40\,00\nJORNADA:\nProfissionais: R$ 230\,00\nMembros SBPSP e Febrapsi: R$ 140\,00\nMembros filiados\, candidatos Febrapsi e alunos DAC: R$ 100\,00\nCotas para profissionais negros\, indígenas e refugiados esgotada 12/4/2023!\nALMOÇO POR ADESÃO NA SBPSP: R$80\,00
URL:https://febrapsi.org/evento/xv-jornada-psicanalise-bion/
LOCATION:Sede SBPSP\, Av. Dr. Cardoso de Melo\, 1450\, 9ª andar\, São Paulo\, São Paulo\, 04548005\, Brasil
CATEGORIES:Geral
ATTACH;FMTTYPE=image/png:https://febrapsi.org/storage/2023/04/JORNADA-BION-2023_cota-esgotada.png
ORGANIZER;CN="SBPSP":MAILTO:contato@sbpsp.org.br
END:VEVENT
BEGIN:VEVENT
DTSTART;TZID=America/Sao_Paulo:20230526T180000
DTEND;TZID=America/Sao_Paulo:20230526T193000
DTSTAMP:20260424T131633
CREATED:20230519T220802Z
LAST-MODIFIED:20230519T220802Z
UID:46014-1685124000-1685129400@febrapsi.org
SUMMARY:Reflexões Psicanalíticas Sobre Obra Literária
DESCRIPTION:Reflexões Psicanalítica – Sobre Obra Literária \nMachado de Assis – Pai contra Mãe \nDia 26 de maio de 2023 – às 18hs \nEvento: on-line
URL:https://febrapsi.org/evento/reflexoes-psicanaliticas-sobre-obra-literaria/
LOCATION:Online – Plataforma Zoom
CATEGORIES:Geral
ATTACH;FMTTYPE=image/jpeg:https://febrapsi.org/storage/2023/05/26-05-2023.jpeg
ORGANIZER;CN="SPRJ":MAILTO:sprj.rio1@sprj.org.br
END:VEVENT
BEGIN:VEVENT
DTSTART;TZID=America/Sao_Paulo:20230527T090000
DTEND;TZID=America/Sao_Paulo:20230527T120000
DTSTAMP:20260424T131633
CREATED:20230310T131746Z
LAST-MODIFIED:20230310T131746Z
UID:44993-1685178000-1685188800@febrapsi.org
SUMMARY:Minicurso:  Os Transtornos Alimentares à Luz da Psicanálise: O Mundo Objetal Anoréxico e a Violência Bulímica
DESCRIPTION:Dia 27/05/23 \nDas 09 às 12hs \nCondenação do Curso: Marina Ramalho Miranda \nInvestimento \nPúblico Externo: R$ 50\,00 para profissionais.\nSem ônus: Membros\, Candidatos da SPRPE\, Estudantes de\nGraduação e profissionais com deficiência\, negros\, indígenas\, refugiados em concordância com as Ações Afirmativas. \n 
URL:https://febrapsi.org/evento/minicurso-os-transtornos-alimentares-a-luz-da-psicanalise-o-mundo-objetal-anorexico-e-a-violencia-bulimica/
LOCATION:Online – Plataforma Zoom
CATEGORIES:Geral
ATTACH;FMTTYPE=image/jpeg:https://febrapsi.org/storage/2023/03/WhatsApp-Image-2023-03-09-at-15.16.56-1.jpeg
ORGANIZER;CN="SPRPE":MAILTO:contato@spr-pe.org.br
END:VEVENT
BEGIN:VEVENT
DTSTART;TZID=America/Sao_Paulo:20230527T100000
DTEND;TZID=America/Sao_Paulo:20230527T100000
DTSTAMP:20260424T131633
CREATED:20230519T220802Z
LAST-MODIFIED:20230519T220802Z
UID:46018-1685181600-1685181600@febrapsi.org
SUMMARY:Jornada: A transferência na clínica psicanalítica
DESCRIPTION:Jornada – A transferência na clínica psicanalítica – \n27 de maio de 2023 – Segundo encontro \nEvento híbrido \n 
URL:https://febrapsi.org/evento/jornada-a-transferencia-na-clinica-psicanalitica/
LOCATION:Evento híbrido
CATEGORIES:Geral
ATTACH;FMTTYPE=image/jpeg:https://febrapsi.org/storage/2023/05/27-05-2023.jpeg
ORGANIZER;CN="SPRJ":MAILTO:sprj.rio1@sprj.org.br
END:VEVENT
END:VCALENDAR