BEGIN:VCALENDAR
VERSION:2.0
PRODID:-//FEBRAPSI - ECPv6.15.20//NONSGML v1.0//EN
CALSCALE:GREGORIAN
METHOD:PUBLISH
X-ORIGINAL-URL:https://febrapsi.org
X-WR-CALDESC:Eventos para FEBRAPSI
REFRESH-INTERVAL;VALUE=DURATION:PT1H
X-Robots-Tag:noindex
X-PUBLISHED-TTL:PT1H
BEGIN:VTIMEZONE
TZID:America/Sao_Paulo
BEGIN:STANDARD
TZOFFSETFROM:-0300
TZOFFSETTO:-0300
TZNAME:-03
DTSTART:20210101T000000
END:STANDARD
END:VTIMEZONE
BEGIN:VEVENT
DTSTART;TZID=America/Sao_Paulo:20220405T200000
DTEND;TZID=America/Sao_Paulo:20220405T213000
DTSTAMP:20260425T114439
CREATED:20220311T123521Z
LAST-MODIFIED:20220311T123521Z
UID:40702-1649188800-1649194200@febrapsi.org
SUMMARY:Reunião Mensal da Diretoria da Infância e Adolescência “Quando o Encontro Acontece”
DESCRIPTION:IMPORTANTE – Dia da Reunião Mensal: primeira terça-feira do mês. \nConvidamos para a Reunião Mensal da Diretoria da Infância e Adolescência “Quando o Encontro Acontece”\, no dia 05 de abril (terça-feira)\, às 20h\, na Plataforma Zoom/SPPA. \nApresentação:\nMaria Cecília Pereira da Silva (Psicóloga\, Psicanalista\, Membro Efetivo e Analista Didata da SBPSP\, Analista de Crianças e Adolescentes da SBPSP)\nMarli Bergel (Psicóloga\, Psicanalista\, Membro Efetivo e Analista Didata da SPPA\, Analista de Crianças e Adolescentes da SPPA)\nCoordenação:\nKátia Wagner Radke (Diretora da área da Infância e Adolescência da SPPA) \nAtividade aberta e gratuita.\nInscrições Antecipadas:\nhttps://us06web.zoom.us/webinar/register/WN_2gVgEOAMTaa_j9eLQa_fgQ \nAtenciosamente\,\nMaria Cristina Garcia Vasconcellos – Presidente\nKátia Wagner Radke – Diretora da área da Infância e Adolescência da SPPA \n  \n 
URL:https://febrapsi.org/evento/reuniao-mensal-da-diretoria-da-infancia-e-adolescencia-quando-o-encontro-acontece/
LOCATION:Evento Online
CATEGORIES:Geral
ATTACH;FMTTYPE=image/jpeg:https://febrapsi.org/storage/2022/03/2022-04-05-Reuniao-Mensal-da-DIA.jpeg
ORGANIZER;CN="SPPA":MAILTO:sppa@sppa.org.br
END:VEVENT
BEGIN:VEVENT
DTSTART;TZID=America/Sao_Paulo:20220412T193000
DTEND;TZID=America/Sao_Paulo:20220412T210000
DTSTAMP:20260425T114439
CREATED:20220311T123442Z
LAST-MODIFIED:20220311T123442Z
UID:40698-1649791800-1649797200@febrapsi.org
SUMMARY:Café Literário da Psicanalítica  - “Tudo é rio”
DESCRIPTION:“Tudo é rio”\, Carla Madeira\, será o tema do Café Literário da Psicanalítica do dia 12 de abril (terça-feira)\, às 19h30\, na plataforma Zoom/SPPA. \nA conversa será entre Carla Madeira (Jornalista\, Publicitária e Escritora) e Ana Margareth Bassols (Psicanalista da SPPA)\, com a coordenação da Psicanalista Maria Regina Limeira Ortiz. \nInscrições antecipadas:\nhttps://us06web.zoom.us/webinar/register/WN_xmKXnV2iRZWDHpHXknNYNg \n  \nAtividade aberta e gratuita. \nAtenciosamente\,\nMaria Cristina Garcia Vasconcellos – Presidente\nEleonora Abbud Spinelli – Diretora de Divulgação e Ações junto à Comunidade \nMaria Regina Limeira Ortiz – Coordenadora do Café Literário 
URL:https://febrapsi.org/evento/cafe-literario-da-psicanalitica-tudo-e-rio/
LOCATION:Evento Online
CATEGORIES:Geral
ATTACH;FMTTYPE=image/jpeg:https://febrapsi.org/storage/2022/03/2022-04-12-Cafe-Literario-Tudo-e-rio.jpg
ORGANIZER;CN="SPPA":MAILTO:sppa@sppa.org.br
END:VEVENT
BEGIN:VEVENT
DTSTART;TZID=America/Sao_Paulo:20220412T200000
DTEND;TZID=America/Sao_Paulo:20220412T213000
DTSTAMP:20260425T114439
CREATED:20220407T173625Z
LAST-MODIFIED:20220419T175225Z
UID:41482-1649793600-1649799000@febrapsi.org
SUMMARY:Terças na Sociedade - "Nascer e crescer na pandemia: crianças e adolescentes"
DESCRIPTION:No dia 12 de abril\, às 20h\, acontecerá o próximo Terças na Sociedade. Desta vez estaremos juntos com a psicanalista\, membro efetivo com funções didáticas da SBPRP\, Maria Bernadete Amêndola Contart de Assis\, que falará sobre o tema “Nascer e crescer na pandemia: crianças e adolescentes”. \nO encontro on-line acontecerá pela plataforma Zoom. Garanta a sua vaga pelo site:\nhttps://sbprp.org.br/proximos-eventos/ \n> Lembrando que nosso sistema mudou! Faça um novo cadastro para se inscrever e lembre-se que o link de participação já estará disponível em sua área restrita e não será mais enviado por e-mail! \n 
URL:https://febrapsi.org/evento/tercas-na-sociedade-nascer-e-crescer-na-pandemia-criancas-e-adolescentes/
LOCATION:Evento Online
CATEGORIES:Geral
ATTACH;FMTTYPE=image/jpeg:https://febrapsi.org/storage/2022/04/04-12-Tercas-ABRIL.jpg
ORGANIZER;CN="SBPRP":MAILTO:sbprp.secretaria@gmail.com
END:VEVENT
BEGIN:VEVENT
DTSTART;TZID=America/Sao_Paulo:20220419T200000
DTEND;TZID=America/Sao_Paulo:20220419T213000
DTSTAMP:20260425T114439
CREATED:20220419T174156Z
LAST-MODIFIED:20220419T174156Z
UID:41512-1650398400-1650403800@febrapsi.org
SUMMARY:Cinema & Psicanálise de Ribeirão Preto - Comentário sobre o filme "Pieces of a Woman" do diretor Kórnel Mundruczó.
DESCRIPTION:O próximo Cinema & Psicanálise de Ribeirão Preto contará com a presença do Membro Filiado da SBPRP\, Daniel Nardini Queiroz Pergher\, que comentará sobre o filme “Pieces of a Woman” do diretor Kórnel Mundruczó. O encontro acontecerá no dia 19 de abril\, às 20h\, pela plataforma Zoom. \n*Lembramos que o filme não será exibido\, devendo ser assistido previamente. Disponível na Netflix. \n> ATENÇÃO: nosso sistema mudou! Faça um novo cadastro para se inscrever e lembre-se que o link de participação já estará disponível em sua área restrita e não será mais enviado por e-mail! \nEvento on-line gratuito. Inscreva-se! Vagas limitadas: https://sbprp.org.br/proximos-eventos/
URL:https://febrapsi.org/evento/cinema-psicanalise-de-ribeirao-preto-comentario-sobre-o-filme-pieces-of-a-woman-do-diretor-kornel-mundruczo/
LOCATION:Online – Plataforma Zoom
CATEGORIES:Geral
ATTACH;FMTTYPE=image/jpeg:https://febrapsi.org/storage/2022/04/04-19-Cinema-Ribeirao-ABRIL-1.jpg
ORGANIZER;CN="SBPRP":MAILTO:sbprp.secretaria@gmail.com
END:VEVENT
BEGIN:VEVENT
DTSTART;TZID=America/Sao_Paulo:20220430T093000
DTEND;TZID=America/Sao_Paulo:20220430T120000
DTSTAMP:20260425T114439
CREATED:20220216T153837Z
LAST-MODIFIED:20220216T153837Z
UID:40583-1651311000-1651320000@febrapsi.org
SUMMARY:WEBINAR | PSICANÁLISE E LITERATURA: ENTRE A IMAGEM E A PALAVRA.
DESCRIPTION:Psicanálise e Literatura:\nEntre a imagem e a palavra.\n“Quando a busca encontra\, nasce um outro vazio. \nO vazio\, e o não pensar\, é o melhor estado mental para que as imagens se façam.” \nClarice Lispector \nABERTURA:\nCARMEN C. MION \n(PRESIDENTE DA SBPSP)\nGLAUCIA MARIA FERREIRA FURTADO\n(DIRETORA REGIONAL DA SBPSP) \nPALESTRANTES:\nADÉLIA BEZERRA DE MENESES\n(PROFESSORA DE TEORIA LITERÁRIA E LITERATURA)\n“A Literatura e a Organização da Experiência: Scherazade e as 1001 noites.” \nMARIA LUIZA LANA MATTOS SALOMÃO\n(MEMBRO ASSOCIADO DA SBPSP)\n“Por uma psicanálise evocativa: Clarice & Bollas.” \nJOÃO AUGUSTO FRAYZE-PEREIRA\n(DIRETOR DE CULTURA E COMUNIDADE DA SBPSP)\n“A bela adormecida sonha? Arte e sonho no cinema e\nna pintura: implicações entre estética e psicanálise.” \nCOORDENADORA:\nSILVANA BRESSAN (MEMBRO ASSOCIADO DA SBPSP) \nValores:\nMembros SBPSP\, FEBRAPSI e IPA : Sem ônus\nProfissionais: R$ 60\,00\nInformações: fabiana@sbpsp.org.br\nInscrições: www.sbpsp.org.br
URL:https://febrapsi.org/evento/webinar-psicanalise-e-literatura-entre-a-imagem-e-a-palavra/
LOCATION:Online – Plataforma Zoom
CATEGORIES:Geral
ATTACH;FMTTYPE=image/png:https://febrapsi.org/storage/2022/02/CARTAZ_WEBINAR_PSI_LITERATURA.png
ORGANIZER;CN="SBPSP":MAILTO:contato@sbpsp.org.br
END:VEVENT
BEGIN:VEVENT
DTSTART;TZID=America/Sao_Paulo:20220430T100000
DTEND;TZID=America/Sao_Paulo:20220430T120000
DTSTAMP:20260425T114439
CREATED:20220216T154856Z
LAST-MODIFIED:20220216T154856Z
UID:40587-1651312800-1651320000@febrapsi.org
SUMMARY:CISÃO COMO PHANTASIA INCONSCIENTE ORGANIZADORA: PASSADO E PRESENTE
DESCRIPTION:A partir de suas pesquisas no Melanie Klein Trust\, Claudia Frank discute o conceito de \ncisão como phantasia inconsciente organizadora\, nascido na análise de Erna e mostra \nsua relevância na análise de adultos na atualidade. \nAbertura: \nMARTA FOSTER (Secretária geral da SBPSP)\nCoordenação: \nANA MARIA STUCCHI VANNUCCHI (Diretora Científica da SBPSP) e \nREGINA WEINFELD REISS (Membro da equipe da Diretora Científica da SBPSP) \nPalestrante: CLAUDIA FRANK\nProfessora Associada – Doutora em Medicina. Psicanalista em Stuttgart (consultório particular). \nAnalista Didata da Associação Alemã de Psicanálise (IPA)\, com formação prévia em Psiquiatria\ne Neurologia. Membro convidado da Sociedade Britânica de Psicanálise. \nPresidente do Comitê Central de Formação da Associação Alemã de Psicanálise. \nPesquisadora da história\, técnica e teoria Kleiniana\, tema que foi objeto de várias publicações suas. \nCo-Editora do Livro Anual Alemão de Psicanálise de 2002 a 2020. \nTAXA DE INSCRIÇÃO:\nR$ 80\,00 Membros SBPSP\, Febrapsi\, IPA e Fepal\nR$ 180\,00 Profissionais\nR$ 60\,00 Membros Filiados e Candidatos Febrapsi\, IPA e Fepal\nEstudantes de Graduação / Alunos dos Cursos da DAC /\nProfissionais da Rede Pública \nINSCRIÇÕES: www.sbpsp.org.br\nINFORMAÇÕES: adele.lacotis@sbpsp.org.br
URL:https://febrapsi.org/evento/cisao-como-phantasia-inconsciente-organizadora-passado-e-presente/
LOCATION:Online – Plataforma Zoom
CATEGORIES:Geral
ATTACH;FMTTYPE=image/png:https://febrapsi.org/storage/2022/02/CARTAZ_CLAUDIA-FRANK.png
ORGANIZER;CN="SBPSP":MAILTO:contato@sbpsp.org.br
END:VEVENT
BEGIN:VEVENT
DTSTART;TZID=America/Sao_Paulo:20220430T100000
DTEND;TZID=America/Sao_Paulo:20220430T120000
DTSTAMP:20260425T114439
CREATED:20220407T173338Z
LAST-MODIFIED:20220407T173338Z
UID:41505-1651312800-1651320000@febrapsi.org
SUMMARY:Freud\, o escritor de cartas - Um retorno às origens
DESCRIPTION:Apresentação: Ignácio Paim – Psicanalista e membro titular com funções didáticas da Sociedade Brasileira de Psicanálise de Porto Alegre (SBPdePA)\nCoordenação: Daniela Yglesias C. Prieto – Psicanalista e Diretora científica – SPBsb\n\n \n\nEvento gratuito – vagas limitadas \n  \n\n\n 
URL:https://febrapsi.org/evento/freud-o-escritor-de-cartas-um-retorno-as-origens/
LOCATION:Online – Plataforma Google Meet
CATEGORIES:Geral
ATTACH;FMTTYPE=image/jpeg:https://febrapsi.org/storage/2022/04/Paim-300422.jpg
ORGANIZER;CN="SPBsb":MAILTO:spbsb@spbsb.org.br
END:VEVENT
BEGIN:VEVENT
DTSTART;TZID=America/Sao_Paulo:20220430T150000
DTEND;TZID=America/Sao_Paulo:20220430T163000
DTSTAMP:20260425T114439
CREATED:20220429T151751Z
LAST-MODIFIED:20220429T151751Z
UID:41624-1651330800-1651336200@febrapsi.org
SUMMARY:C&P de Sertãozinho - Comentário sobre o filme "A Filha Perdida"  [evento presencial]
DESCRIPTION:O primeiro encontro do Cinema & Psicanálise de Sertãozinho acontecerá no próximo dia 30 de abril\, na Casa da Cultura de Sertãozinho – Rua Expedicionário Lellis\, 1500. Neste encontro presencial\, será exibido o filme “A Filha Perdida”\, com os comentários de Edna S. Magro\, Membro Filiado da SBPRP e coordenação de Ana Rita N. Pontes. \nEvento presencial gratuito. Inscreva-se! Vagas limitadas: https://sbprp.org.br/proximos-eventos/
URL:https://febrapsi.org/evento/cp-de-sertaozinho-comentario-sobre-o-filme-a-filha-perdida-evento-presencial/
LOCATION:Casa da Cultura de Sertãozinho\, Rua Expedicionário Lellis\,1500\, Sertãozinho\, São Paulo\, 14160-750\, Brasil
CATEGORIES:Geral
ATTACH;FMTTYPE=image/jpeg:https://febrapsi.org/storage/2022/04/04-30-Cinema-Sertaozinho-ABRIL-PRESENCIAL.jpg
ORGANIZER;CN="SBPRP":MAILTO:sbprp.secretaria@gmail.com
END:VEVENT
END:VCALENDAR