BEGIN:VCALENDAR
VERSION:2.0
PRODID:-//FEBRAPSI - ECPv6.15.20//NONSGML v1.0//EN
CALSCALE:GREGORIAN
METHOD:PUBLISH
X-WR-CALNAME:FEBRAPSI
X-ORIGINAL-URL:https://febrapsi.org
X-WR-CALDESC:Eventos para FEBRAPSI
REFRESH-INTERVAL;VALUE=DURATION:PT1H
X-Robots-Tag:noindex
X-PUBLISHED-TTL:PT1H
BEGIN:VTIMEZONE
TZID:America/Sao_Paulo
BEGIN:STANDARD
TZOFFSETFROM:-0300
TZOFFSETTO:-0300
TZNAME:-03
DTSTART:20200101T000000
END:STANDARD
END:VTIMEZONE
BEGIN:VEVENT
DTSTART;TZID=America/Sao_Paulo:20211204T160000
DTEND;TZID=America/Sao_Paulo:20211204T180000
DTSTAMP:20260425T184912
CREATED:20211116T185610Z
LAST-MODIFIED:20211116T185650Z
UID:39676-1638633600-1638640800@febrapsi.org
SUMMARY:CURSO 2 OFICINAS DE SENSIBILIDADE: EXPERIÊNCIAS CLÍNICAS E CULTURAIS – DEZEMBRO
DESCRIPTION:Diretoria de Cultura e Comunidade – 2021\nDiretor: João A. Frayze-Pereira. \nComissão:  \nLila Schwartz\, Marisa Granchelli\, Marlene Rozenberg\, Mirian Malzyner\, Norma Lottenberg Semer\, Raquel Pires\, Tânia Zalcberg .\n \nPROGRAMA “Clínica e Cultura”\n \nO objetivo mais amplo desse Programa é oferecer subsídios teóricos e clínicos para uma reflexão sobre as articulações entre cultura e psicanálise. Mas\, o que entendemos pelo termo cultura? Uma definição geral desse termo é a seguinte: cultura é o modo de vida do ser humano\, entendido como animal simbólico (Cassirer). Esta é uma concepção que alcança o universal. E\, ao mesmo tempo\, inclui o particular\, pois a palavra modo aponta para a particularidade do sistema de regras que define as relações sociais e os objetos\, as formas de conhecer\, pensar\, agir\, sentir e expressar\, em suma\, as condições materiais e simbólicas de uma sociedade historicamente determinada. Nesse contexto\, cabe refletir não apenas sobre a presença da cultura na psicanálise\, mas sobre a necessidade da primeira para o exercício da segunda\, assim como sobre o uso da psicanálise para a interpretação dos fenômenos culturais nas suas especificidades.\n \nO Programa será desenvolvido na forma de dois cursos: o curso 1\, por intermédio de reuniões mensais cujos temas serão abordados em palestras abertas à discussão com os presentes; o curso 2\, na forma de oficinas de trabalho sensível cujos temas clínico-culturais serão apresentados como estímulos. Tais temas\, desenvolvidos junto aos participantes\, têm o propósito de promover uma reflexão\, mediada pelos coordenadores\, para sensibilizar o grupo.  Para participar das atividades\, os interessados deverão se inscrever no site da SBPSP. As oficinas terão número limitado de inscrições. Membros filiados ao Instituto e membros da SBPSP estão isentos da taxa de inscrição.\n \nLink para inscrição: https://www.sbpsp.org.br/cursos-e-eventos/eventos/curso-2-oficinas-de-sensibilidade-experiencias-clinicas-e-culturais-dezembro-149/inscricao/\n \nSerá fornecido certificado de participação ao inscrito que tiver 75 % de frequência.\n \nValor da inscrição em cada oficina: R$30\,00.
URL:https://febrapsi.org/evento/curso-2-oficinas-de-sensibilidade-experiencias-clinicas-e-culturais-dezembro/
LOCATION:Online – Plataforma Zoom
CATEGORIES:Geral
ATTACH;FMTTYPE=image/jpeg:https://febrapsi.org/storage/2021/11/CURSO-2-OFICINAS-DE-SENSIBILIDADE-EXPERIÊNCIAS-CLÍNICAS-E-CULTURAIS-–-DEZEMBRO.jpg
ORGANIZER;CN="SBPSP":MAILTO:contato@sbpsp.org.br
END:VEVENT
BEGIN:VEVENT
DTSTART;TZID=America/Sao_Paulo:20211211T100000
DTEND;TZID=America/Sao_Paulo:20211211T100000
DTSTAMP:20260425T184912
CREATED:20211116T192126Z
LAST-MODIFIED:20211116T192126Z
UID:39691-1639216800-1639216800@febrapsi.org
SUMMARY:Webinar com Daniel L. Everett – Debate do livro “A matéria escura da mente – o inconsciente articulado culturalmente”
DESCRIPTION:Convidamos para o Webinar com Daniel L. Everett – Debate do livro “A matéria escura da mente – o inconsciente articulado culturalmente”\, no dia 11 de dezembro (sábado)\, às 10h\, na Plataforma Zoom/SPPA. \nDebatedores:\nJosé Carlos Calich (Presidente da SPPA)\nCésar Luís de Souza Brito (Psicanalista da SPPA)\nCoordenador:\nMaurício Marx e Silva (Psicanalista da SPPA) \nAberta e gratuita \nInscrições Antecipadas:\nhttps://us06web.zoom.us/webinar/register/WN_zBxoz54kTfWzNeHtisd5pw
URL:https://febrapsi.org/evento/webinar-com-daniel-l-everett-debate-do-livro-a-materia-escura-da-mente-o-inconsciente-articulado-culturalmente/
LOCATION:Online – Plataforma Zoom
CATEGORIES:Geral
ATTACH;FMTTYPE=image/jpeg:https://febrapsi.org/storage/2021/11/Webinar-com-Daniel-L.-Everett-–-Debate-do-livro-A-matéria-escura-da-mente-–-o-inconsciente-articulado-culturalmente.jpg
ORGANIZER;CN="SPPA":MAILTO:sppa@sppa.org.br
END:VEVENT
BEGIN:VEVENT
DTSTART;TZID=America/Sao_Paulo:20211211T100000
DTEND;TZID=America/Sao_Paulo:20211211T120000
DTSTAMP:20260425T184912
CREATED:20211014T064713Z
LAST-MODIFIED:20211014T080855Z
UID:38724-1639216800-1639224000@febrapsi.org
SUMMARY:A NEGATIVIDADE NA PRÁTICA CLÍNICA: SOBRE A ANGÚSTIA DE CASTRAÇÃO - COM JEAN-CLAUDE ROLLAND
DESCRIPTION:JEAN-CLAUDE ROLLAND \nPsicanalista\, membro titular da APF – Association Psychanalytique de France\, foi membro delegado das Sociedades Europeias da IPA – International Psychoanalytical Association. Autor de diversos livros\, alguns deles traduzidos para o português: “Curar do mal de amor” (1999)\, “Os olhos da Alma” (2016) e “Antes de ser aquele que fala” (2017). \n  \nABERTURA: \nCARMEN C. MION (PRESIDENTE SBPSP) \nCOORDENADORAS: \nANA MARIA STUCCHI VANUCCHI (SBPSP) \nADRIANA C. BORGES HAUTEKEUR (SBPSP) \nINSCRIÇÕES ATÉ 06/12/21 PELO SITE: \nWWW.SBPSP.ORG.BR \nINFORMAÇÕES: ADELE.LACOTIS@SBPSP.ORG.BR \nVALORES: \nMEMBROS SBPSP\,\nFEBRAPSI\, FEPAL e IPA: R$80\,00 \nMEMBROS FILIADOS\, \nESTUDANTES DE GRADUAÇÃO\, \nALUNOS DOS CURSOS DA DAC\, \nPROFISSIONAIS DA REDE PÚBLICA: R$60\,00 \nPÚBLICO EXTERNO: R$150\,00
URL:https://febrapsi.org/evento/a-negatividade-na-pratica-clinica-sobre-a-angustia-de-castracao-com-jean-claude-rolland/
LOCATION:Online – Plataforma Zoom
CATEGORIES:Geral
ATTACH;FMTTYPE=image/jpeg:https://febrapsi.org/storage/2021/10/A-NEGATIVIDADE-NA-PRÁTICA-CLÍNICA-SOBRE-A-ANGÚSTIA-DE-CASTRAÇÃO-COM-JEAN-CLAUDE-ROLLAND.jpg
END:VEVENT
BEGIN:VEVENT
DTSTART;TZID=America/Sao_Paulo:20211214T193000
DTEND;TZID=America/Sao_Paulo:20211214T210000
DTSTAMP:20260425T184912
CREATED:20211211T123242Z
LAST-MODIFIED:20211213T175132Z
UID:40179-1639510200-1639515600@febrapsi.org
SUMMARY:Café Literário da Psicanalítica  - “Carta ao pai”\, Franz Kafka
DESCRIPTION:“Carta ao pai”\, Franz Kafka\, será o tema do Café Literário da Psicanalítica do dia 14 de dezembro (terça-feira)\, às 19h30\, na plataforma Zoom/SPPA. \n \nA conversa será entre Daniel Presmann (Rabino e Professor de Literatura Judaica) e Katia Wagner Radke (Psicanalista da SPPA)\, com a coordenação da Psicanalista Maria Regina Limeira Ortiz. \nInscrições antecipadas:\nhttps://us06web.zoom.us/webinar/register/WN_yJmV355QR9CaFATFgkCH4A\n \nAtividade aberta e gratuita. \nAtenciosamente\,\nJosé Carlos Calich – Presidente\nEmílio Salle – Diretor de Divulgação e Ações junto à Comunidade \nMaria Regina Limeira Ortiz – Coordenadora do Café Literário 
URL:https://febrapsi.org/evento/cafe-literario-da-psicanalitica-carta-ao-pai-franz-kafka/
LOCATION:Online – Plataforma Zoom
CATEGORIES:Geral
ATTACH;FMTTYPE=image/jpeg:https://febrapsi.org/storage/2021/12/2021-12-14-Cafe-Literario.jpg
ORGANIZER;CN="SPPA":MAILTO:sppa@sppa.org.br
END:VEVENT
END:VCALENDAR