BEGIN:VCALENDAR
VERSION:2.0
PRODID:-//FEBRAPSI - ECPv6.15.20//NONSGML v1.0//EN
CALSCALE:GREGORIAN
METHOD:PUBLISH
X-ORIGINAL-URL:https://febrapsi.org
X-WR-CALDESC:Eventos para FEBRAPSI
REFRESH-INTERVAL;VALUE=DURATION:PT1H
X-Robots-Tag:noindex
X-PUBLISHED-TTL:PT1H
BEGIN:VTIMEZONE
TZID:America/Sao_Paulo
BEGIN:STANDARD
TZOFFSETFROM:-0300
TZOFFSETTO:-0300
TZNAME:-03
DTSTART:20230101T000000
END:STANDARD
END:VTIMEZONE
BEGIN:VEVENT
DTSTART;TZID=America/Sao_Paulo:20241004T183000
DTEND;TZID=America/Sao_Paulo:20241005T120000
DTSTAMP:20260421T184722
CREATED:20240826T153732Z
LAST-MODIFIED:20240927T132757Z
UID:51258-1728066600-1728129600@febrapsi.org
SUMMARY:SIMPÓSIO DO NIA 2024
DESCRIPTION:O Núcleo de Infância e Adolescência convida para o seu Simpósio 2024 \nO NIA tem a preocupação de promover espaços para pensar em saídas saudáveis diante de situações traumáticas. Intervindo precocemente\, inicia-se a elaboração psíquica em seguida ao evento\, evitando-se que as situações agudas se cronifiquem. Tais medidas viabilizam a retomada do desenvolvimento sadio. \n▪️ Programação \n– Sexta-feira (04/10)\n18H30 | Conectados & protegidos: o que os adultos precisam saber para garantir uma presença digital segura e o uso saudável das telas e das redes sociais por crianças e adolescentes \nPalestrantes: Carolinne Santin Dal Ri ( Médica pediatra\, com especialização em Puericultura e acompanhamento integral do processo de desenvolvimento da criança.) \nSabrina Passos Cimenti (Jornalista\, especialista em transformação digital e mestre em mídias sociais pelo IE\, na Espanha.) \nCoordenação: Julio Sperb: Membro do Instituto da SBPdePA \n– Sábado (05/10)\n9H30 | Saídas Criativas para o Caos \nPalestrante: David Leo Levisky: Psicanalista Titular e Didata da SBPSP. Doutor em História Social pela USP. ( Psiquiatra pela USP\, com especialização em infância e adolescência.) Coordenação: Heloisa Zimmermann: Membro Associado da SBPdePA \n10h45 | Apresentação de Dança Pocket com Bruno Manganelli \nIntervalo \n11H | Exercício Clínico com David Leo Levisky \nApresentação\nKellen Gurgel Anchieta – Membro do Instituto da SBPdePA \nCoordenação: Adriana Ampezzan – Membro do Instituto da SBPdePA \nValores\nMembros da SBPdePA e Instituto – Isentos\nProfissionais – R$ 100\,00\nEstudantes – R$ 50\,00\n5 vagas gratuitas para profissionais negros(as)\, indígenas ou quilombolas. \nSerá um prazer receber todos que puderem estar de forma presencial na nossa sede. \nINSCRIÇÕES: https://www.sbpdepa.org.br/simp%C3%B3sio-nia
URL:https://febrapsi.org/evento/simposio-do-nia-2024/
LOCATION:Evento híbrido
CATEGORIES:Congressos,Geral
ATTACH;FMTTYPE=image/jpeg:https://febrapsi.org/storage/2024/08/SIMPOSIO-DO-NIA.jpeg
ORGANIZER;CN="SBPdePA":MAILTO:secretaria@sbpdepa.org.br
END:VEVENT
END:VCALENDAR