BEGIN:VCALENDAR
VERSION:2.0
PRODID:-//FEBRAPSI - ECPv6.15.20//NONSGML v1.0//EN
CALSCALE:GREGORIAN
METHOD:PUBLISH
X-WR-CALNAME:FEBRAPSI
X-ORIGINAL-URL:https://febrapsi.org
X-WR-CALDESC:Eventos para FEBRAPSI
REFRESH-INTERVAL;VALUE=DURATION:PT1H
X-Robots-Tag:noindex
X-PUBLISHED-TTL:PT1H
BEGIN:VTIMEZONE
TZID:America/Sao_Paulo
BEGIN:STANDARD
TZOFFSETFROM:-0300
TZOFFSETTO:-0300
TZNAME:-03
DTSTART:20250101T000000
END:STANDARD
END:VTIMEZONE
BEGIN:VEVENT
DTSTART;TZID=America/Sao_Paulo:20260225T080000
DTEND;TZID=America/Sao_Paulo:20261118T170000
DTSTAMP:20260421T052620
CREATED:20260330T160944Z
LAST-MODIFIED:20260330T160944Z
UID:59358-1772006400-1795021200@febrapsi.org
SUMMARY:Curso de Extensão “Sexualidade: Teoria e Clínica”
DESCRIPTION:Em 2026\, a SBPMG abre um novo ciclo de estudos sobre um dos eixos fundamentais da psicanálise: a sexualidade. \nO Curso de Extensão “Sexualidade: Teoria e Clínica” está organizado em oito módulos\, cada um dedicado a um recorte específico que articula teoria e prática clínica\, sendo: \n▪ Módulo 1 – A teoria da sexualidade infantil\n▪ Módulo 2 – Sexualidade na adolescência\n▪ Módulo 3 – Sexualidade feminina\n▪ Módulo 4 – Sexualidade e parentalidade\n▪ Módulo 5 – Sexualidade e gênero\n▪ Módulo 6 – Sintomas sexuais na Clínica\n▪ Módulo 7 – Violência Sexual\n▪ Módulo 8 – Transferência erótica\, erotizada e perversa \n📝 As inscrições já estão abertas no nosso site. É possível adquirir aulas avulsas\, um módulo\, o semestre ou o curso completo. \n📅 As aulas são sempre às quartas-feiras\, das 19:30 às 21hs\, online. \n📌 A aula inaugural aconteceu no dia 25 de fevereiro com o tema: “Desnudando a sexualidade: antes\, durante e depois de Freud”. A palestrante foi a vice-presidente da SBPMG\, Sandra Bulhões.\nAula disponível no YouTube \nQuer saber um pouco mais? Deslize as imagens ou acesse sbpmg.org.br
URL:https://febrapsi.org/evento/curso-de-extensao-sexualidade-teoria-e-clinica/
LOCATION:curso online
CATEGORIES:Geral
ATTACH;FMTTYPE=image/png:https://febrapsi.org/storage/2026/03/sbpmg-post1-1-1.png
ORGANIZER;CN="SBPMG":MAILTO:sbpmg@uol.com.br
END:VEVENT
BEGIN:VEVENT
DTSTART;TZID=America/Sao_Paulo:20260319T200000
DTEND;TZID=America/Sao_Paulo:20260618T213000
DTSTAMP:20260421T052620
CREATED:20260304T164433Z
LAST-MODIFIED:20260304T164433Z
UID:59030-1773950400-1781818200@febrapsi.org
SUMMARY:Sexualidades e gêneros além da norma: encruzilhadas psicanalíticas
DESCRIPTION:Sexualidades e gêneros além da norma: encruzilhadas psicanalíticas\n\n\nEntre os meses de março e junho de 2026\, em quatro encontros mensais\, sempre às quintas-feiras 19/03\, 16/04\, 21/05 e 18/06)\, das 20h às 21h30\, a Sociedade Brasileira de Psicanálise de Porto Alegre promove o curso on-line “Sexualidades e gêneros além da norma: encruzilhadas psicanalíticas”\, uma iniciativa do Grupo de Estudos sobre Sexualidade e Gênero Dissidentes\,  sob coordenação de Lisia Leite\, com organização de Janine Severo. \n\n\nO curso propõe um espaço de estudo\, escuta e reflexão clínica e teórica sobre as múltiplas expressões das sexualidades e dos gêneros que escapam às normativas hegemônicas. A partir de uma perspectiva psicanalítica contemporânea\, os encontros buscam problematizar conceitos\, práticas e atravessamentos históricos\, sociais e subjetivos\, colocando em diálogo a clínica\, a ética e os desafios atuais do cuidado em saúde mental. \n​Como convidado\, participa Facundo Blestcher\, psicanalista\, mestre em Clínica Psicanalítica pela Universidade de León\, com Diploma de Estudos Avançados em Psicanálise pela Universidade Autônoma de Madri. Ex-presidente da FLAPPSIP e atual presidente da ASAPPIA\, Blestcher é também membro do Conselho Assessor do Fórum de Psicanálise e Gênero da Associação de Psicólogos de Buenos Aires\, autor de diversas publicações e palestrante reconhecido no campo da psicanálise latino-americana. \n​Destinado a profissionais e estudantes da área psi\, bem como a interessados na temática\, o curso reafirma o compromisso da SBPdePA com a formação continuada\, a diversidade e o enfrentamento das exclusões simbólicas e institucionais.
URL:https://febrapsi.org/evento/sexualidades-e-generos-alem-da-norma-encruzilhadas-psicanaliticas/
LOCATION:curso online
CATEGORIES:Geral
ATTACH;FMTTYPE=image/png:https://febrapsi.org/storage/2026/03/1-8-1.png
ORGANIZER;CN="SBPdePA":MAILTO:secretaria@sbpdepa.org.br
END:VEVENT
BEGIN:VEVENT
DTSTART;TZID=America/Sao_Paulo:20260406T080000
DTEND;TZID=America/Sao_Paulo:20270831T170000
DTSTAMP:20260421T052620
CREATED:20260330T160943Z
LAST-MODIFIED:20260330T160943Z
UID:59353-1775462400-1819731600@febrapsi.org
SUMMARY:Curso de Teoria e Clínica Psicanalítica para psicoterapeutas
DESCRIPTION:O percurso em psicanálise não se reduz à transmissão de conceitos — ele implica também uma transformação progressiva da escuta e do modo de estar na clínica.\n\nÉ com esse horizonte que anunciamos a abertura de uma nova turma do Curso de Teoria e Clínica Psicanalítica para Psicoterapeutas. Fundamentado nas obras de Sigmund Freud\, Melanie Klein\, Donald Winnicott e Wilfred Bion\, o curso oferece uma abordagem abrangente sobre a teoria e a técnica psicanalítica\, sobre o trabalho clínico e a psicopatologia psicodinâmica\, articulando conhecimento teórico e reflexão clínica no atendimento à infância\, adolescência\, adultos\, casais e famílias. \nAo longo de 18 meses\, o percurso está organizado em cinco módulos\, combinando aulas teóricas e de técnica pela manhã e\, à tarde supervisões clínicas dedicadas à reflexão analítica sobre os atendimentos realizados pelos próprios participantes do curso. \nA metodologia inclui aulas expositivas\, seminários interativos\, discussões em grupo e supervisão de casos clínicos\, favorecendo a articulação entre teoria e prática na construção da escuta psicanalítica. \n Detalhes do curso\n Carga horária: 288 horas\n Início: agosto de 2026\n Local: sede da SBPMG\n Investimento: R$ 797\,00\n Público alvo: profissionais graduados em Psicologia ou Medicina\, que estejam em análise pessoal ou psicoterapia \n Inscrições a partir de 06 de abril\, pelo e-mail: sbpmg@uol.com.br  \nSubmeter documentação para inscrição:\n currículo\n diploma\n carta / manifestação de interesse\nO processo seletivo inclui duas entrevistas realizadas por membros da SBPMG. \nSe tiver qualquer dificuldade\, fale com a gente pelo WhatsApp (31) 9.7213-5557
URL:https://febrapsi.org/evento/curso-de-teoria-e-clinica-psicanalitica-para-psicoterapeutas/
LOCATION:curso presencial\, Rua Ceará\, 1431\, Belo Horizonte\, MG\, 30150-313\, Brazil
CATEGORIES:Geral
ATTACH;FMTTYPE=image/jpeg:https://febrapsi.org/storage/2026/03/WhatsApp-Image-2026-03-20-at-11.59.05.jpeg
ORGANIZER;CN="SBPMG":MAILTO:sbpmg@uol.com.br
END:VEVENT
BEGIN:VEVENT
DTSTART;TZID=America/Sao_Paulo:20260417T083000
DTEND;TZID=America/Sao_Paulo:20260417T220000
DTSTAMP:20260421T052620
CREATED:20260330T160944Z
LAST-MODIFIED:20260330T160944Z
UID:59372-1776414600-1776463200@febrapsi.org
SUMMARY:Falocentrismo branco - hierarquização e dessubjetivação - dos gêneros e das raças: Anatomia é destino?
DESCRIPTION:A Sociedade de Psicanálise de Brasília (SPBsb) convida para a reunião científica\, que será realizada no dia 17 de abril de 2026\, às 20h30\, na SHIS Qi 9 Bloco E-1 sala 314 – Ed. Centro Clínico do Lago – Lago Sul.  \n\n\n\n\n\n\nO encontro propõe discutir o falocentrismo branco — a hierarquização e a dessubjetivação de gêneros e raças — a partir da questão: “Anatomia é destino?” \n\n\n\n\n\n\nO evento contará com a participação de Ignácio Paim Filho\, psicanalista e médico\, membro pleno do Centro de Estudos Psicanalíticos de Porto Alegre (CEPdePA) e membro titular e didata da Sociedade Psicanalítica de Porto Alegre (SBPdePA). \nA coordenação será de Nize Nascimento\, Diretora Científica da SPBsb. \nMais informações: (61) 99595-1073 / 99927-9900. \nObs.: Aberto para membros da SPBsb e membros do Instituto VLB\, público externo e Federadas.
URL:https://febrapsi.org/evento/falocentrismo-branco-hierarquizacao-e-dessubjetivacao-dos-generos-e-das-racas-anatomia-e-destino/
LOCATION:SPBsb\, Qi 9 - Bl E1 - Centro Clínico do Lago Sul\, Brasília\, Distrito Federal\, 70331765\, Brasil
CATEGORIES:Geral
ATTACH;FMTTYPE=image/jpeg:https://febrapsi.org/storage/2026/03/Paim.jpeg
ORGANIZER;CN="SPBsb":MAILTO:spbsb@spbsb.org.br
END:VEVENT
END:VCALENDAR