BEGIN:VCALENDAR
VERSION:2.0
PRODID:-//FEBRAPSI - ECPv6.15.20//NONSGML v1.0//EN
CALSCALE:GREGORIAN
METHOD:PUBLISH
X-WR-CALNAME:FEBRAPSI
X-ORIGINAL-URL:https://febrapsi.org
X-WR-CALDESC:Eventos para FEBRAPSI
REFRESH-INTERVAL;VALUE=DURATION:PT1H
X-Robots-Tag:noindex
X-PUBLISHED-TTL:PT1H
BEGIN:VTIMEZONE
TZID:America/Sao_Paulo
BEGIN:STANDARD
TZOFFSETFROM:-0300
TZOFFSETTO:-0300
TZNAME:-03
DTSTART:20250101T000000
END:STANDARD
END:VTIMEZONE
BEGIN:VEVENT
DTSTART;TZID=America/Sao_Paulo:20260225T080000
DTEND;TZID=America/Sao_Paulo:20261118T170000
DTSTAMP:20260422T061047
CREATED:20260330T160944Z
LAST-MODIFIED:20260330T160944Z
UID:59358-1772006400-1795021200@febrapsi.org
SUMMARY:Curso de Extensão “Sexualidade: Teoria e Clínica”
DESCRIPTION:Em 2026\, a SBPMG abre um novo ciclo de estudos sobre um dos eixos fundamentais da psicanálise: a sexualidade. \nO Curso de Extensão “Sexualidade: Teoria e Clínica” está organizado em oito módulos\, cada um dedicado a um recorte específico que articula teoria e prática clínica\, sendo: \n▪ Módulo 1 – A teoria da sexualidade infantil\n▪ Módulo 2 – Sexualidade na adolescência\n▪ Módulo 3 – Sexualidade feminina\n▪ Módulo 4 – Sexualidade e parentalidade\n▪ Módulo 5 – Sexualidade e gênero\n▪ Módulo 6 – Sintomas sexuais na Clínica\n▪ Módulo 7 – Violência Sexual\n▪ Módulo 8 – Transferência erótica\, erotizada e perversa \n📝 As inscrições já estão abertas no nosso site. É possível adquirir aulas avulsas\, um módulo\, o semestre ou o curso completo. \n📅 As aulas são sempre às quartas-feiras\, das 19:30 às 21hs\, online. \n📌 A aula inaugural aconteceu no dia 25 de fevereiro com o tema: “Desnudando a sexualidade: antes\, durante e depois de Freud”. A palestrante foi a vice-presidente da SBPMG\, Sandra Bulhões.\nAula disponível no YouTube \nQuer saber um pouco mais? Deslize as imagens ou acesse sbpmg.org.br
URL:https://febrapsi.org/evento/curso-de-extensao-sexualidade-teoria-e-clinica/
LOCATION:curso online
CATEGORIES:Geral
ATTACH;FMTTYPE=image/png:https://febrapsi.org/storage/2026/03/sbpmg-post1-1-1.png
ORGANIZER;CN="SBPMG":MAILTO:sbpmg@uol.com.br
END:VEVENT
BEGIN:VEVENT
DTSTART;TZID=America/Sao_Paulo:20260302T190000
DTEND;TZID=America/Sao_Paulo:20260316T203000
DTSTAMP:20260422T061047
CREATED:20260304T164433Z
LAST-MODIFIED:20260304T164433Z
UID:59004-1772478000-1773693000@febrapsi.org
SUMMARY:Curso: Paixão e loucura nos limites da clínica psicanalítica
DESCRIPTION:Curso: Paixão e loucura nos limites da clínica psicanalítica\n\n\nNos dias 2\, 9 e 16 de março\, das 19h às 20h30\, a Sociedade Brasileira de Psicanálise de Porto Alegre promove o curso “Paixão e loucura nos limites da clínica psicanalítica”\, em formato on-line. A atividade integra a programação da instituição por meio da Diretoria da Comunidade e Cultura\, sob coordenação de Susana Salete R. Chinazzo. \nCom base no livro “Paixão e a loucura nos limites da clínica psicanalítica”\, o curso busca percorrer os limites da loucura\, da paixão e da desorganização psíquica. Propõe uma travessia pela linguagem do pensamento louco – íntima\, desconcertante –\, exigindo do analista hospitalidade e imaginação. Explora o que desafia o manejo e a simbolização em análises marcadas por paixões extremas e medidas radicais para contê-las. \nO percurso teórico-clínico aborda situações marcadas por paixões extremas e medidas radicais utilizadas para contê-las\, explorando aquilo que desafia o manejo analítico e os processos de simbolização. Trata-se de um espaço de elaboração sobre os impasses da clínica contemporânea e sobre os limites do trabalho psicanalítico diante do excesso pulsional e do sofrimento psíquico intenso. \nO curso será ministrado por Berta Hoffmann Azevedo\, psicanalista da SBPSP\, FEBRAPSI\, FEPAL e IPA\, membro efetivo e docente da SBPSP\, mestre em Psicologia Clínica pela PUC-SP\, cocoordenadora do módulo “História da Escuta Psicanalítica” da Diretoria de Atendimento à Comunidade da SBPSP. É autora dos livros “Crise Pseudoepiléptica” e “Paixão e loucura nos limites da clínica psicanalítica”\, além de ex-editora do Jornal de Psicanálise da SBPSP e atual editora da Revista Brasileira de Psicanálise da Febrapsi. \nA atividade é destinada ao público interno e externo\, reafirmando o compromisso da SBPdePA com a formação continuada\, o aprofundamento clínico e o diálogo qualificado sobre os desafios da prática psicanalítica contemporânea.
URL:https://febrapsi.org/evento/curso-paixao-e-loucura-nos-limites-da-clinica-psicanalitica/
LOCATION:curso online
CATEGORIES:Geral
ATTACH;FMTTYPE=image/png:https://febrapsi.org/storage/2026/03/1-8.png
ORGANIZER;CN="SBPdePA":MAILTO:secretaria@sbpdepa.org.br
END:VEVENT
BEGIN:VEVENT
DTSTART;TZID=America/Sao_Paulo:20260314T090000
DTEND;TZID=America/Sao_Paulo:20260314T101500
DTSTAMP:20260422T061047
CREATED:20260304T164450Z
LAST-MODIFIED:20260304T164450Z
UID:58996-1773478800-1773483300@febrapsi.org
SUMMARY:A Ética na transmissão da Psicanálise
DESCRIPTION:No dia 14 de março de 2026\, das 9h às 10h15\, a Sociedade Brasileira de Psicanálise de Porto Alegre realiza a atividade científica inaugural “A Ética na transmissão da Psicanálise”\, em formato on-line\, sob coordenação de Denise Zimpek\, Membro Titular com Função Didática da SBPdePA. \n​ A atividade propõe uma reflexão aprofundada sobre a ética na psicanálise\, compreendida não como um código de normas\, mas como uma dimensão inseparável da prática clínica e da formação de analistas. O encontro parte da distinção entre dois eixos centrais: a ética da prática psicanalítica e a ética nas instituições psicanalíticas\, especialmente no que se refere à transmissão e à formação. \n​ A programação contará com a participação de Virginia Ungar\, médica psicanalista\, Membro Titular com Função Didática da Associação Psicanalítica de Buenos Aires (APDEBA) e Membro Honorário da SBPdePA. \n​A partir de referências fundamentais da psicanálise\, como Horacio Etchegoyen e Roger Money-Kyrle\, a atividade discutirá temas como a inseparabilidade entre ética e técnica\, a confidencialidade na clínica contemporânea e os desafios éticos impostos pela era digital\, pelas pressões ideológicas e pelos discursos de confusão e desinformação. \nO evento é destinado ao público externo da área psi e reafirma o compromisso da SBPdePA com o debate ético\, a qualificação da formação psicanalítica e a sustentação do pensamento crítico na contemporaneidade. Trata-se de uma atividade paga\, com vagas gratuitas destinadas a profissionais e estudantes negros(as)\, indígenas ou quilombolas\, ampliando o acesso e promovendo a diversidade no campo psicanalítico. \n   \n 
URL:https://febrapsi.org/evento/a-etica-na-transmissao-da-psicanalise/
LOCATION:curso online
CATEGORIES:Geral
ATTACH;FMTTYPE=image/png:https://febrapsi.org/storage/2026/03/NOTICIA-1-ATIVIDADE-INAUGURAL-4.png
ORGANIZER;CN="SBPdePA":MAILTO:secretaria@sbpdepa.org.br
END:VEVENT
BEGIN:VEVENT
DTSTART;TZID=America/Sao_Paulo:20260314T100000
DTEND;TZID=America/Sao_Paulo:20260314T113000
DTSTAMP:20260422T061047
CREATED:20260121T221113Z
LAST-MODIFIED:20260121T221113Z
UID:58446-1773482400-1773487800@febrapsi.org
SUMMARY:Antonio Ferro é tema de curso no GEP Marília e Região
DESCRIPTION:Referência fundamental da psicanálise contemporânea\, Antonino Ferro é reconhecido internacionalmente por suas contribuições à clínica psicanalítica\, especialmente no campo da teoria do campo analítico\, da narrativa e da função transformadora da imaginação no processo analítico. \nÉ a partir dessa obra singular que o GEP Marília e Região propõe um percurso introdutório\, com encontros online ao longo de 2026\, dedicado ao estudo de seu pensamento e de sua prática clínica. \nNeste curso\, aprofundaremos a leitura de Antonino Ferro e sua concepção de uma clínica viva\, criativa e profundamente humana na qual o analista se coloca atento ao que emerge no encontro\, aos afetos\, às imagens e às narrativas que se constroem na relação analítica. \nFerro nos convida a escutar não apenas conteúdos\, mas processos: aquilo que se cria\, se transforma e ganha sentido no campo analítico. Um convite a psicanalistas e profissionais da área interessados em pensar\, juntos\, a clínica como espaço de imaginação\, abertura e invenção. \nAs inscrições estão abertas. Informações e inscrições pelo WhatsApp: (14) 9614-6782.
URL:https://febrapsi.org/evento/antonio-ferro-e-tema-de-curso-no-gep-marilia-e-regiao/
CATEGORIES:Geral
ATTACH;FMTTYPE=image/jpeg:https://febrapsi.org/storage/2026/01/Curso-Introdutorio-6.jpg
END:VEVENT
BEGIN:VEVENT
DTSTART;TZID=America/Sao_Paulo:20260314T100000
DTEND;TZID=America/Sao_Paulo:20260314T120000
DTSTAMP:20260422T061047
CREATED:20260224T164727Z
LAST-MODIFIED:20260224T164727Z
UID:58683-1773482400-1773489600@febrapsi.org
SUMMARY:Ciência e Psicanálise – Interfaces e Intercâmbios
DESCRIPTION:O primeiro Ciência e Psicanálise – Interfaces e Intercâmbios de 2026 ocorrerá no sábado\, 14/03\, às 10h\, via Zoom.\nTeremos o privilégio de receber Natália Vignoli\, mestre em Nutrição e Luciana Saddi\, Psicanalista\, para conversarem conosco sobre um tema de extrema importância nos dias atuais:\nO Apetite Invisível – Nutrição e Psicanálise.\nInscreva-se e venha participar! \nMais informações e inscrições: (19) 9 8458-9922
URL:https://febrapsi.org/evento/ciencia-e-psicanalise-interfaces-e-intercambios/
LOCATION:Online – Plataforma Zoom
CATEGORIES:Geral
ATTACH;FMTTYPE=image/jpeg:https://febrapsi.org/storage/2026/02/WhatsApp-Image-2026-02-23-at-13.21.15.jpeg
ORGANIZER;CN="SBPCamp":MAILTO:eventos@sbpcamp.org.br
END:VEVENT
BEGIN:VEVENT
DTSTART;TZID=America/Sao_Paulo:20260314T100000
DTEND;TZID=America/Sao_Paulo:20260314T120000
DTSTAMP:20260422T061047
CREATED:20260311T190824Z
LAST-MODIFIED:20260311T190824Z
UID:59150-1773482400-1773489600@febrapsi.org
SUMMARY:ABERTURA DAS ATIVIDADES CIENTÍFICAS 2026
DESCRIPTION:Abertura das atividades científicas\nINIBIÇÃO\, SINTOMA E ANGÚSTIA: UM SÉCULO\, NOVAS INTERROGAÇÕES\n\nOSWALDO GIACOIA JUNIOR\nProfessor Titular do Departamento de filosofia da Unicamp e do Programa de Pós Graduação em Filosofia (PPGF) da PUCPR\n\nLUÍS CARLOS MENEZES\nMembro Efetivo\, didata SBPSP \nDoutor em Ciências pela Universidade de Paris XI\n\nabertura:\nMAGDA GUIMARÃES KHOURI\npresidente SBPSP\n\nRAYA ANGEL ZONANA\nDiretora Cientifíca SBPSP\n\n14 de março de 2026\, das 10h às 12h\nevento híbrido\n\nAv. Doutor Cardoso de Melo\, 1450 1° andar\nVila Olímpia – São Paulo/SP \n\nProfissionais: R$ 80\,00\nMembros da SBPSP/FEBRAPSI/IPA/FEPAL: sem ônus\nEstudantes de Graduação / Alunos dos cursos da DAC\nProfissionais da rede pública: R$ 40\,00\n10% das vagas gratuitas para estudantes e profissionais negros\, indígenas e refugiados.
URL:https://febrapsi.org/evento/abertura-das-atividades-cientificas-2026/
LOCATION:Auditório SBPSP\, Av. Dr. Cardoso de Melo\, 1450\, São Paulo\, São Paulo\, 04548-005\, Brazil
CATEGORIES:Geral
ATTACH;FMTTYPE=image/png:https://febrapsi.org/storage/2026/03/ABERTURA-DC-26.png
ORGANIZER;CN="SBPSP":MAILTO:contato@sbpsp.org.br
END:VEVENT
END:VCALENDAR