BEGIN:VCALENDAR
VERSION:2.0
PRODID:-//FEBRAPSI - ECPv6.15.20//NONSGML v1.0//EN
CALSCALE:GREGORIAN
METHOD:PUBLISH
X-ORIGINAL-URL:https://febrapsi.org
X-WR-CALDESC:Eventos para FEBRAPSI
REFRESH-INTERVAL;VALUE=DURATION:PT1H
X-Robots-Tag:noindex
X-PUBLISHED-TTL:PT1H
BEGIN:VTIMEZONE
TZID:America/Sao_Paulo
BEGIN:STANDARD
TZOFFSETFROM:-0300
TZOFFSETTO:-0300
TZNAME:-03
DTSTART:20250101T000000
END:STANDARD
END:VTIMEZONE
BEGIN:VEVENT
DTSTART;TZID=America/Sao_Paulo:20260225T080000
DTEND;TZID=America/Sao_Paulo:20261118T170000
DTSTAMP:20260422T061353
CREATED:20260330T160944Z
LAST-MODIFIED:20260330T160944Z
UID:59358-1772006400-1795021200@febrapsi.org
SUMMARY:Curso de Extensão “Sexualidade: Teoria e Clínica”
DESCRIPTION:Em 2026\, a SBPMG abre um novo ciclo de estudos sobre um dos eixos fundamentais da psicanálise: a sexualidade. \nO Curso de Extensão “Sexualidade: Teoria e Clínica” está organizado em oito módulos\, cada um dedicado a um recorte específico que articula teoria e prática clínica\, sendo: \n▪ Módulo 1 – A teoria da sexualidade infantil\n▪ Módulo 2 – Sexualidade na adolescência\n▪ Módulo 3 – Sexualidade feminina\n▪ Módulo 4 – Sexualidade e parentalidade\n▪ Módulo 5 – Sexualidade e gênero\n▪ Módulo 6 – Sintomas sexuais na Clínica\n▪ Módulo 7 – Violência Sexual\n▪ Módulo 8 – Transferência erótica\, erotizada e perversa \n📝 As inscrições já estão abertas no nosso site. É possível adquirir aulas avulsas\, um módulo\, o semestre ou o curso completo. \n📅 As aulas são sempre às quartas-feiras\, das 19:30 às 21hs\, online. \n📌 A aula inaugural aconteceu no dia 25 de fevereiro com o tema: “Desnudando a sexualidade: antes\, durante e depois de Freud”. A palestrante foi a vice-presidente da SBPMG\, Sandra Bulhões.\nAula disponível no YouTube \nQuer saber um pouco mais? Deslize as imagens ou acesse sbpmg.org.br
URL:https://febrapsi.org/evento/curso-de-extensao-sexualidade-teoria-e-clinica/
LOCATION:curso online
CATEGORIES:Geral
ATTACH;FMTTYPE=image/png:https://febrapsi.org/storage/2026/03/sbpmg-post1-1-1.png
ORGANIZER;CN="SBPMG":MAILTO:sbpmg@uol.com.br
END:VEVENT
BEGIN:VEVENT
DTSTART;VALUE=DATE:20260302
DTEND;VALUE=DATE:20260303
DTSTAMP:20260422T061353
CREATED:20260219T180150Z
LAST-MODIFIED:20260219T180150Z
UID:58641-1772409600-1772495999@febrapsi.org
SUMMARY:Grupo de estudos da obra de Sigmund Frued
DESCRIPTION:Estão abertas as inscrições para o Grupo de Estudos da Obra de Sigmund Freud! \nO que é o grupo? \nDiferente de aulas tradicionais\, este é um espaço de encontros onde os participantes leem a obra de Freud passo a passo\, acompanhados por um psicanalista do GEP. O coordenador auxilia na contextualização dos textos e na expansão da compreensão\, promovendo discussões ricas e profundas. \nPara quem é indicado? \nEstudantes de Psicologia e Medicina\, além de profissionais (psicólogos e médicos ativos em seus respectivos conselhos de classe) que desejam ampliar seus conhecimentos na teoria freudiana\, base fundamental para entender o funcionamento psíquico. \nQuando acontece?\nEncontros semanais\, às segundas-feiras\nHorário: Das 20h às 21h30\nLocal: no Gep\, presencial\, (eventualmente\, online)\, e na residência do Luís Tadeu\nEndereço: Av. Romeu Strazzi\, 1479 – Jardim Walkiria – São José do Rio Preto \nInvestimento: R$ 250\,00 mensais\nInscrições: WhatsApp (17) 99794-6042
URL:https://febrapsi.org/evento/grupo-de-estudos-da-obra-de-sigmund-frued/
CATEGORIES:Geral
ATTACH;FMTTYPE=image/jpeg:https://febrapsi.org/storage/2026/02/Freud-novo.jpeg
END:VEVENT
BEGIN:VEVENT
DTSTART;TZID=America/Sao_Paulo:20260302T190000
DTEND;TZID=America/Sao_Paulo:20260302T210000
DTSTAMP:20260422T061353
CREATED:20260129T174529Z
LAST-MODIFIED:20260224T173945Z
UID:58527-1772478000-1772485200@febrapsi.org
SUMMARY:Aula Inaugural do Instituto de Psicanálise da SPPA: “A arte e o Psicanalista – uma conversa em expansão”
DESCRIPTION:Convidamos para a Aula Inaugural do Instituto de Psicanálise da SPPA: “A arte e o Psicanalista – uma conversa em expansão”\, no dia 02 de março\, às 19h\, no Auditório da SPPA (Residentes em Porto Alegre) e Plataforma Zoom/SPPA (Pessoas que estiverem fora de Porto Alegre). \nDebatedoras:\nEneida Iankilevich\nMembro Efetivo e Analista Didata \nAna Rita Tascheto\nMembro Aspirante Graduada \nInscrição antecipada:\nhttps://forms.gle/HCjJqfPxfihtr7QB8 \nAtividade aberta e gratuita \nSPPA (Rua Gen. Andrade Neves\, 14/402 – Centro)\nEstacionamento conveniado Open Auto (R. Gen. Andrade Neves\, 46)
URL:https://febrapsi.org/evento/aula-inaugural-do-instituto-de-psicanalise-da-sppa-a-arte-e-o-psicanalista-uma-conversa-em-expansao/
LOCATION:Evento híbrido
CATEGORIES:Geral
ATTACH;FMTTYPE=image/jpeg:https://febrapsi.org/storage/2026/01/2026-03-02-Aula-Inaugural.jpeg
ORGANIZER;CN="SPPA":MAILTO:sppa@sppa.org.br
END:VEVENT
BEGIN:VEVENT
DTSTART;TZID=America/Sao_Paulo:20260302T190000
DTEND;TZID=America/Sao_Paulo:20260316T203000
DTSTAMP:20260422T061353
CREATED:20260304T164433Z
LAST-MODIFIED:20260304T164433Z
UID:59004-1772478000-1773693000@febrapsi.org
SUMMARY:Curso: Paixão e loucura nos limites da clínica psicanalítica
DESCRIPTION:Curso: Paixão e loucura nos limites da clínica psicanalítica\n\n\nNos dias 2\, 9 e 16 de março\, das 19h às 20h30\, a Sociedade Brasileira de Psicanálise de Porto Alegre promove o curso “Paixão e loucura nos limites da clínica psicanalítica”\, em formato on-line. A atividade integra a programação da instituição por meio da Diretoria da Comunidade e Cultura\, sob coordenação de Susana Salete R. Chinazzo. \nCom base no livro “Paixão e a loucura nos limites da clínica psicanalítica”\, o curso busca percorrer os limites da loucura\, da paixão e da desorganização psíquica. Propõe uma travessia pela linguagem do pensamento louco – íntima\, desconcertante –\, exigindo do analista hospitalidade e imaginação. Explora o que desafia o manejo e a simbolização em análises marcadas por paixões extremas e medidas radicais para contê-las. \nO percurso teórico-clínico aborda situações marcadas por paixões extremas e medidas radicais utilizadas para contê-las\, explorando aquilo que desafia o manejo analítico e os processos de simbolização. Trata-se de um espaço de elaboração sobre os impasses da clínica contemporânea e sobre os limites do trabalho psicanalítico diante do excesso pulsional e do sofrimento psíquico intenso. \nO curso será ministrado por Berta Hoffmann Azevedo\, psicanalista da SBPSP\, FEBRAPSI\, FEPAL e IPA\, membro efetivo e docente da SBPSP\, mestre em Psicologia Clínica pela PUC-SP\, cocoordenadora do módulo “História da Escuta Psicanalítica” da Diretoria de Atendimento à Comunidade da SBPSP. É autora dos livros “Crise Pseudoepiléptica” e “Paixão e loucura nos limites da clínica psicanalítica”\, além de ex-editora do Jornal de Psicanálise da SBPSP e atual editora da Revista Brasileira de Psicanálise da Febrapsi. \nA atividade é destinada ao público interno e externo\, reafirmando o compromisso da SBPdePA com a formação continuada\, o aprofundamento clínico e o diálogo qualificado sobre os desafios da prática psicanalítica contemporânea.
URL:https://febrapsi.org/evento/curso-paixao-e-loucura-nos-limites-da-clinica-psicanalitica/
LOCATION:curso online
CATEGORIES:Geral
ATTACH;FMTTYPE=image/png:https://febrapsi.org/storage/2026/03/1-8.png
ORGANIZER;CN="SBPdePA":MAILTO:secretaria@sbpdepa.org.br
END:VEVENT
END:VCALENDAR