BEGIN:VCALENDAR
VERSION:2.0
PRODID:-//FEBRAPSI - ECPv6.15.20//NONSGML v1.0//EN
CALSCALE:GREGORIAN
METHOD:PUBLISH
X-WR-CALNAME:FEBRAPSI
X-ORIGINAL-URL:https://febrapsi.org
X-WR-CALDESC:Eventos para FEBRAPSI
REFRESH-INTERVAL;VALUE=DURATION:PT1H
X-Robots-Tag:noindex
X-PUBLISHED-TTL:PT1H
BEGIN:VTIMEZONE
TZID:America/Sao_Paulo
BEGIN:STANDARD
TZOFFSETFROM:-0300
TZOFFSETTO:-0300
TZNAME:-03
DTSTART:20250101T000000
END:STANDARD
END:VTIMEZONE
BEGIN:VEVENT
DTSTART;TZID=America/Sao_Paulo:20260212T110000
DTEND;TZID=America/Sao_Paulo:20260226T121500
DTSTAMP:20260420T163914
CREATED:20260126T183905Z
LAST-MODIFIED:20260324T153421Z
UID:58470-1770894000-1772108100@febrapsi.org
SUMMARY:Curso de Férias: A teoria da Sedução Generalizada de Jean Laplanche
DESCRIPTION:Nos dias 12\, 19 e 26 de fevereiro\, quintas-feiras\, das 11h às 12h15\, a Sociedade Brasileira de Psicanálise de Porto Alegre realiza o Curso de Férias SBPdePA “A teoria da Sedução Generalizada de Jean Laplanche”\, em formato on-line. A atividade integra a programação científica da instituição\, por meio da Diretoria de Comunidade e Cultura. \nO curso tem coordenação de Susana Salete R. Chinazzo e conta com a participação de Patricia Rivoire Menelli Goldfeld\, professora doutora\, psicanalista titular com função didática da SBPdePA\, como convidada. A proposta oferece um estudo aprofundado das contribuições de Jean Laplanche\, um dos mais rigorosos estudiosos da obra freudiana\, responsável pela direção do projeto de tradução de Freud para a língua francesa e por uma releitura consistente do pensamento do fundador da psicanálise. \nO eixo central da formação é a Teoria da Sedução Generalizada\, desenvolvida a partir do resgate crítico da Teoria da Sedução\, abandonada por Freud em 1897\, conforme registrado na Carta a Fliess número 69. Laplanche amplia essa formulação ao investigar os processos de constituição do psiquismo humano\, destacando a assimetria fundamental entre adulto e criança\, o papel das mensagens enigmáticas e a centralidade do sexual na formação do inconsciente. \nAo longo de três encontros\, serão discutidas as contribuições inovadoras de Laplanche para a compreensão da pulsão\, da sexualidade\, do apego e dos impasses da tradução conceitual na psicanálise\, articulando fundamentos teóricos\, metapsicologia e clínica. \n​A atividade é destinada ao público interno e externo\, incluindo profissionais de outras áreas\, reafirmando o compromisso da SBPdePA com a formação contínua\, a troca de saberes\, o diálogo interdisciplinar e o fortalecimento do pensamento psicanalítico. \n\n\n​📩 Mais informações: comunicacao@sbpdepa.org.br |   WhatsApp (51) 99251-0162 \n 
URL:https://febrapsi.org/evento/curso-de-ferias-a-teoria-da-seducao-generalizada-de-jean-laplanche/
LOCATION:curso online
CATEGORIES:Geral
ATTACH;FMTTYPE=image/png:https://febrapsi.org/storage/2026/01/1-7-4.png
ORGANIZER;CN="SBPdePA":MAILTO:secretaria@sbpdepa.org.br
END:VEVENT
BEGIN:VEVENT
DTSTART;TZID=America/Sao_Paulo:20260212T121500
DTEND;TZID=America/Sao_Paulo:20260226T133000
DTSTAMP:20260420T163914
CREATED:20260126T183906Z
LAST-MODIFIED:20260126T183906Z
UID:58478-1770898500-1772112600@febrapsi.org
SUMMARY:Curso de Férias: Curso de férias: Introdução à Psicanálise Vincular
DESCRIPTION:Nos dias 12\, 19 e 26 de fevereiro\, das 12h15 às 13h30\, a Sociedade Brasileira de Psicanálise de Porto Alegre realiza o curso de férias 2026 “Introdução à Psicanálise Vincular”\, em formato on-line\, sob coordenação de Susana Salete R. Chinazzo. A atividade integra a programação científica da instituição\, por meio da Diretoria da Comunidade e Cultura.\n\n\n​O curso tem como objetivo apresentar conceitos fundamentais da teoria da Psicanálise Vincular\, desenvolvida por Isidoro Berenstein e Janine Puget\, propondo uma ampliação dos referenciais clássicos da psicanálise. O campo da vincularidade introduz novos paradigmas ao conceber o psiquismo como um sistema aberto\, em continuidade e descontinuidade com o outro\, superando a centralidade exclusiva da dimensão intrassubjetiva. \n​Nessa perspectiva\, o psiquismo constitui-se também a partir de uma dimensão intersubjetiva\, cujo funcionamento é atravessado pela bidirecionalidade de influências entre o sujeito e os outros. Produções do outro e da cultura\, que não se encontram necessariamente homogeneizadas pelos processos de internalização\, passam a integrar o funcionamento psíquico e podem alcançar o estatuto de representação. \n​Além do conceito de intersubjetividade\, que envolve acordos e pactos inconscientes entre os sujeitos\, o curso aborda a noção de vínculo\, definida por Berenstein e Puget como o espaço do “entre dois” ou mais sujeitos. Esse espaço ocorre em presença e implica o encontro com alteridades e diferenças radicais\, capazes de produzir efeitos inéditos\, não representados previamente\, e de engendrar novas formas de subjetivação. \n​O curso será ministrado por Cynara Cezar Kopittke\, membro titular da SBPdePA\, cuja experiência clínica e teórica contribui para a qualificação do debate contemporâneo sobre a Psicanálise Vincular. \n​ A atividade é destinada ao público interno e externo\, incluindo profissionais de outras áreas\, reafirmando o compromisso da SBPdePA com a formação contínua\, a troca de saberes\, o diálogo interdisciplinar e o fortalecimento do pensamento psicanalítico. \n\n​📩 Mais informações: comunicacao@sbpdepa.org.br |   WhatsApp (51) 99251-0162
URL:https://febrapsi.org/evento/curso-de-ferias-curso-de-ferias-introducao-a-psicanalise-vincular/
LOCATION:SBPdePA\, 07 Praça Doutor Maurício Cardoso\, Porto Alegre\, RS\, 90570-010\, Brasil
CATEGORIES:Geral
ATTACH;FMTTYPE=image/png:https://febrapsi.org/storage/2026/01/1-7-5.png
ORGANIZER;CN="SBPdePA":MAILTO:secretaria@sbpdepa.org.br
END:VEVENT
END:VCALENDAR