BEGIN:VCALENDAR
VERSION:2.0
PRODID:-//FEBRAPSI - ECPv6.15.20//NONSGML v1.0//EN
CALSCALE:GREGORIAN
METHOD:PUBLISH
X-ORIGINAL-URL:https://febrapsi.org
X-WR-CALDESC:Eventos para FEBRAPSI
REFRESH-INTERVAL;VALUE=DURATION:PT1H
X-Robots-Tag:noindex
X-PUBLISHED-TTL:PT1H
BEGIN:VTIMEZONE
TZID:America/Sao_Paulo
BEGIN:STANDARD
TZOFFSETFROM:-0300
TZOFFSETTO:-0300
TZNAME:-03
DTSTART:20250101T000000
END:STANDARD
END:VTIMEZONE
BEGIN:VEVENT
DTSTART;TZID=America/Sao_Paulo:20260127T200000
DTEND;TZID=America/Sao_Paulo:20260210T211500
DTSTAMP:20260420T121317
CREATED:20260121T221113Z
LAST-MODIFIED:20260121T221113Z
UID:58439-1769544000-1770758100@febrapsi.org
SUMMARY:Curso de férias: Amizade e vida psíquica: Continuidade do ser em um tempo que passa
DESCRIPTION: Nos dias 27 de janeiro\, 3 e 10 de fevereiro\, das 20h às 21h15\, a Sociedade Brasileira de Psicanálise de Porto Alegre realiza o curso “Amizade e vida psíquica: Continuidade do ser em um tempo que passa”\, em formato on-line\, sob coordenação de Susana Salete R. Chinazzo. A atividade integra a programação científica da instituição\, por meio da Diretoria de Comunidade e Cultura. \n      O curso propõe uma reflexão psicanalítica sobre os vínculos afetivos na contemporaneidade\, marcada pela aceleração do tempo\, pela lógica da performance e pela fragilidade dos laços. Em contraste com a superficialidade das conexões e a cultura da visibilidade\, a proposta aborda a amizade como espaço transicional\, no qual o sujeito pode existir com espontaneidade\, autenticidade e criatividade na presença do outro. \n\n\n    Ao longo de três encontros\, serão discutidas as articulações entre amizade\, tempo e vida psíquica\, compreendendo a amizade não como resposta à carência\, mas como possibilidade de partilhar o mundo sem abdicar da singularidade. A partir dessa perspectiva\, o curso investiga como vínculos genuínos sustentam o self verdadeiro\, contribuem para a saúde emocional e funcionam como forma de resistência ética ao esvaziamento afetivo característico do tempo presente. \n​     Participam da programação Samantha Dubugras Sá e Gley Silva de Pacheco Costa\, cujas contribuições ampliam o debate teórico-clínico a partir de suas experiências na psicanálise. \nA atividade é destinada ao público interno e externo da área psi\, reafirmando o compromisso da SBPdePA com a formação contínua\, a troca de saberes e o fortalecimento do pensamento psicanalítico. \n\n\nPara mais informações\, entre em contato pelo e-mail:  comunicacao@sbpdepa.org.br ou pelo WhatsApp (51) 99251-0162.\n  \n\n   \n\nEsta atividade será gravada! \nAs imagens e gravações poderão ser publicadas e/ou postadas nas nossas redes. Solicitamos que as pessoas que não queiram que sua imagem apareça\, permaneçam com suas câmeras desligadas durante toda a atividade
URL:https://febrapsi.org/evento/curso-de-ferias-amizade-e-vida-psiquica-continuidade-do-ser-em-um-tempo-que-passa/
LOCATION:curso online
CATEGORIES:Geral
ATTACH;FMTTYPE=image/png:https://febrapsi.org/storage/2026/01/1-7-2.png
ORGANIZER;CN="SBPdePA":MAILTO:secretaria@sbpdepa.org.br
END:VEVENT
BEGIN:VEVENT
DTSTART;TZID=America/Sao_Paulo:20260204T101500
DTEND;TZID=America/Sao_Paulo:20260211T114500
DTSTAMP:20260420T121317
CREATED:20260126T183905Z
LAST-MODIFIED:20260126T183905Z
UID:58468-1770200100-1770810300@febrapsi.org
SUMMARY:Curso de férias: Psicanálise X Psicoterapia: O Desejo do Analista como Diferencial Ético
DESCRIPTION:Nos dias 4 e 11 de fevereiro\, das 10h15 às 11h45\, a Sociedade Brasileira de Psicanálise de Porto Alegre realiza a atividade científica “Psicanálise x Psicoterapia: O Desejo do Analista como Diferencial Ético”\, em formato on-line. A atividade integra a programação da instituição por meio da Diretoria de Comunidade e Cultura\, sob coordenação de Susana Salete R. Chinazzo. \nEm um cenário marcado pela multiplicação de ofertas terapêuticas\, o evento propõe esclarecer a especificidade da prática psicanalítica\, frequentemente confundida com abordagens de acolhimento ou aconselhamento. A psicanálise exige uma posição singular de escuta\, orientada não pela busca de cura idealizada\, mas pela emergência da verdade do sujeito. \n​A atividade destaca que uma análise não visa a adaptação à realidade nem o simples alívio de sintomas\, mas a responsabilização pelo desejo. Nesse sentido\, reafirma-se que a formação do analista não se reduz ao acúmulo de saber teórico\, implicando uma transformação ética capaz de sustentar o “não-saber” próprio da prática analítica. \n​O encontro abordará as fronteiras entre Psicanálise e Psicoterapia a partir dos fundamentos da técnica freudiana e da subversão lacaniana\, discutindo os deslocamentos que ocorrem quando o analista cede à demanda do paciente por meio de sugestão\, apoio ou pedagogia. \n​A atividade será ministrada por Júlio Sperb\, psicanalista\, Membro Associado da SBPdePA e da IPA\, e é destinada ao público interno e externo\, incluindo profissionais de outras áreas\, reafirmando o compromisso da SBPdePA com a formação contínua\, a troca de saberes\, o diálogo interdisciplinar e o fortalecimento do pensamento psicanalítico. \n\n📩 Mais informações: comunicacao@sbpdepa.org.br | WhatsApp (51) 99251-0162\n  
URL:https://febrapsi.org/evento/curso-de-ferias-psicanalise-x-psicoterapia-o-desejo-do-analista-como-diferencial-etico/
LOCATION:curso online
CATEGORIES:Geral
ATTACH;FMTTYPE=image/png:https://febrapsi.org/storage/2026/01/1-7-3.png
ORGANIZER;CN="SBPdePA":MAILTO:secretaria@sbpdepa.org.br
END:VEVENT
END:VCALENDAR