BEGIN:VCALENDAR
VERSION:2.0
PRODID:-//FEBRAPSI - ECPv6.15.20//NONSGML v1.0//EN
CALSCALE:GREGORIAN
METHOD:PUBLISH
X-ORIGINAL-URL:https://febrapsi.org
X-WR-CALDESC:Eventos para FEBRAPSI
REFRESH-INTERVAL;VALUE=DURATION:PT1H
X-Robots-Tag:noindex
X-PUBLISHED-TTL:PT1H
BEGIN:VTIMEZONE
TZID:America/Sao_Paulo
BEGIN:STANDARD
TZOFFSETFROM:-0300
TZOFFSETTO:-0300
TZNAME:-03
DTSTART:20240101T000000
END:STANDARD
END:VTIMEZONE
BEGIN:VEVENT
DTSTART;TZID=America/Sao_Paulo:20250329T090000
DTEND;TZID=America/Sao_Paulo:20251129T110000
DTSTAMP:20260422T134527
CREATED:20250209T010155Z
LAST-MODIFIED:20250209T010155Z
UID:53261-1743238800-1764414000@febrapsi.org
SUMMARY:DIÁLOGOS PSICANALÍTICOS: Desafios da Clínica Contemporânea
DESCRIPTION:OBJETIVOS DO CURSO:\nAs mudanças climáticas\, as ondas migratórias\, a diversidade sexual\, as novas tecnologias e suas implicações\, as guerras e a violência entre as pessoas impactam nossa vida\, impondo novas formas de sofrimento. Tempos difíceis onde se faz necessário refletir. Como manejar essas novas formas de sofrimento? Como afinar nossa escuta psicanalítica para a complexidade do nosso tempo? Edgar Morin\, filósofo francês\, oferece uma abertura ao propor que “a complexidade é um tecido (do latim complexus: o que é tecido junto) de constituintes heterogêneas inseparavelmente associadas: ela coloca o paradoxo do uno e do múltiplo”.É nessa via uno↔múltiplo que nosso curso vai transitar\, com o objetivo de compreender a multidimensionalidade das realidades e as interações daí resultantes\, contando com psicanalistas que sustentam diferentes pontos de vista.\n \nCALENDÁRIO DE ENCONTROS:\n29 | MARÇO (Encontro híbrido)\nDesafios da clínica contemporânea:\nConferencista: Fernando Urribarri.\nInterlocutora: Lídia Queiroz S. Magnino.\nCoordenadora: Silvana Bressan.\n \n26 | ABRIL (Encontro On-line)\nDesafios da Clínica Contemporânea: Ruptura de campo – sobre o solo comum das psicanálises.\nConferencistas: Luciana Saddi e Luiz Moreno.\nCoordenadora: Maria Lúcia Romera.\n \n10 | MAIO (Encontro On-line)\nDesafios da Clínica Contemporânea.\nConferencistas: José Cesário Francisco Jr. e \nLuiz Carlos Uchôa Junqueira Filho.\nCoordenador: Fauzi Palis Jr.\n \n07 | JUNHO (Encontro On-line)\nEnactment e a microscopia da sessão Analítica: o pensamento de Cassorla e os desafios da clínica contemporânea.\nConferencista: Ana Clara Duarte Gavião.\nInterlocutora: Ana Patrícia Rosa Ribeiro.\nCoordenadora: Benedita de Lourdes C. Rodrigues.\n \n30 | AGOSTO (Encontro híbrido)\nO desenvolvimento da Sexualidade: a diversidade sexual no percurso do desejo.\nConferencistas: Jurenice Picado Álvares e \nRodrigo Lage Leite.\nCoordenadora: Maria das Dores B. Ferreira.\n \n27 | SETEMBRO (Encontro On-line)\nEnvelhecer saudavelmente: estímulo ou desafio para a clínica atual?\nConferencista: Cibele M. Di Battista Brandão.\nInterlocutora: Glaucia Maria Ferreira Furtado.\nCoordenadora: Cássia R. G. Fernandes.\n \n18 | OUTUBRO (Encontro On-line)\nDesafios da clínica da criança e do adolescente na contemporaneidade.\nConferencistas: Maria Cecília P. da Silva e \nHelena Cunha Di Cíero.\nCoordenadora: Maria Angélica Braga e Alves.\n \n29 | NOVEMBRO (Encontro híbrido)\nA problemática das figuras superegoicas nas patologias contemporâneas.\nConferencista: Luís Cláudio Figueiredo.\nInterlocutora: Maria Luiza Lana Mattos Salomão.\nCoordenadora: Suzana Ponciano Pinheiro de Mattos.\n \nINVESTIMENTO:\nAula individual: R$ 195\,00\nCurso completo: R$ 1.344\,00\n10% de cotas para profissionais e estudantes negros\, indígenas e refugiados.
URL:https://febrapsi.org/evento/dialogos-psicanaliticos-desafios-da-clinica-contemporanea/
CATEGORIES:Geral
ATTACH;FMTTYPE=image/png:https://febrapsi.org/storage/2025/02/CARTAZ_DIALOGOS_2025.png
ORGANIZER;CN="SBPSP":MAILTO:contato@sbpsp.org.br
END:VEVENT
BEGIN:VEVENT
DTSTART;TZID=America/Sao_Paulo:20250702T080000
DTEND;TZID=America/Sao_Paulo:20251215T170000
DTSTAMP:20260422T134527
CREATED:20250704T023710Z
LAST-MODIFIED:20250704T023710Z
UID:55862-1751443200-1765818000@febrapsi.org
SUMMARY:Grupos de Estudos para a Comunidade: Inscrições abertas para os Grupos de Estudos 2º semestre de 2025
DESCRIPTION:Grupos de Estudos para a Comunidade:Inscrições abertas para os Grupos de Estudos 2º semestre de 2025\n\n\nOito grupos com programação diversificada oferecem à comunidade um espaço de aprofundamento teórico e reflexões clínicas sobre os fundamentos da psicanálise. Com foco em incentivar a formação continuada\, esses grupos promovem leituras e discussões qualificadas sobre diferentes autores e temáticas\, sendo organizados semestralmente conforme as áreas de interesse. \nSob a organização da Diretoria de Comunidade e Cultura – Área de Transmissão da Psicanálise – os encontros são semanais ou quinzenais\, conforme os coordenadores. \nInteressados de outras áreas podem verificar a possibilidade de participação diretamente na secretaria. \n   
URL:https://febrapsi.org/evento/grupos-de-estudos-para-a-comunidade-inscricoes-abertas-para-os-grupos-de-estudos-2o-semestre-de-2025/
LOCATION:curso online
CATEGORIES:Geral
ATTACH;FMTTYPE=image/png:https://febrapsi.org/storage/2025/07/2-1.png
ORGANIZER;CN="SBPdePA":MAILTO:secretaria@sbpdepa.org.br
END:VEVENT
BEGIN:VEVENT
DTSTART;TZID=America/Sao_Paulo:20250807T200000
DTEND;TZID=America/Sao_Paulo:20251004T213000
DTSTAMP:20260422T134527
CREATED:20250625T132634Z
LAST-MODIFIED:20250625T132634Z
UID:55755-1754596800-1759613400@febrapsi.org
SUMMARY:CURSO: A CESURA - O FUTURO DA TRANSFERÊNCIA
DESCRIPTION:CURSO: A CESURA – O FUTURO DA TRANSFERÊNCIA \nDias: Primeira quinta-feira do mês \nHoráiro: 20h \nSerão 10 aulas a partir de agosto 2025
URL:https://febrapsi.org/evento/curso-a-cesura-o-futuro-da-transferencia/
LOCATION:curso online
CATEGORIES:Geral
ATTACH;FMTTYPE=image/jpeg:https://febrapsi.org/storage/2025/06/Curso-A-CESURA-O-FUTURO-DA-TRANSFERENCIA.jpeg
ORGANIZER;CN="SPRJ":MAILTO:sprj.rio1@sprj.org.br
END:VEVENT
BEGIN:VEVENT
DTSTART;TZID=America/Sao_Paulo:20250902T180000
DTEND;TZID=America/Sao_Paulo:20251021T190000
DTSTAMP:20260422T134527
CREATED:20250714T184224Z
LAST-MODIFIED:20250714T184224Z
UID:55908-1756836000-1761073200@febrapsi.org
SUMMARY:CICLO DE ESTUDOS: “Melanie Klein: as origens dos objetos e a construção do mundo interno”
DESCRIPTION:CICLO DE ESTUDOS ONLINE SOBRE TEORIA PSICANALÍTICA 2025\nDestinado a acadêmicos e profissionais de medicina e psicologia\n \n\n\n“Melanie Klein: as origens dos objetos e a construção do mundo interno”\n \n\n\nTerças-feiras\, de 02/09 a 21/10\nHorário: 18h às 19h\n \n\n\nCoordenador:\nPaulo Oscar Teitelbaum\nMédico\, Psiquiatra\, Psicanalista e Membro Associado da SPPA\n \n\n\nInscrição antecipada:\nhttps://forms.gle/bhQmRo3u3zPZ1sbDA\n \n\n\nInvestimento Total\nEstudantes de Graduação: R$ 320\,00\nProfissionais: R$ 640\,00\n(até 3x no cartão de crédito)\n \n\n\nPlataforma: Google Meet\nEncontros: 8\nVagas: 15 alunos\n\n\n 
URL:https://febrapsi.org/evento/ciclo-de-estudos-melanie-klein-as-origens-dos-objetos-e-a-construcao-do-mundo-interno/
LOCATION:Online – Plataforma Google Meet
CATEGORIES:Geral
ATTACH;FMTTYPE=image/jpeg:https://febrapsi.org/storage/2025/07/2025-09-02-Ciclo-Melanie.jpg
ORGANIZER;CN="SPPA":MAILTO:sppa@sppa.org.br
END:VEVENT
BEGIN:VEVENT
DTSTART;TZID=America/Sao_Paulo:20251001T080000
DTEND;TZID=America/Sao_Paulo:20251029T170000
DTSTAMP:20260422T134527
CREATED:20250916T134943Z
LAST-MODIFIED:20250916T134943Z
UID:56340-1759305600-1761757200@febrapsi.org
SUMMARY:Curso online: O Envelhecer sob o olhar da psicanálise
DESCRIPTION:Nas quartas-feiras de outubro\, a SBPdePA\, por meio da Diretoria de Comunidade e Cultura\, promove um curso on-line que convida a refletir sobre o envelhecimento na contemporaneidade\, sob a perspectiva da psicanálise. Especialistas renomados compartilharão suas experiências e reflexões sobre o cuidado clínico e os desafios emocionais na vida adulta madura.  \nConvidados: \n\nClaudia Spieker Azevedo – Psicóloga e psicanalista\, membro associado do CEPDEPA\, especialista em psicoterapia de Adultos Maduros (GAPP).\n\nAbrão Slavutzky – Médico\, psiquiatra e psicanalista (BA). Autor dos livros Humor é coisa séria (Prêmio Açorianos de Humanidades)\, Quem pensas tu que eu sou? e Imaginar o amanhã.\n\nGley Pacheco Costa – Médico\, psiquiatra e psicanalista\, membro da IPA\, FEPAL e FEBRAPSI\, Membro Titular\, Didata e fundador da SBPDEPA. Escritor.\n\nRovena Tavares Gazola – Psicóloga e psicanalista\, Membro Titular com Função Didática da SBPDEPA e membro do CEPDEPA.\n\nAna Cassia Fruett – Psicóloga\, psicanalista\, professora de pós-graduação\, doutora em Psicologia e mestre em Patologias do Desvalimento pela UCES de Buenos Aires. Escritora dos livros Longeviver (2015)\, Masculinidade em cena (2022) e Sobre casais – lições breves (2025).\n\nCoordenação: Rosa B. Santoro Squeff\, Membro Titular e Didata da SBPdePA e diretora de Comunidade e Cultura. \nLembrando que\, ao se inscrever\, você recebe acesso a todas as gravações e pode assistir quando quiser. As aulas ficam disponíveis até um mês após o encerramento do curso.  \nPara mais informações\, entre em contato pelo e-mail comunicacao@sbpdepa.org.br ou pelo WhatsApp (51) 99251-0162. Inscrições pelo site sbpdepa.org.br \n 
URL:https://febrapsi.org/evento/curso-online-o-envelhecer-sob-o-olhar-da-psicanalise/
LOCATION:curso online
CATEGORIES:Geral
ATTACH;FMTTYPE=image/png:https://febrapsi.org/storage/2025/09/Card-1-envelhecer.png
ORGANIZER;CN="SBPdePA":MAILTO:secretaria@sbpdepa.org.br
END:VEVENT
BEGIN:VEVENT
DTSTART;TZID=America/Sao_Paulo:20251004T090000
DTEND;TZID=America/Sao_Paulo:20251004T120000
DTSTAMP:20260422T134527
CREATED:20250916T135000Z
LAST-MODIFIED:20260126T185053Z
UID:56326-1759568400-1759579200@febrapsi.org
SUMMARY:Inscrições abertas - Estudo sobre a obra de Clarice Lispector
DESCRIPTION:Curso de Extensão – Diretoria Científica da SPBsb \nInício: 4 de outubro de 2025 – sempre nos primeiros sábados do mês\nDuração: 1 ano\nHorário: 9h às 12h\nOn-line Google Meet \nPúblico alvo: leitores e/ou interessados na obra de Clarice Lispector \nDuração: 1 ano \nInvestimento mensal:\nR$ 250\,00 por mês – profissionais\nR$ 170\,00 – Estudantes\, professores\, negros e pardos \nCoordenação: Carlos de Almeida Vieira – Psiquiatra e psicanalista\, é membro e analista didata da Sociedade de Psicanálise de Brasília (SPBsb)\, membro efetivo da Sociedade Brasileira de Psicanálise de São Paulo (SBPSP) e professor titular dos institutos de psicanálise dessas sociedades. Também é membro da International Psychoanalytical Association (IPA)\, da Federação Brasileira de Psicanálise (Febrapsi) e da Federação de Psicanálise da América Latina (Fepal). Atualmente\, assina a coluna “Psicanálise da Vida Cotidiana” no Jornal de Brasília. É autor dos livros Psicanálise da Vida Cotidiana\, O Olhar do Psicanalista e Clarice em Improviso: entre palavras e psicanálise. \nObjetivos:\nO curso vai se dedicar ao estudo da obra de Clarice Lispector\, com a finalidade de ler\, estudar e fazer um link com a Psicanálise\, a crítica literária e os aspectos filosóficos da obra.\nO curso pretende estudar a obra de Clarice\, incluindo crônicas\, contos\, cartas e romances. \nPrograma para o primeiro semestre: \n1. Introdução à obra de Clarice. Dados biográficos\, questões da autora dentro da Literatura Universal e Brasileira. Correlações com outras disciplinas e um pequeno zoom da obra da autora. \n2. Estudo dos contos\n– “O Amor”; “O Búfalo”. Bibliografia: Laços de Família\, Ed. Rocco de 2019.\n– “Os desastres de Sofia”\, e “Os Obedientes”. Bibliografia: Clarice Lispector – Todos os Contos. Ed. Rocco\, 2016. \n3. “A contribuição de Clarice Lispector aos psicanalistas” – artigo de Carlos de Almeida Vieira\, Reviste IDE\, junho de 24 – Sociedade de Psicanálise de São Paulo. \nBibliografia suplementar: \na) Clarice uma vida que se conta – Nádia B. Gotlib –Editora Ed. USP\, 2009.\nb) As crianças de Clarice – Mell Brites.\nc) Os tempos da escrita na obra de Clarice Lispector – Luciana Brandão Carreira – Ed. Cia de Freud\, 2014.\nd) Clarice Lispector – Yudith Rosenbaum – Editora Publifolha\, 2002.\ne) Clarice Lispector – Figuras da Escrita – Carlos Mendes de Sousa\, Instituto Moreira Sales\, 2011.\nf) Clarice em Improviso – Entre palavras e psicanálise. Carlos Vieira. Editora Uiclap\, 2025. \nMínimo de 15 alunos para formar turma. \nInscrições: clique aqui \n\n \n\n\n\n\n\n\n\n\n\n\n\n\n\n\n\n\n\n\n\n\n\n\n\n\n\n 
URL:https://febrapsi.org/evento/inscricoes-abertas-estudo-sobre-a-obra-de-clarice-lispector/
LOCATION:curso online
CATEGORIES:Geral
ATTACH;FMTTYPE=image/jpeg:https://febrapsi.org/storage/2025/09/cartaz.jpeg
ORGANIZER;CN="SPBsb":MAILTO:spbsb@spbsb.org.br
END:VEVENT
BEGIN:VEVENT
DTSTART;TZID=America/Sao_Paulo:20251004T100000
DTEND;TZID=America/Sao_Paulo:20251004T120000
DTSTAMP:20260422T134527
CREATED:20250916T134942Z
LAST-MODIFIED:20250916T134942Z
UID:56328-1759572000-1759579200@febrapsi.org
SUMMARY:REALIDADES - O JOGO DO REAL: CENAS DA FICÇÃO REALISTA
DESCRIPTION:“Samuel Titan Junior comenta cenas escolhidas de contos e romances a fim de discutir as noções de ficção\, mimese e realidade na prosa realista do século XIX.”\n \nSAMUEL TITAN JUNIOR\nTradutor\, Professor de Literatura Comparada na FFLCH \nda Universidade de São Paulo\n \nCoordenação:\nRaya Angel Zonana \nDiretora Científica SBPSP\n\nsábado\, 04 de outubro de 2025 \ndas 10h às 12h – Evento híbrido\n \nAv. Dr. Cardoso de Melo\, 1450\, 1º andar\, Auditório SBPSP\, Vila Olímpia\, São Paulo / SP\n \nMembros SBPSP / FEBRAPSI / FEPAL / IPA: Sem ônus\nProfissionais: R$ 150\,00\nEstudantes de Graduação / alunos dos cursos da DAC \nProfissionais da rede pública: R$ 75\,00\n10% das vagas reservadas para profissionais negros\, indígenas e refugiados.
URL:https://febrapsi.org/evento/realidades-o-jogo-do-real-cenas-da-ficcao-realista/
LOCATION:Sede SBPSP\, Av. Dr. Cardoso de Melo\, 1450\, 9ª andar\, São Paulo\, São Paulo\, 04548005\, Brasil
CATEGORIES:Geral
ATTACH;FMTTYPE=image/png:https://febrapsi.org/storage/2025/09/REALIDADES-SAMUEL-TITAN.png
ORGANIZER;CN="SBPSP":MAILTO:contato@sbpsp.org.br
END:VEVENT
BEGIN:VEVENT
DTSTART;TZID=America/Sao_Paulo:20251004T150000
DTEND;TZID=America/Sao_Paulo:20251004T170000
DTSTAMP:20260422T134527
CREATED:20250716T190851Z
LAST-MODIFIED:20250716T190851Z
UID:55955-1759590000-1759597200@febrapsi.org
SUMMARY:CINE DEBATE: Filme CASTELO DE VIDRO
DESCRIPTION:Filme: Castelo de vidro\nDisponível na Prime Video\n \n\nComentadora: \nJOSIANE RUIZ \nmembro filiado SBPSP \nCoordenadora: \nMARIA ANGELICA AMORIELLO BONGIOVANI\nmembro efetivo SBPSP\, representante da Seção Regional de Presidente Prudente \nLocal: \nCASA DO MÉDICO\nRua Napoleão Antunes Homem\, 432\, Jardim Marupiara\, Presidente Prudente / SP. \nEVENTO ORGANIZADO PELA SEÇÃO REGIONAL DE PRESIDENTE PRUDENTE\, \n100% GRATUITO E PRESENCIAL. \n\n \nNÃO HAVERÁ EXIBIÇÃO DO FILME NO LOCAL
URL:https://febrapsi.org/evento/cine-debate-filme-castelo-de-vidro/
LOCATION:CASA DO MÉDICO Rua Napoleão Antunes Homem\, 432\, Jardim Marupiara\, Presidente Prudente / SP.
CATEGORIES:Geral
ATTACH;FMTTYPE=image/png:https://febrapsi.org/storage/2025/07/CASTELO-DE-VIDRO.png
ORGANIZER;CN="SBPSP":MAILTO:contato@sbpsp.org.br
END:VEVENT
BEGIN:VEVENT
DTSTART;TZID=America/Sao_Paulo:20251004T173000
DTEND;TZID=America/Sao_Paulo:20251004T190000
DTSTAMP:20260422T134527
CREATED:20250923T005643Z
LAST-MODIFIED:20251002T140053Z
UID:56401-1759599000-1759604400@febrapsi.org
SUMMARY:Documentário Bruxas será debatido no GEP Marília e Região
DESCRIPTION:Cine Debate de outubro no GEP Marília e região: Documentário “Bruxas”\nBruxas é um documentário revelador que mergulha nas conexões inesperadas\, porém poderosas\, entre a saúde mental pós-parto e as figuras de marginalização e poder denominadas como bruxas.  Desafiando estigmas e reimaginando o poder feminino.\n \nEssa intrigante exibição será comentada por Any Trajber Waisbich – psicóloga formada pela PUC/SP\, membro efetivo da SBPSP\, professora e supervisora de análise de grupo no CEP – Centro de Estudos Psicanalíticos. Coordenadora de seminários e desenvolve atendimento grupal institucional junto à Diretoria de Atendimento à Comunidade. Integrante da equipe editorial do Jornal de Psicanálise e da revista IDE. \n \nEVENTO GRATUITO\nDia 04/10/2025\n16h – Exibição do filme presencial na sede do GEP\n17h45 – Início do debate em formato híbrido (via zoom ao vivo)\nTransmissão do debate via Zoom: ID da reunião: 821 6230 6650 | Senha: 401147\nInformações adicionais: (14) 99614 6782\n\n 
URL:https://febrapsi.org/evento/documentario-bruxas-sera-debatido-no-gep-marilia-e-regiao/
CATEGORIES:Geral
ATTACH;FMTTYPE=image/jpeg:https://febrapsi.org/storage/2025/09/WhatsApp-Image-2025-09-17-at-12.45.53.jpeg
END:VEVENT
END:VCALENDAR