BEGIN:VCALENDAR
VERSION:2.0
PRODID:-//FEBRAPSI - ECPv6.15.20//NONSGML v1.0//EN
CALSCALE:GREGORIAN
METHOD:PUBLISH
X-WR-CALNAME:FEBRAPSI
X-ORIGINAL-URL:https://febrapsi.org
X-WR-CALDESC:Eventos para FEBRAPSI
REFRESH-INTERVAL;VALUE=DURATION:PT1H
X-Robots-Tag:noindex
X-PUBLISHED-TTL:PT1H
BEGIN:VTIMEZONE
TZID:America/Sao_Paulo
BEGIN:STANDARD
TZOFFSETFROM:-0300
TZOFFSETTO:-0300
TZNAME:-03
DTSTART:20240101T000000
END:STANDARD
END:VTIMEZONE
BEGIN:VEVENT
DTSTART;TZID=America/Sao_Paulo:20250329T090000
DTEND;TZID=America/Sao_Paulo:20251129T110000
DTSTAMP:20260422T152230
CREATED:20250209T010155Z
LAST-MODIFIED:20250209T010155Z
UID:53261-1743238800-1764414000@febrapsi.org
SUMMARY:DIÁLOGOS PSICANALÍTICOS: Desafios da Clínica Contemporânea
DESCRIPTION:OBJETIVOS DO CURSO:\nAs mudanças climáticas\, as ondas migratórias\, a diversidade sexual\, as novas tecnologias e suas implicações\, as guerras e a violência entre as pessoas impactam nossa vida\, impondo novas formas de sofrimento. Tempos difíceis onde se faz necessário refletir. Como manejar essas novas formas de sofrimento? Como afinar nossa escuta psicanalítica para a complexidade do nosso tempo? Edgar Morin\, filósofo francês\, oferece uma abertura ao propor que “a complexidade é um tecido (do latim complexus: o que é tecido junto) de constituintes heterogêneas inseparavelmente associadas: ela coloca o paradoxo do uno e do múltiplo”.É nessa via uno↔múltiplo que nosso curso vai transitar\, com o objetivo de compreender a multidimensionalidade das realidades e as interações daí resultantes\, contando com psicanalistas que sustentam diferentes pontos de vista.\n \nCALENDÁRIO DE ENCONTROS:\n29 | MARÇO (Encontro híbrido)\nDesafios da clínica contemporânea:\nConferencista: Fernando Urribarri.\nInterlocutora: Lídia Queiroz S. Magnino.\nCoordenadora: Silvana Bressan.\n \n26 | ABRIL (Encontro On-line)\nDesafios da Clínica Contemporânea: Ruptura de campo – sobre o solo comum das psicanálises.\nConferencistas: Luciana Saddi e Luiz Moreno.\nCoordenadora: Maria Lúcia Romera.\n \n10 | MAIO (Encontro On-line)\nDesafios da Clínica Contemporânea.\nConferencistas: José Cesário Francisco Jr. e \nLuiz Carlos Uchôa Junqueira Filho.\nCoordenador: Fauzi Palis Jr.\n \n07 | JUNHO (Encontro On-line)\nEnactment e a microscopia da sessão Analítica: o pensamento de Cassorla e os desafios da clínica contemporânea.\nConferencista: Ana Clara Duarte Gavião.\nInterlocutora: Ana Patrícia Rosa Ribeiro.\nCoordenadora: Benedita de Lourdes C. Rodrigues.\n \n30 | AGOSTO (Encontro híbrido)\nO desenvolvimento da Sexualidade: a diversidade sexual no percurso do desejo.\nConferencistas: Jurenice Picado Álvares e \nRodrigo Lage Leite.\nCoordenadora: Maria das Dores B. Ferreira.\n \n27 | SETEMBRO (Encontro On-line)\nEnvelhecer saudavelmente: estímulo ou desafio para a clínica atual?\nConferencista: Cibele M. Di Battista Brandão.\nInterlocutora: Glaucia Maria Ferreira Furtado.\nCoordenadora: Cássia R. G. Fernandes.\n \n18 | OUTUBRO (Encontro On-line)\nDesafios da clínica da criança e do adolescente na contemporaneidade.\nConferencistas: Maria Cecília P. da Silva e \nHelena Cunha Di Cíero.\nCoordenadora: Maria Angélica Braga e Alves.\n \n29 | NOVEMBRO (Encontro híbrido)\nA problemática das figuras superegoicas nas patologias contemporâneas.\nConferencista: Luís Cláudio Figueiredo.\nInterlocutora: Maria Luiza Lana Mattos Salomão.\nCoordenadora: Suzana Ponciano Pinheiro de Mattos.\n \nINVESTIMENTO:\nAula individual: R$ 195\,00\nCurso completo: R$ 1.344\,00\n10% de cotas para profissionais e estudantes negros\, indígenas e refugiados.
URL:https://febrapsi.org/evento/dialogos-psicanaliticos-desafios-da-clinica-contemporanea/
CATEGORIES:Geral
ATTACH;FMTTYPE=image/png:https://febrapsi.org/storage/2025/02/CARTAZ_DIALOGOS_2025.png
ORGANIZER;CN="SBPSP":MAILTO:contato@sbpsp.org.br
END:VEVENT
BEGIN:VEVENT
DTSTART;TZID=America/Sao_Paulo:20250603T200000
DTEND;TZID=America/Sao_Paulo:20250909T213000
DTSTAMP:20260422T152230
CREATED:20250516T134040Z
LAST-MODIFIED:20250516T134040Z
UID:55506-1748980800-1757453400@febrapsi.org
SUMMARY:Curso Online: Psicanálise\, palavras\, autores e livros
DESCRIPTION:Curso Online: Psicanálise\, palavras\, autores e livros\n\n\nCurso com frequência semanal  de junho a setembro |  20h \n  \n\n\nA Sociedade Brasileira de Psicanálise de Porto Alegre (SBPdePA)\, por meio da sua Diretoria de Comunidade e Cultura\, convida para o curso “Psicanálise\, palavras\, autores e livros”\, que acontecerá nas terças-feiras\, às 20h\, de junho a setembro de 2025\, em formato on-line. \n\n\nCom participação de membros da SBPdePA e de outras instituições\, os encontros abordarão temas que atravessam a psicanálise e a literatura\, explorando suas interfaces com a criação\, o desejo\, os conflitos\, a escuta\, a subjetividade e a linguagem. \nA escrita sempre foi um dos principais caminhos de transmissão do pensamento psicanalítico. Freud\, inclusive\, recebeu o Prêmio Goethe em 1930 pelo impacto de sua obra. Assim\, este curso reafirma o compromisso da SBPdePA com a promoção da cultura e da psicanálise em diálogo com a arte\, os livros e a palavra. \nEsta iniciativa integra as ações da Comissão de Comunidade e Cultura\, composta por Gabriela Alves Morsch\, Helena Surreaux\, Luciana Schmal\, Kellen Gurgel Anchieta\, Paula Sarmento Leite\, Vera Hartmann e Vera Regina Cardoni. A Diretora da Comunidade e Cultura é Rosa Beatriz Santoro Squeff. \n​ \n​Informações: comunicacao@sbpdepa.org.br
URL:https://febrapsi.org/evento/curso-online-psicanalise-palavras-autores-e-livros/
LOCATION:curso online
CATEGORIES:Geral
ATTACH;FMTTYPE=image/png:https://febrapsi.org/storage/2025/05/9.png
ORGANIZER;CN="SBPdePA":MAILTO:secretaria@sbpdepa.org.br
END:VEVENT
BEGIN:VEVENT
DTSTART;TZID=America/Sao_Paulo:20250702T080000
DTEND;TZID=America/Sao_Paulo:20251215T170000
DTSTAMP:20260422T152230
CREATED:20250704T023710Z
LAST-MODIFIED:20250704T023710Z
UID:55862-1751443200-1765818000@febrapsi.org
SUMMARY:Grupos de Estudos para a Comunidade: Inscrições abertas para os Grupos de Estudos 2º semestre de 2025
DESCRIPTION:Grupos de Estudos para a Comunidade:Inscrições abertas para os Grupos de Estudos 2º semestre de 2025\n\n\nOito grupos com programação diversificada oferecem à comunidade um espaço de aprofundamento teórico e reflexões clínicas sobre os fundamentos da psicanálise. Com foco em incentivar a formação continuada\, esses grupos promovem leituras e discussões qualificadas sobre diferentes autores e temáticas\, sendo organizados semestralmente conforme as áreas de interesse. \nSob a organização da Diretoria de Comunidade e Cultura – Área de Transmissão da Psicanálise – os encontros são semanais ou quinzenais\, conforme os coordenadores. \nInteressados de outras áreas podem verificar a possibilidade de participação diretamente na secretaria. \n   
URL:https://febrapsi.org/evento/grupos-de-estudos-para-a-comunidade-inscricoes-abertas-para-os-grupos-de-estudos-2o-semestre-de-2025/
LOCATION:curso online
CATEGORIES:Geral
ATTACH;FMTTYPE=image/png:https://febrapsi.org/storage/2025/07/2-1.png
ORGANIZER;CN="SBPdePA":MAILTO:secretaria@sbpdepa.org.br
END:VEVENT
BEGIN:VEVENT
DTSTART;TZID=America/Sao_Paulo:20250807T200000
DTEND;TZID=America/Sao_Paulo:20251004T213000
DTSTAMP:20260422T152231
CREATED:20250625T132634Z
LAST-MODIFIED:20250625T132634Z
UID:55755-1754596800-1759613400@febrapsi.org
SUMMARY:CURSO: A CESURA - O FUTURO DA TRANSFERÊNCIA
DESCRIPTION:CURSO: A CESURA – O FUTURO DA TRANSFERÊNCIA \nDias: Primeira quinta-feira do mês \nHoráiro: 20h \nSerão 10 aulas a partir de agosto 2025
URL:https://febrapsi.org/evento/curso-a-cesura-o-futuro-da-transferencia/
LOCATION:curso online
CATEGORIES:Geral
ATTACH;FMTTYPE=image/jpeg:https://febrapsi.org/storage/2025/06/Curso-A-CESURA-O-FUTURO-DA-TRANSFERENCIA.jpeg
ORGANIZER;CN="SPRJ":MAILTO:sprj.rio1@sprj.org.br
END:VEVENT
BEGIN:VEVENT
DTSTART;TZID=America/Sao_Paulo:20250902T180000
DTEND;TZID=America/Sao_Paulo:20251021T190000
DTSTAMP:20260422T152231
CREATED:20250714T184224Z
LAST-MODIFIED:20250714T184224Z
UID:55908-1756836000-1761073200@febrapsi.org
SUMMARY:CICLO DE ESTUDOS: “Melanie Klein: as origens dos objetos e a construção do mundo interno”
DESCRIPTION:CICLO DE ESTUDOS ONLINE SOBRE TEORIA PSICANALÍTICA 2025\nDestinado a acadêmicos e profissionais de medicina e psicologia\n \n\n\n“Melanie Klein: as origens dos objetos e a construção do mundo interno”\n \n\n\nTerças-feiras\, de 02/09 a 21/10\nHorário: 18h às 19h\n \n\n\nCoordenador:\nPaulo Oscar Teitelbaum\nMédico\, Psiquiatra\, Psicanalista e Membro Associado da SPPA\n \n\n\nInscrição antecipada:\nhttps://forms.gle/bhQmRo3u3zPZ1sbDA\n \n\n\nInvestimento Total\nEstudantes de Graduação: R$ 320\,00\nProfissionais: R$ 640\,00\n(até 3x no cartão de crédito)\n \n\n\nPlataforma: Google Meet\nEncontros: 8\nVagas: 15 alunos\n\n\n 
URL:https://febrapsi.org/evento/ciclo-de-estudos-melanie-klein-as-origens-dos-objetos-e-a-construcao-do-mundo-interno/
LOCATION:Online – Plataforma Google Meet
CATEGORIES:Geral
ATTACH;FMTTYPE=image/jpeg:https://febrapsi.org/storage/2025/07/2025-09-02-Ciclo-Melanie.jpg
ORGANIZER;CN="SPPA":MAILTO:sppa@sppa.org.br
END:VEVENT
BEGIN:VEVENT
DTSTART;TZID=America/Sao_Paulo:20250908T203000
DTEND;TZID=America/Sao_Paulo:20250929T220000
DTSTAMP:20260422T152231
CREATED:20250819T191925Z
LAST-MODIFIED:20250819T191925Z
UID:56107-1757363400-1759183200@febrapsi.org
SUMMARY:Seminário Aberto - Identificações
DESCRIPTION:Seminário Aberto sobre Identificações\n\n\nInscrições abertas\n\n\nA Diretoria do Instituto de Psicanálise da SBPdePA convida para o Seminário Aberto com o tema “Identificações” que acontecerá nos dias  08\, 15\, 22 e 29 de setembro de 2025 em formato híbrido. \n Datas: 08\, 15\, 22 e 29 de setembro de 2025 \n⏰ Horário: 20h30 |  Formato: Híbrido \n​O evento abordará a importância fundamental das identificações para a compreensão psicanalítica do ser humano\, desde o seu nascimento até a sua estruturação enquanto sujeito. Serão explorados conceitos básicos em distintas perspectivas teóricas\, partindo de Freud e seguindo com as importantes contribuições de Klein e Meltzer neste campo. \nPara mais informações entre em contato pelo e-mail comunicacao@sbpdepa.org.br ou pelo celular (51) 99251-0162.
URL:https://febrapsi.org/evento/seminario-aberto-identificacoes/
LOCATION:Evento híbrido
CATEGORIES:Geral
ATTACH;FMTTYPE=image/png:https://febrapsi.org/storage/2025/08/1-1-1.png
ORGANIZER;CN="SBPdePA":MAILTO:secretaria@sbpdepa.org.br
END:VEVENT
BEGIN:VEVENT
DTSTART;TZID=America/Sao_Paulo:20250909T190000
DTEND;TZID=America/Sao_Paulo:20250909T210000
DTSTAMP:20260422T152231
CREATED:20250729T191806Z
LAST-MODIFIED:20250729T191806Z
UID:55987-1757444400-1757451600@febrapsi.org
SUMMARY:Um olhar psicanalítico sobre a Intolerância\, com Cláudio Laks Eizirik\, no Instituto Ling
DESCRIPTION:Um olhar psicanalítico sobre a Intolerância\, com Cláudio Laks Eizirik\n09 e 16 de setembro\, das 19h às 21h\, no Instituto Ling (Rua João Caetano \, 440 – Três Figueiras – Porto Alegre) \nQual a importância de entender a dinâmica inconsciente da intolerância? É possível reduzir a intolerância\, em termos individuais\, familiares\, sociais e nas relações internacionais? Em dois encontros\, o curso tem por objetivo apresentar de que forma diferentes psicanalistas abordaram a questão\, destacando como o olhar psicanalítico pode ajudar a entender este desafiador problema contemporâneo (mas que esteve também presente ao longo da nossa história) e sugerir de que modo essa reflexão pode ser útil para reduzir\, dentro do possível\, as diferentes expressões da intolerância. \n \nConfira o programa:\n9 de setembro – 19h às 21h\nContribuições psicanalíticas para a compreensão da intolerância. Intolerância e preconceito. Espaço para discussão. \n16 de setembro – 19h às 21h\nExpressões da intolerância na mente individual\, na família\, nos grupos e na sociedade; exemplos de ações adotadas para enfrentar a intolerância. Espaço para discussão. \nAtividade aberta ao público em geral\, com vagas limitadas. \nConheça o Ministrante:\nCláudio Laks Eizirik é Professor Emérito de Psiquiatria da Universidade Federal do Rio Grande do Sul\, Membro Efetivo e analista didata da Sociedade Psicanalítica de Porto Alegre\, Ex-Presidente da Associação Psicanalítica Internacional\, prêmio Sigourney de 2011\, por contribuições relevantes à psicanálise\, Membro Honorário da Academia Sul-rio-grandense de Medicina\, coordenador Comitê de Estudos Psicanalíticos sobre Intolerância e Preconceito da SPPA\, autor de trabalhos sobre a relação da psicanálise com a cultura. \nProfessores da rede pública de ensino podem solicitar bolsas de estudos com 80% de desconto. Escreva para instituto.ling@institutoling.org.br e saiba mais. Serão disponibilizadas até duas bolsas para a atividade\, conforme a ordem de requerimento. \nSócios da SPPA contam com desconto de 10%. Entre em contato conosco e solicite seu cupom: instituto.ling@institutoling.org.br
URL:https://febrapsi.org/evento/um-olhar-psicanalitico-sobre-a-intolerancia-com-claudio-laks-eizirik-no-instituto-ling-2/
LOCATION:Instituto Ling
CATEGORIES:Geral
ATTACH;FMTTYPE=image/jpeg:https://febrapsi.org/storage/2025/07/2025-09-09-Instituto-Ling.jpg
ORGANIZER;CN="SPPA":MAILTO:sppa@sppa.org.br
END:VEVENT
BEGIN:VEVENT
DTSTART;TZID=America/Sao_Paulo:20250909T193000
DTEND;TZID=America/Sao_Paulo:20250909T210000
DTSTAMP:20260422T152231
CREATED:20250819T191925Z
LAST-MODIFIED:20250819T191925Z
UID:56092-1757446200-1757451600@febrapsi.org
SUMMARY:Café Literário da Psicanalítica: Terra e Paz: antologia poética”\, de Yehuda Amichai
DESCRIPTION:Terra e Paz: antologia poética”\, de Yehuda Amichai\, será o tema do Café Literário da Psicanalítica do dia 09 de setembro (terça-feira)\, às 19h30\, na plataforma Zoom/SPPA. \nA conversa será entre Pedro Gonzaga (Poeta e Tradutor) e Iara Lucchese Wiehe (Psicanalista da SPPA)\, com a coordenação da Psicanalista Maria Regina Limeira Ortiz. \nInscrição antecipada:\nhttps://us06web.zoom.us/webinar/register/WN_EnImDPAaQjiMkjVKNmohSQ \nAtividade aberta e gratuita.
URL:https://febrapsi.org/evento/cafe-literario-da-psicanalitica-terra-e-paz-antologia-poetica-de-yehuda-amichai/
LOCATION:Online – Plataforma Zoom
CATEGORIES:Geral
ATTACH;FMTTYPE=image/jpeg:https://febrapsi.org/storage/2025/08/2025-09-09-A-Cafe-Literario.jpg
ORGANIZER;CN="SPPA":MAILTO:sppa@sppa.org.br
END:VEVENT
END:VCALENDAR