BEGIN:VCALENDAR
VERSION:2.0
PRODID:-//FEBRAPSI - ECPv6.15.20//NONSGML v1.0//EN
CALSCALE:GREGORIAN
METHOD:PUBLISH
X-ORIGINAL-URL:https://febrapsi.org
X-WR-CALDESC:Eventos para FEBRAPSI
REFRESH-INTERVAL;VALUE=DURATION:PT1H
X-Robots-Tag:noindex
X-PUBLISHED-TTL:PT1H
BEGIN:VTIMEZONE
TZID:America/Sao_Paulo
BEGIN:STANDARD
TZOFFSETFROM:-0300
TZOFFSETTO:-0300
TZNAME:-03
DTSTART:20240101T000000
END:STANDARD
END:VTIMEZONE
BEGIN:VEVENT
DTSTART;VALUE=DATE:20250310
DTEND;VALUE=DATE:20250628
DTSTAMP:20260422T202031
CREATED:20250204T053139Z
LAST-MODIFIED:20250204T053139Z
UID:53152-1741564800-1751068799@febrapsi.org
SUMMARY:Grupos de Estudos para a Comunidade
DESCRIPTION:Oito grupos com programação diversificada oferecem à comunidade um espaço para conversas e troca de conhecimento sobre os fundamentos da psicanálise. Com foco em incentivar a formação continuada\, esses grupos promovem leituras e discussões sobre diferentes autores e temáticas\, sendo organizados semestralmente de acordo com as áreas de interesse. \nSob a organização da Diretoria de Comunidade e Cultura – Área de Transmissão da Psicanálise – os encontros serão semanais ou quinzenais\, conforme os coordenadore \n \n   
URL:https://febrapsi.org/evento/grupos-de-estudos-para-a-comunidade/
LOCATION:curso online
CATEGORIES:Geral
ATTACH;FMTTYPE=image/png:https://febrapsi.org/storage/2025/01/1-2.png
ORGANIZER;CN="SBPdePA":MAILTO:secretaria@sbpdepa.org.br
END:VEVENT
BEGIN:VEVENT
DTSTART;TZID=America/Sao_Paulo:20250329T090000
DTEND;TZID=America/Sao_Paulo:20251129T110000
DTSTAMP:20260422T202031
CREATED:20250209T010155Z
LAST-MODIFIED:20250209T010155Z
UID:53261-1743238800-1764414000@febrapsi.org
SUMMARY:DIÁLOGOS PSICANALÍTICOS: Desafios da Clínica Contemporânea
DESCRIPTION:OBJETIVOS DO CURSO:\nAs mudanças climáticas\, as ondas migratórias\, a diversidade sexual\, as novas tecnologias e suas implicações\, as guerras e a violência entre as pessoas impactam nossa vida\, impondo novas formas de sofrimento. Tempos difíceis onde se faz necessário refletir. Como manejar essas novas formas de sofrimento? Como afinar nossa escuta psicanalítica para a complexidade do nosso tempo? Edgar Morin\, filósofo francês\, oferece uma abertura ao propor que “a complexidade é um tecido (do latim complexus: o que é tecido junto) de constituintes heterogêneas inseparavelmente associadas: ela coloca o paradoxo do uno e do múltiplo”.É nessa via uno↔múltiplo que nosso curso vai transitar\, com o objetivo de compreender a multidimensionalidade das realidades e as interações daí resultantes\, contando com psicanalistas que sustentam diferentes pontos de vista.\n \nCALENDÁRIO DE ENCONTROS:\n29 | MARÇO (Encontro híbrido)\nDesafios da clínica contemporânea:\nConferencista: Fernando Urribarri.\nInterlocutora: Lídia Queiroz S. Magnino.\nCoordenadora: Silvana Bressan.\n \n26 | ABRIL (Encontro On-line)\nDesafios da Clínica Contemporânea: Ruptura de campo – sobre o solo comum das psicanálises.\nConferencistas: Luciana Saddi e Luiz Moreno.\nCoordenadora: Maria Lúcia Romera.\n \n10 | MAIO (Encontro On-line)\nDesafios da Clínica Contemporânea.\nConferencistas: José Cesário Francisco Jr. e \nLuiz Carlos Uchôa Junqueira Filho.\nCoordenador: Fauzi Palis Jr.\n \n07 | JUNHO (Encontro On-line)\nEnactment e a microscopia da sessão Analítica: o pensamento de Cassorla e os desafios da clínica contemporânea.\nConferencista: Ana Clara Duarte Gavião.\nInterlocutora: Ana Patrícia Rosa Ribeiro.\nCoordenadora: Benedita de Lourdes C. Rodrigues.\n \n30 | AGOSTO (Encontro híbrido)\nO desenvolvimento da Sexualidade: a diversidade sexual no percurso do desejo.\nConferencistas: Jurenice Picado Álvares e \nRodrigo Lage Leite.\nCoordenadora: Maria das Dores B. Ferreira.\n \n27 | SETEMBRO (Encontro On-line)\nEnvelhecer saudavelmente: estímulo ou desafio para a clínica atual?\nConferencista: Cibele M. Di Battista Brandão.\nInterlocutora: Glaucia Maria Ferreira Furtado.\nCoordenadora: Cássia R. G. Fernandes.\n \n18 | OUTUBRO (Encontro On-line)\nDesafios da clínica da criança e do adolescente na contemporaneidade.\nConferencistas: Maria Cecília P. da Silva e \nHelena Cunha Di Cíero.\nCoordenadora: Maria Angélica Braga e Alves.\n \n29 | NOVEMBRO (Encontro híbrido)\nA problemática das figuras superegoicas nas patologias contemporâneas.\nConferencista: Luís Cláudio Figueiredo.\nInterlocutora: Maria Luiza Lana Mattos Salomão.\nCoordenadora: Suzana Ponciano Pinheiro de Mattos.\n \nINVESTIMENTO:\nAula individual: R$ 195\,00\nCurso completo: R$ 1.344\,00\n10% de cotas para profissionais e estudantes negros\, indígenas e refugiados.
URL:https://febrapsi.org/evento/dialogos-psicanaliticos-desafios-da-clinica-contemporanea/
CATEGORIES:Geral
ATTACH;FMTTYPE=image/png:https://febrapsi.org/storage/2025/02/CARTAZ_DIALOGOS_2025.png
ORGANIZER;CN="SBPSP":MAILTO:contato@sbpsp.org.br
END:VEVENT
BEGIN:VEVENT
DTSTART;TZID=America/Sao_Paulo:20250424T203000
DTEND;TZID=America/Sao_Paulo:20250710T220000
DTSTAMP:20260422T202031
CREATED:20250331T184654Z
LAST-MODIFIED:20250331T184654Z
UID:53819-1745526600-1752184800@febrapsi.org
SUMMARY:JORNADA CIENTÍFICA 2025 “METAPSICOLOGIA DO TRAUMA” Evento Preparatório
DESCRIPTION:A Sociedade Brasileira de Psicanálise de Porto Alegre realizará um ciclo de mesas preparatório para aprofundamento do tema do evento. \nSerão quatro encontros híbridos\, ministrados por psicanalistas da SBPdePA e de várias outras instituições\, que se dedicarão ao debate das teorias de cada convidado da nossa Jornada. \nProgramação:\n23/04 – às 20:30 (híbrido) – MESA 1 – A clínica da excitação – O pensamento de Diana Tabacof\n29/05 – às 20:30 (híbrido) – MESA 2 – O inconsciente e o traumático\, fundamentos da Psicanálise Freudiana – O pensamento de Christophe Dejours\n26/06 – às 20:30 (híbrido) – MESA 3 – Psicanálise e a clínica antirracista – O pensamento de Emiliano de Camargo David\n10/07 – às 20:30 (híbrido) – MESA 4 – O trauma sob a perspectiva da psicanálise contemporânea – O pensamento de Facundo Blestcher \nAgende-se!\nEvento Gratuito.
URL:https://febrapsi.org/evento/jornada-cientifica-2025-metapsicologia-do-trauma-evento-preparatorio/
LOCATION:Evento híbrido
CATEGORIES:Geral
ATTACH;FMTTYPE=image/jpeg:https://febrapsi.org/storage/2025/03/484781498_1446656473048715_6301025694160230440_n.jpg
ORGANIZER;CN="SBPdePA":MAILTO:secretaria@sbpdepa.org.br
END:VEVENT
BEGIN:VEVENT
DTSTART;TZID=America/Sao_Paulo:20250603T200000
DTEND;TZID=America/Sao_Paulo:20250909T213000
DTSTAMP:20260422T202031
CREATED:20250516T134040Z
LAST-MODIFIED:20250516T134040Z
UID:55506-1748980800-1757453400@febrapsi.org
SUMMARY:Curso Online: Psicanálise\, palavras\, autores e livros
DESCRIPTION:Curso Online: Psicanálise\, palavras\, autores e livros\n\n\nCurso com frequência semanal  de junho a setembro |  20h \n  \n\n\nA Sociedade Brasileira de Psicanálise de Porto Alegre (SBPdePA)\, por meio da sua Diretoria de Comunidade e Cultura\, convida para o curso “Psicanálise\, palavras\, autores e livros”\, que acontecerá nas terças-feiras\, às 20h\, de junho a setembro de 2025\, em formato on-line. \n\n\nCom participação de membros da SBPdePA e de outras instituições\, os encontros abordarão temas que atravessam a psicanálise e a literatura\, explorando suas interfaces com a criação\, o desejo\, os conflitos\, a escuta\, a subjetividade e a linguagem. \nA escrita sempre foi um dos principais caminhos de transmissão do pensamento psicanalítico. Freud\, inclusive\, recebeu o Prêmio Goethe em 1930 pelo impacto de sua obra. Assim\, este curso reafirma o compromisso da SBPdePA com a promoção da cultura e da psicanálise em diálogo com a arte\, os livros e a palavra. \nEsta iniciativa integra as ações da Comissão de Comunidade e Cultura\, composta por Gabriela Alves Morsch\, Helena Surreaux\, Luciana Schmal\, Kellen Gurgel Anchieta\, Paula Sarmento Leite\, Vera Hartmann e Vera Regina Cardoni. A Diretora da Comunidade e Cultura é Rosa Beatriz Santoro Squeff. \n​ \n​Informações: comunicacao@sbpdepa.org.br
URL:https://febrapsi.org/evento/curso-online-psicanalise-palavras-autores-e-livros/
LOCATION:curso online
CATEGORIES:Geral
ATTACH;FMTTYPE=image/png:https://febrapsi.org/storage/2025/05/9.png
ORGANIZER;CN="SBPdePA":MAILTO:secretaria@sbpdepa.org.br
END:VEVENT
BEGIN:VEVENT
DTSTART;TZID=America/Sao_Paulo:20250607T090000
DTEND;TZID=America/Sao_Paulo:20250707T170000
DTSTAMP:20260422T202031
CREATED:20250630T174006Z
LAST-MODIFIED:20250630T174006Z
UID:55819-1749286800-1751907600@febrapsi.org
SUMMARY:Exposição de Arte
DESCRIPTION:O GEP Marília e região esta realizando até o dia 07 de julho uma Exposição de Artes onde mistura a história da cidade\, a cultura e a sensibilidade do artista plástico Julio Villani\, mariliense que levou o nome da cidade para as grandes galerias do mundo.   \nUm evento cultural para contemplação artística de uma trajetória marcada por experiências que vão da Amazônia aos grandes museus europeus. Villani mescla em suas telas as referências da arte concreta\, popular\, indígena e surrealista\, criando obras que provocam\, encantam e fazem refletir. Os quadros expostos foram gentilmente cedidos por colecionadores de artes e amigos pessoais do artista.  \nEntrada gratuita – de 07/06 a 07/07 — das 9h às 17h (segunda a sexta)\nNo GEP Marília e região – R. Dr. Granadino de Batista\, 135 – bairro Sen. Salgado Filho – Marília/SP \n 
URL:https://febrapsi.org/evento/exposicao-de-arte/
CATEGORIES:Geral
ATTACH;FMTTYPE=image/jpeg:https://febrapsi.org/storage/2025/06/WhatsApp-Image-2025-06-04-at-12.01.41-1.jpeg
END:VEVENT
BEGIN:VEVENT
DTSTART;TZID=America/Sao_Paulo:20250609T203000
DTEND;TZID=America/Sao_Paulo:20250630T220000
DTSTAMP:20260422T202031
CREATED:20250408T134821Z
LAST-MODIFIED:20250416T181017Z
UID:54049-1749501000-1751320800@febrapsi.org
SUMMARY:Seminário Aberto SBPdePA  Desastres ambientais – medo e esperança
DESCRIPTION:Seminário Aberto SBPdePA\n\nDesastres ambientais – medo e esperança\n\n\nInscrições abertas\n\n\nA Comissão Ubuntu da Sociedade Brasileira de Psicanálise de Porto Alegre (SBPdePA) promove o seminário aberto “Desastres ambientais – medo e esperança”\, um espaço de diálogo interdisciplinar sobre os impactos psíquicos e sociais das mudanças climáticas e desastres ambientais. \n Datas: 09\, 16\, 23 e 30 de junho de 2025 \n⏰ Horário: 20h30 \n Formato: Híbrido \nOs desastres ambientais\, cada vez mais frequentes ao redor do planeta\, são efeito da forma que habitamos a Terra. Precisamos reconhecer que nossas ações participam ativamente das alterações no clima e nos ecossistemas\, moldando o nosso futuro e o das próximas gerações. A psicanálise tem como um dos seus objetivos descentrar o sujeito de si mesmo e vai dialogar com essas situações\, através do seu vértice de observação dos fenômenos psíquicos humanos\, pela observação da relação\, e das consequências\, do ser humano com e enquanto natureza. \n Programação: \n\n09/06/2025 – Emergência climática e seus efeitos diversos  Luiz Alberto Oliveira – Físico\,\nCurador do Museu do Amanhã (2010-2020) \n\n16/06/2025 – O meio ambiente e o ambiente como meio: A Inveja do Futuro  Renato\nTrachtenberg – Psicanalista SBPdePA \n\n23/06/2025 – Psicanálise na Era do Trauma Climático  Maria Luiza Gastal – Psicanalista\nSPBsb \n\n30/06/2025 – Antártida\, expedições e mudanças do clima: as consequências para a nossa\nsociedade  Jefferson Cardia Simões – Professor do Instituto de Geociência da UFRGS e\npesquisador do Centro Polar e Climático \n\nCoordenação: Christiane Vecchi da Paixão e Beatriz Saldini Behs \nInscrições abertas em sbpdepa.org.br\n Mais informações: comunicacao@sbpdepa.org.br | WhatsApp (51) 99251-0162
URL:https://febrapsi.org/evento/seminario-aberto-sbpdepa-desastres-ambientais-medo-e-esperanca/
LOCATION:Evento híbrido
CATEGORIES:Geral
ATTACH;FMTTYPE=image/png:https://febrapsi.org/storage/2025/04/1-1.png
END:VEVENT
BEGIN:VEVENT
DTSTART;VALUE=DATE:20250613
DTEND;VALUE=DATE:20250615
DTSTAMP:20260422T202031
CREATED:20250313T163954Z
LAST-MODIFIED:20250313T163954Z
UID:53595-1749772800-1749945599@febrapsi.org
SUMMARY:Simpósio Internacional: O Pensamento de Roosevelt Cassorla
DESCRIPTION:A SBPCamp tem a honra de convidar a todos os colegas para seu Simpósio Internacional: O Pensamento de Roosevelt Cassorla\, que acontecerá no Hotel Vitória de Campinas\, nos dias 13 e 14 de junho de 2025.\n\n\n\nOs quatro ilustres palestrantes convidados serão Virginia Ungar (Buenos Aires)\, Gabriel Sapisochin (Madri)\, Claudio L. Eizirik (Porto Alegre) e Elias M. da Rocha Barros (São Paulo)\, que trarão seu testemunho científico e afetivo de Roosevelt Cassorla\, agora em sua ausência\, em sua homenagem. \nO evento contará com tradução simultânea\, veja a programação completa:  \nEvento presencial! \n13/06/2025\n20h00 – 21h30 – Conferência de Abertura \nCassorla e a Microscopia da Sessão Analítica: Criação e Desenvolvimento de um Método de Working Party\nClaudio Laks Eizirik (Membro Efetivo e Analista Didata da SPPA e Ex-presidente da IPA) \n14/06/2025\n09h00 – 10h30\nO trabalho analítico com adolescentes em tempos de inquietude\nVirginia Ungar (Membro Titular com Função Didática APde BA e Ex-presidente da IPA)\n\n10h30 – 11h00 Coffee breakh00 \n11h00 – 12h30 – Conferência via Zoom\nSonhando uma conversa com Roosevelt Cassorla a respeito de Enactment\nGabriel Sapisochin (Médico Psiquiatra\, Membro Efetivo e Analista Didata Da Sociedade de Madrid\, Analista de Criança e Adolescentes/IPA) \n12h30 – 15h00 – Almoço Livre \n15h00 – 16h30\nDa Estupidez à Sabedoria\nElias Maliet da Rocha Barros (Membro Efetivo e Analista Didata da SBPSP) \n16h30 – 17h00 – Encerramento \nMais informações e inscrições: (19) 9 8458-9922.
URL:https://febrapsi.org/evento/simposio-internacional-o-pensamento-de-roosevelt-cassorla/
LOCATION:Hotel Vitoria\, Av. José de Sousa Campos\, 425\, Campinas\, SP\, 13025-320\, Brazil
CATEGORIES:Geral
ATTACH;FMTTYPE=image/jpeg:https://febrapsi.org/storage/2025/03/Simposio-3.jpeg
ORGANIZER;CN="SBPCamp":MAILTO:eventos@sbpcamp.org.br
END:VEVENT
BEGIN:VEVENT
DTSTART;TZID=America/Sao_Paulo:20250613T123000
DTEND;TZID=America/Sao_Paulo:20250614T123000
DTSTAMP:20260422T202031
CREATED:20250209T010155Z
LAST-MODIFIED:20250604T181346Z
UID:53266-1749817800-1749904200@febrapsi.org
SUMMARY:XXVII SIMPÓSIO DA INFÂNCIA E ADOLESCÊNCIA DA SPPA: A virtualidade na infância e adolescência
DESCRIPTION:XXVII Simpósio da Infância e Adolescência da SPPA\n\n\n\nDias: 13 e 14 de junho de 2025 \nA VIRTUALIDADE NA INFÂNCIA E ADOLESCÊNCIA\nConvidado: Dr. Serge Tisseron\nPsiquiatra\, pós-doc em Psicologia (HDR)\, membro da Academia de Tecnologias de Paris\, do Conselho Nacional Digital (CNNUm\, France)\, do Instituto de História e Memória de Desastres (IHMEC)\, Co-diretor do Departamento de Ciberpsicologia (Universidade de Paris-Cité) e criador das tags 3-6-9-23 do jogo das três figuras do Instituto de Estudos de Relações Humano-Robô (IERHR\, France). \nAtividade online pela plataforma Zoom com tradução simultânea\n\nPROGRAMA:\n\n13 de junho (sexta-feira)\, 12h30 às 14h \nAbertura: Katia Wagner Radke (Presidente SPPA)\nPrimeira Conferência: “Cuidando das crianças na era digital”\nApresentação: Dr. Serge Tisseron\nCoordenação: Nazur Aragonez de Vasconcellos (Diretor da Infância e Adolescência SPPA) \n14h30 às 16h30 – Temas Livres\n\n14 de junho (sábado)\, 9h às 10h30 \nSupervisão com Dr. Serge Tisseron (Restrita a Membros IPA)\nApresentação: Rui de Mesquita Annes (Psicanalista SPPA)\nCoordenação: Maria Lucrécia Scherer Zavaschi (Psicanalista SPPA) \n11h às 12h30 \nSegunda Conferência: “Como o digital e a IA estão nos transformando”\nApresentação: Dr. Serge Tisseron\nCoordenação: Katia Wagner Radke (Presidente SPPA) \n12h30\nEntrega do Prêmio Zaira de Bittencourt Martins\nCoordenação: Nazur Aragonez de Vasconcellos (Diretor da Infância e Adolescência SPPA)\nEncerramento \nInscrições antecipadas: https://forms.gle/LzfHTWXVZwuNJbw49 \nProfissionais Membros IPA: R$280\,00  pelos dois dias\nPúblico em Geral: R$ 100\,00 por dia\nEstudantes de graduação: R$ 50\,00 por dia\nMembros SPPA: Isentos \n\nEnvio de trabalhos:\nTemas livres\nData limite para a entrega: 19 de maio de 2025\nRegulamento Temas Livres\nEnvio para secretaria@sppa.org.br \nPrêmio Zaira de Bittencourt Martins\nData limite para a entrega: 19 de maio de 2025\nRegulamento do Prêmio Zaira de Bittencourt Martins\nEnvio para secretaria@sppa.org.br
URL:https://febrapsi.org/evento/save-the-date-xxvii-simposio-da-infancia-e-adolescencia-da-sppa-a-virtualidade-na-infancia-e-adolescencia/
LOCATION:Online – Plataforma Zoom
CATEGORIES:Congressos
ATTACH;FMTTYPE=image/jpeg:https://febrapsi.org/storage/2025/02/01.jpg
ORGANIZER;CN="SPPA":MAILTO:sppa@sppa.org.br
END:VEVENT
BEGIN:VEVENT
DTSTART;TZID=America/Sao_Paulo:20250614T090000
DTEND;TZID=America/Sao_Paulo:20250614T140000
DTSTAMP:20260422T202031
CREATED:20250522T160037Z
LAST-MODIFIED:20250522T160037Z
UID:55578-1749891600-1749909600@febrapsi.org
SUMMARY:SPRJ - Identificação:  A imanência de um conceito
DESCRIPTION:Identificação: A imanência de um conceito \nConvidado; Ignácio Paim (SBPPA) \nDia: 16 de junho de 2025 \nHorário; 9hs
URL:https://febrapsi.org/evento/sprj-identificacao-a-imanencia-de-um-conceito/
LOCATION:SPRJ\, Rua Fernandes Guimarães\, 92\, Rio de Janeiro\, RJ\, 22290000\, Brazil
CATEGORIES:Geral
ATTACH;FMTTYPE=image/jpeg:https://febrapsi.org/storage/2025/05/14-junho-2025.jpeg
ORGANIZER;CN="SPRJ":MAILTO:sprj.rio1@sprj.org.br
END:VEVENT
BEGIN:VEVENT
DTSTART;TZID=America/Sao_Paulo:20250614T090000
DTEND;TZID=America/Sao_Paulo:20250614T153000
DTSTAMP:20260422T202031
CREATED:20250415T184625Z
LAST-MODIFIED:20250415T184625Z
UID:54078-1749891600-1749915000@febrapsi.org
SUMMARY:SPRJ - Identificação: imanência de um conceito
DESCRIPTION:SPRJ – Identificação: imanência de um conceito \nDia: 14 de junho 2025 \nHorário: 9hs \n 
URL:https://febrapsi.org/evento/sprj-identificacao-imanencia-de-um-conceito/
LOCATION:Evento híbrido
CATEGORIES:Geral
ATTACH;FMTTYPE=image/jpeg:https://febrapsi.org/storage/2025/04/14-junho-2025.jpeg
ORGANIZER;CN="SPRJ":MAILTO:sprj.rio1@sprj.org.br
END:VEVENT
BEGIN:VEVENT
DTSTART;TZID=America/Sao_Paulo:20250614T100000
DTEND;TZID=America/Sao_Paulo:20250614T120000
DTSTAMP:20260422T202031
CREATED:20250523T003930Z
LAST-MODIFIED:20250523T003930Z
UID:55603-1749895200-1749902400@febrapsi.org
SUMMARY:ENTRE O SILÊNCIO E A PALAVRA: PSICANÁLISE E OS DESAFIOS DA DEMOCRACIA
DESCRIPTION:ENTRE O SILÊNCIO E A PALAVRA: \nPSICANÁLISE E OS DESAFIOS DA DEMOCRACIA\n \nconvidados:\nLEOPOLD NOSEK\nPsicanalista\, Membro efetivo\, analista didata SBPSP\nRAFAEL ALVES LIMA\nPsicanalista\, Prof. Historia e Filosofia da Psicologia IPUSP\ncoordenadora: \nARIANA MARINHO DA SILVA \n(IP/SBPSP)\nSábado\, 14 de junho de 2025\, das 10h às 12h.\nEvento híbrido\n \nAv. Doutor Cardoso de Melo\, 1450 1º andar\nVila Olímpia – São Paulo/SP. \nINVESTIMENTO:\nProfissionais: R$ 50\,00\nMembros da SBPSP / FEBRAPSI / IPA / FEPAL / Estudantes de graduação: Sem ônus\n10% das vagas gratuitas para estudantes e profissionais \nnegros\, indígenas e refugiados.
URL:https://febrapsi.org/evento/entre-o-silencio-e-a-palavra-psicanalise-e-os-desafios-da-democracia/
LOCATION:Sede SBPSP\, Av. Dr. Cardoso de Melo\, 1450\, 9ª andar\, São Paulo\, São Paulo\, 04548005\, Brasil
CATEGORIES:Geral
ATTACH;FMTTYPE=image/png:https://febrapsi.org/storage/2025/05/ENTRE-O-SILENCIO-E-A-PALAVRA-scaled.png
ORGANIZER;CN="SBPSP":MAILTO:contato@sbpsp.org.br
END:VEVENT
BEGIN:VEVENT
DTSTART;TZID=America/Sao_Paulo:20250614T133000
DTEND;TZID=America/Sao_Paulo:20250614T170000
DTSTAMP:20260422T202031
CREATED:20250331T184655Z
LAST-MODIFIED:20250331T184655Z
UID:53856-1749907800-1749920400@febrapsi.org
SUMMARY:CINE DEBATE\, FILME: 1945
DESCRIPTION:CINE DEBATE\nFilme: 1945\n \nComentadora:  \nMarlene Aparecida Satalo Braunholz\, \nmembro filiado SBPSP.\n\nCoordenadora:\nAparecida Malandrin Andriatte\, \nmembro associado SBPSP.\n \nLocal: Auditório do Edifício Works\, \nAv. Dom Pedro II\, 1641\, Santo André.\n \nInvestimento: R$ 50\,00.\n \nNÃO HAVERÁ EXIBIÇÃO DO FILME NO LOCAL
URL:https://febrapsi.org/evento/cine-debate-filme-1945/
LOCATION:Auditório do Edifício Works\, Av. Dom Pedro II\, 1641\, Santo André.\, Auditório do Edifício Works\, Av. Dom Pedro II\, 1641\, Santo André\, SÃO PAULO\, Brazil
CATEGORIES:Geral
ATTACH;FMTTYPE=image/png:https://febrapsi.org/storage/2025/03/CINE-DEBATE-1945.png
ORGANIZER;CN="SBPSP":MAILTO:contato@sbpsp.org.br
END:VEVENT
END:VCALENDAR