BEGIN:VCALENDAR
VERSION:2.0
PRODID:-//FEBRAPSI - ECPv6.15.20//NONSGML v1.0//EN
CALSCALE:GREGORIAN
METHOD:PUBLISH
X-ORIGINAL-URL:https://febrapsi.org
X-WR-CALDESC:Eventos para FEBRAPSI
REFRESH-INTERVAL;VALUE=DURATION:PT1H
X-Robots-Tag:noindex
X-PUBLISHED-TTL:PT1H
BEGIN:VTIMEZONE
TZID:America/Sao_Paulo
BEGIN:STANDARD
TZOFFSETFROM:-0300
TZOFFSETTO:-0300
TZNAME:-03
DTSTART:20240101T000000
END:STANDARD
END:VTIMEZONE
BEGIN:VEVENT
DTSTART;VALUE=DATE:20250310
DTEND;VALUE=DATE:20250628
DTSTAMP:20260422T234332
CREATED:20250204T053139Z
LAST-MODIFIED:20250204T053139Z
UID:53152-1741564800-1751068799@febrapsi.org
SUMMARY:Grupos de Estudos para a Comunidade
DESCRIPTION:Oito grupos com programação diversificada oferecem à comunidade um espaço para conversas e troca de conhecimento sobre os fundamentos da psicanálise. Com foco em incentivar a formação continuada\, esses grupos promovem leituras e discussões sobre diferentes autores e temáticas\, sendo organizados semestralmente de acordo com as áreas de interesse. \nSob a organização da Diretoria de Comunidade e Cultura – Área de Transmissão da Psicanálise – os encontros serão semanais ou quinzenais\, conforme os coordenadore \n \n   
URL:https://febrapsi.org/evento/grupos-de-estudos-para-a-comunidade/
LOCATION:curso online
CATEGORIES:Geral
ATTACH;FMTTYPE=image/png:https://febrapsi.org/storage/2025/01/1-2.png
ORGANIZER;CN="SBPdePA":MAILTO:secretaria@sbpdepa.org.br
END:VEVENT
BEGIN:VEVENT
DTSTART;TZID=America/Sao_Paulo:20250329T090000
DTEND;TZID=America/Sao_Paulo:20251129T110000
DTSTAMP:20260422T234332
CREATED:20250209T010155Z
LAST-MODIFIED:20250209T010155Z
UID:53261-1743238800-1764414000@febrapsi.org
SUMMARY:DIÁLOGOS PSICANALÍTICOS: Desafios da Clínica Contemporânea
DESCRIPTION:OBJETIVOS DO CURSO:\nAs mudanças climáticas\, as ondas migratórias\, a diversidade sexual\, as novas tecnologias e suas implicações\, as guerras e a violência entre as pessoas impactam nossa vida\, impondo novas formas de sofrimento. Tempos difíceis onde se faz necessário refletir. Como manejar essas novas formas de sofrimento? Como afinar nossa escuta psicanalítica para a complexidade do nosso tempo? Edgar Morin\, filósofo francês\, oferece uma abertura ao propor que “a complexidade é um tecido (do latim complexus: o que é tecido junto) de constituintes heterogêneas inseparavelmente associadas: ela coloca o paradoxo do uno e do múltiplo”.É nessa via uno↔múltiplo que nosso curso vai transitar\, com o objetivo de compreender a multidimensionalidade das realidades e as interações daí resultantes\, contando com psicanalistas que sustentam diferentes pontos de vista.\n \nCALENDÁRIO DE ENCONTROS:\n29 | MARÇO (Encontro híbrido)\nDesafios da clínica contemporânea:\nConferencista: Fernando Urribarri.\nInterlocutora: Lídia Queiroz S. Magnino.\nCoordenadora: Silvana Bressan.\n \n26 | ABRIL (Encontro On-line)\nDesafios da Clínica Contemporânea: Ruptura de campo – sobre o solo comum das psicanálises.\nConferencistas: Luciana Saddi e Luiz Moreno.\nCoordenadora: Maria Lúcia Romera.\n \n10 | MAIO (Encontro On-line)\nDesafios da Clínica Contemporânea.\nConferencistas: José Cesário Francisco Jr. e \nLuiz Carlos Uchôa Junqueira Filho.\nCoordenador: Fauzi Palis Jr.\n \n07 | JUNHO (Encontro On-line)\nEnactment e a microscopia da sessão Analítica: o pensamento de Cassorla e os desafios da clínica contemporânea.\nConferencista: Ana Clara Duarte Gavião.\nInterlocutora: Ana Patrícia Rosa Ribeiro.\nCoordenadora: Benedita de Lourdes C. Rodrigues.\n \n30 | AGOSTO (Encontro híbrido)\nO desenvolvimento da Sexualidade: a diversidade sexual no percurso do desejo.\nConferencistas: Jurenice Picado Álvares e \nRodrigo Lage Leite.\nCoordenadora: Maria das Dores B. Ferreira.\n \n27 | SETEMBRO (Encontro On-line)\nEnvelhecer saudavelmente: estímulo ou desafio para a clínica atual?\nConferencista: Cibele M. Di Battista Brandão.\nInterlocutora: Glaucia Maria Ferreira Furtado.\nCoordenadora: Cássia R. G. Fernandes.\n \n18 | OUTUBRO (Encontro On-line)\nDesafios da clínica da criança e do adolescente na contemporaneidade.\nConferencistas: Maria Cecília P. da Silva e \nHelena Cunha Di Cíero.\nCoordenadora: Maria Angélica Braga e Alves.\n \n29 | NOVEMBRO (Encontro híbrido)\nA problemática das figuras superegoicas nas patologias contemporâneas.\nConferencista: Luís Cláudio Figueiredo.\nInterlocutora: Maria Luiza Lana Mattos Salomão.\nCoordenadora: Suzana Ponciano Pinheiro de Mattos.\n \nINVESTIMENTO:\nAula individual: R$ 195\,00\nCurso completo: R$ 1.344\,00\n10% de cotas para profissionais e estudantes negros\, indígenas e refugiados.
URL:https://febrapsi.org/evento/dialogos-psicanaliticos-desafios-da-clinica-contemporanea/
CATEGORIES:Geral
ATTACH;FMTTYPE=image/png:https://febrapsi.org/storage/2025/02/CARTAZ_DIALOGOS_2025.png
ORGANIZER;CN="SBPSP":MAILTO:contato@sbpsp.org.br
END:VEVENT
BEGIN:VEVENT
DTSTART;TZID=America/Sao_Paulo:20250411T130000
DTEND;TZID=America/Sao_Paulo:20250411T143000
DTSTAMP:20260422T234332
CREATED:20240220T181526Z
LAST-MODIFIED:20250522T160712Z
UID:49015-1744376400-1744381800@febrapsi.org
SUMMARY:Os Primórdios da Psicossomática na Obra de Freud – 2025
DESCRIPTION:Ministrado por Claude Smadja\, psicanalista\, membro titular\, formador da Sociedade de Psicanálise de Paris (SPP).\nDatas: 11/04\, 16/05 e 20/06 de 2025 – 13h-14h30 sextas-feiras | via Zoom (3 aulas) \nESTUDO DE NOVOS TEXTOS \nCurso para profissionais psicanalistas e psicanalistas em formação.\nHaverá tradução simultânea. As aulas serão gravadas. \n\nMAIS INFORMAÇÕES E INSCRIÇÕES \n\nRealização: Associação Internacional de Psicossomática Pierre Marty (AIPPM) / IPSO-Brasil / Centro de Estudos Psicanalíticos da Sociedade Brasileira de Psicanálise do RJ
URL:https://febrapsi.org/evento/os-primordios-da-psicossomatica-na-obra-de-freud-2025/
LOCATION:Evento Online
CATEGORIES:Geral
ATTACH;FMTTYPE=image/png:https://febrapsi.org/storage/2024/02/SMADJA2025-1.png
ORGANIZER;CN="SBPRJ":MAILTO:sbprj@sbprj.org.br
END:VEVENT
BEGIN:VEVENT
DTSTART;TZID=America/Sao_Paulo:20250411T153000
DTEND;TZID=America/Sao_Paulo:20250411T170000
DTSTAMP:20260422T234332
CREATED:20250204T053214Z
LAST-MODIFIED:20250204T053214Z
UID:53095-1744385400-1744390800@febrapsi.org
SUMMARY:Curso: A Escuta Psicanalítica na Teoria e na Prática
DESCRIPTION:Curso: A Escuta Psicanalítica na Teoria e na Prática \nAbril: 11 e 25 \nMaio: 16 e 30 \nHorário: 15h30 às 17h
URL:https://febrapsi.org/evento/curso-a-escuta-psicanalitica-na-teoria-e-na-pratica-2/
LOCATION:curso online
CATEGORIES:Geral
ATTACH;FMTTYPE=image/jpeg:https://febrapsi.org/storage/2025/01/Escuta-Psicanalitica.jpeg
ORGANIZER;CN="SPRJ":MAILTO:sprj.rio1@sprj.org.br
END:VEVENT
BEGIN:VEVENT
DTSTART;TZID=America/Sao_Paulo:20250411T190000
DTEND;TZID=America/Sao_Paulo:20250411T210000
DTSTAMP:20260422T234332
CREATED:20250331T184654Z
LAST-MODIFIED:20250331T184654Z
UID:53834-1744398000-1744405200@febrapsi.org
SUMMARY:SPPA convida para o espetáculo: Da Sempre Tua
DESCRIPTION:Sociedade Psicanalítica de Porto Alegre convida para:\nDa Sempre Tua – Com Sandra Dani e Janaina Pellizzon\nno dia 11 de abril (sexta-feira)\, às 19h\, no Teatro Oficina Olga Reverbel. \nBate-papo ao final do espetáculo:\nIara Lucchese Wiehe (Diretora Administrativa da SPPA) e Luciano Alabarse (Diretor do espetáculo) \nINGRESSOS: https://theatrosaopedro.rs.gov.br/da-sempre-tua-67c07e8285e6b \nO espetáculo “Da Sempre Tua” é inspirado no livro homônimo de Claudia Tajes e Diana Corso. A história apresenta as trocas de cartas entre C. e D.\, personagens respectivamente baseadas nas autoras. A peça aborda temas como a cumplicidade feminina\, a autossabotagem e a culpa celebrando a amizade feminina\, que se reflete em temas como a desvalia e o sentimento de culpa. As cartas também reservam espaço para a acidez com a figura masculina e tiradas espirituosas. No final do espetáculo\, as atrizes Sandra Dani e Janaina Pellizzon interpretam cartas inéditas que citam a tragédia climática que assolou o Rio Grande do Sul\, deixando uma mensagem de esperança.\nDuração: 1h30 \nLocal\nTeatro Oficina Olga Reverbel\nPraça Mal. Deodoro\, s/n – Centro Histórico\, Porto Alegre – RS \nEstacionamento\nO Theatro São Pedro e o Multipalco Eva Sopher possuem um estacionamento.\nEntrada pela Rua Riachuelo\, 1089\nDurante os espetáculos: valor único de R$ 25\,00
URL:https://febrapsi.org/evento/sppa-convida-para-o-espetaculo-da-sempre-tua/
LOCATION:Teatro Oficina Olga Reverbel
CATEGORIES:Geral
ATTACH;FMTTYPE=image/jpeg:https://febrapsi.org/storage/2025/03/2025-04-11-Teatro.jpg
ORGANIZER;CN="SPPA":MAILTO:sppa@sppa.org.br
END:VEVENT
END:VCALENDAR