BEGIN:VCALENDAR
VERSION:2.0
PRODID:-//FEBRAPSI - ECPv6.15.20//NONSGML v1.0//EN
CALSCALE:GREGORIAN
METHOD:PUBLISH
X-ORIGINAL-URL:https://febrapsi.org
X-WR-CALDESC:Eventos para FEBRAPSI
REFRESH-INTERVAL;VALUE=DURATION:PT1H
X-Robots-Tag:noindex
X-PUBLISHED-TTL:PT1H
BEGIN:VTIMEZONE
TZID:America/Sao_Paulo
BEGIN:STANDARD
TZOFFSETFROM:-0300
TZOFFSETTO:-0300
TZNAME:-03
DTSTART:20240101T000000
END:STANDARD
END:VTIMEZONE
BEGIN:VEVENT
DTSTART;VALUE=DATE:20250310
DTEND;VALUE=DATE:20250628
DTSTAMP:20260423T012017
CREATED:20250204T053139Z
LAST-MODIFIED:20250204T053139Z
UID:53152-1741564800-1751068799@febrapsi.org
SUMMARY:Grupos de Estudos para a Comunidade
DESCRIPTION:Oito grupos com programação diversificada oferecem à comunidade um espaço para conversas e troca de conhecimento sobre os fundamentos da psicanálise. Com foco em incentivar a formação continuada\, esses grupos promovem leituras e discussões sobre diferentes autores e temáticas\, sendo organizados semestralmente de acordo com as áreas de interesse. \nSob a organização da Diretoria de Comunidade e Cultura – Área de Transmissão da Psicanálise – os encontros serão semanais ou quinzenais\, conforme os coordenadore \n \n   
URL:https://febrapsi.org/evento/grupos-de-estudos-para-a-comunidade/
LOCATION:curso online
CATEGORIES:Geral
ATTACH;FMTTYPE=image/png:https://febrapsi.org/storage/2025/01/1-2.png
ORGANIZER;CN="SBPdePA":MAILTO:secretaria@sbpdepa.org.br
END:VEVENT
BEGIN:VEVENT
DTSTART;TZID=America/Sao_Paulo:20250317T203000
DTEND;TZID=America/Sao_Paulo:20250331T220000
DTSTAMP:20260423T012017
CREATED:20250204T053139Z
LAST-MODIFIED:20250204T053139Z
UID:53208-1742243400-1743458400@febrapsi.org
SUMMARY:Racismo e Branquitude: uma perspectiva metapsicológica
DESCRIPTION: \n\n\n\n\n\n\n\n\n\n\n\nRacismo e Branquitude: uma perspectiva metapsicológica \n\n\n\n\n\n\n\n\n\n\nA Sociedade Brasileira de Psicanálise de Porto Alegre (SBPdePA)\, em parceria com o Projeto Ubuntu\, convida para o curso “Racismo e Branquitude: uma perspectiva metapsicológica”\, que acontecerá nos dias 17 e 31 de março de 2025\, das 20h30 às 22h.\n\n\n​Este curso propõe explorar\, sob a luz do pensamento freudiano\, os complexos entrelaçamentos entre racismo\, branquitude e suas implicações na estrutura psíquica e social. Com um olhar crítico e psicanalítico\, o evento busca revisitar conceitos como narcisismo\, masoquismo e as formas de negação em Freud\, articulando-os para compreender como o racismo estrutural opera e se perpetua na sociedade brasileira. \nO curso é direcionado a profissionais\, estudantes e interessados em Psicanálise\, além de todos que desejam refletir sobre a memória histórica da escravidão e das atrocidades coloniais\, reconhecendo-as como parte fundamental da experiência humana compartilhada. \nAo problematizar as relações entre racismo e branquitude\, o curso pretende construir ferramentas clínicas e teóricas para a desconstrução das lógicas de hierarquização racial que ainda marcam nossa sociedade. Trata-se de um convite à responsabilidade individual e coletiva\, com o objetivo de transformar a memória em um saber comprometido com a ruptura de padrões segregadores. \n\n\n Dúvidas: comunicacao@sbpdepa.org.br
URL:https://febrapsi.org/evento/racismo-e-branquitude-uma-perspectiva-metapsicologica/
LOCATION:Evento híbrido
CATEGORIES:Geral
ATTACH;FMTTYPE=image/jpeg:https://febrapsi.org/storage/2025/01/WhatsApp-Image-2025-01-28-at-16.56.26.jpeg
ORGANIZER;CN="SBPdePA":MAILTO:secretaria@sbpdepa.org.br
END:VEVENT
BEGIN:VEVENT
DTSTART;TZID=America/Sao_Paulo:20250328T080000
DTEND;TZID=America/Sao_Paulo:20250329T120000
DTSTAMP:20260423T012018
CREATED:20241227T151153Z
LAST-MODIFIED:20250224T181634Z
UID:52685-1743148800-1743249600@febrapsi.org
SUMMARY:Jornada Pré-Congresso da FEBRAPSI — “Sexualidade: o tumulto das diferenças”
DESCRIPTION:Jornada Pré-Congresso da FEBRAPSI — “Sexualidade: o tumulto das diferenças”\nDias 28 e 29 de março de 2025. \nAtividade híbrida\, aberta e gratuita! \n28/03/2025\, 19h\, sede da SPPA (Rua Andrade Neves\, 14/402. Centro Histórico)\nMesa de Abertura\nLuiz Toledo (Presidente da FEBRAPSI)\nKátia Wagner Radke (Presidente da SPPA)\nPatrícia Rivoire Menelli Goldfeld (Presidente da SBPdePA) \nCoordenação: Ana Clara Gavião (Diretora Científica da FEBRAPSI) \n28/03/2025\, 20h\, sede da SPPA\nMesa: Sexualidade: o tumulto das diferenças. Que tumulto é esse?\nAngela Piva (SBPdePA)\nMaria Cristina Vasconcelos (SPPA)\nDaniela Bormann (FEBRAPSI) \nCoordenação: Marli Bergel (Diretora Científica da SPPA) \n29/03/2025\, 10h\, sede da SBPdePA (Praça Dr. Maurício Cardoso\, 7. Moinhos de Vento)\nMesa: Desde Freud o que mudou na Sexualidade?\nGley Costa (SBPdePA)\nMarli Bergel (SPPA)\nBerta Hoffmann Azevedo (SBPSP)\nCoordenação: Janine Severo\, Diretora Científica da SBPdePA \n12h\, Almoço por adesão \nInscrições antecipadas: Clique aqui!
URL:https://febrapsi.org/evento/jornada-pre-congresso-da-febrapsi-sexualidade-o-tumulto-das-diferencas/
LOCATION:Evento híbrido
CATEGORIES:Geral
ATTACH;FMTTYPE=image/jpeg:https://febrapsi.org/storage/2024/12/2025-03-28-Sexualidade1.jpg
ORGANIZER;CN="SPPA":MAILTO:sppa@sppa.org.br
END:VEVENT
BEGIN:VEVENT
DTSTART;TZID=America/Sao_Paulo:20250328T170000
DTEND;TZID=America/Sao_Paulo:20250328T190000
DTSTAMP:20260423T012018
CREATED:20250219T185042Z
LAST-MODIFIED:20250312T142724Z
UID:53367-1743181200-1743188400@febrapsi.org
SUMMARY:FACE A FACE COM NARCISO: A CLÍNICA ATUAL DA ESTRANHEZA
DESCRIPTION:SEMINÁRIO TEÓRICO-CLÍNICO \nFACE A FACE COM NARCISO: A CLÍNICA ATUAL DA ESTRANHEZA\n \nDo ataque de pânico à despersonalização. A identidade em cheque. O estatuto traumático da alteridade como desafio à técnica psicanalítica. A estranheza na/da transferência. Extensão e reconfiguração do modelo dialógico do brincar analítico.\nFERNANDO URRIBARRI\nMembro da Associação Psicanalítica Argentina\nCoordenação:\nCynthia Peiter\nSBPSP\nSexta-feira\, 28 de março de 2025\, das 17h às 19h.\nEvento híbrido\nAv. Doutor Cardoso de Melo\, 1450 1º andar\nVila Olímpia – São Paulo/SP. \n \nINVESTIMENTO:\nProfissionais: R$ 150\,00\nMembros da SBPSP / FEBRAPSI / IPA / FEPAL: Sem ônus\nEstudantes de graduação\, Profissionais da Rede Pública e Alunos dos cursos da DAC: R$ 75\,00\n10% das vagas gratuitas para estudantes e profissionais negros\, indígenas e refugiados.
URL:https://febrapsi.org/evento/face-a-face-com-narciso-a-clinica-atual-da-estranheza/
LOCATION:Sede SBPSP\, Av. Dr. Cardoso de Melo\, 1450\, 9ª andar\, São Paulo\, São Paulo\, 04548005\, Brasil
CATEGORIES:Geral
ATTACH;FMTTYPE=image/png:https://febrapsi.org/storage/2025/02/Seminario-Teorico-Clinico-–-7.png
ORGANIZER;CN="SBPSP":MAILTO:contato@sbpsp.org.br
END:VEVENT
BEGIN:VEVENT
DTSTART;TZID=America/Sao_Paulo:20250328T180000
DTEND;TZID=America/Sao_Paulo:20250328T200000
DTSTAMP:20260423T012018
CREATED:20250331T184711Z
LAST-MODIFIED:20250331T184711Z
UID:53816-1743184800-1743192000@febrapsi.org
SUMMARY:Reflexões Psicanalítica Sobre Obra Literária
DESCRIPTION:Reflexões Psicanalítica Sobre Obra Literária \nDia – 28 de Março \nHorário: 18h \nEvento online
URL:https://febrapsi.org/evento/reflexoes-psicanalitica-sobre-obra-literaria-2/
LOCATION:Evento Online
CATEGORIES:Geral
ATTACH;FMTTYPE=image/jpeg:https://febrapsi.org/storage/2025/03/Evento-28-marco.jpeg
ORGANIZER;CN="SPRJ":MAILTO:sprj.rio1@sprj.org.br
END:VEVENT
BEGIN:VEVENT
DTSTART;TZID=America/Sao_Paulo:20250328T190000
DTEND;TZID=America/Sao_Paulo:20250329T120000
DTSTAMP:20260423T012018
CREATED:20250204T053138Z
LAST-MODIFIED:20250204T053138Z
UID:53132-1743188400-1743249600@febrapsi.org
SUMMARY:Jornada Pré-Congresso da FEBRAPSI — “Sexualidade: o tumulto das diferenças”
DESCRIPTION:Jornada Pré-Congresso da FEBRAPSI — “Sexualidade: o tumulto das diferenças”\nDias 28 e 29 de março de 2025 |  Atividade híbrida\, aberta e gratuita!
URL:https://febrapsi.org/evento/jornada-pre-congresso-da-febrapsi-sexualidade-o-tumulto-das-diferencas-2/
LOCATION:Evento híbrido
CATEGORIES:Geral
ATTACH;FMTTYPE=image/jpeg:https://febrapsi.org/storage/2025/01/PRE_CONGRESSO-1.jpeg
ORGANIZER;CN="SBPdePA":MAILTO:secretaria@sbpdepa.org.br
END:VEVENT
END:VCALENDAR