BEGIN:VCALENDAR
VERSION:2.0
PRODID:-//FEBRAPSI - ECPv6.15.20//NONSGML v1.0//EN
CALSCALE:GREGORIAN
METHOD:PUBLISH
X-ORIGINAL-URL:https://febrapsi.org
X-WR-CALDESC:Eventos para FEBRAPSI
REFRESH-INTERVAL;VALUE=DURATION:PT1H
X-Robots-Tag:noindex
X-PUBLISHED-TTL:PT1H
BEGIN:VTIMEZONE
TZID:America/Sao_Paulo
BEGIN:STANDARD
TZOFFSETFROM:-0300
TZOFFSETTO:-0300
TZNAME:-03
DTSTART:20240101T000000
END:STANDARD
END:VTIMEZONE
BEGIN:VEVENT
DTSTART;VALUE=DATE:20250310
DTEND;VALUE=DATE:20250628
DTSTAMP:20260423T012018
CREATED:20250204T053139Z
LAST-MODIFIED:20250204T053139Z
UID:53152-1741564800-1751068799@febrapsi.org
SUMMARY:Grupos de Estudos para a Comunidade
DESCRIPTION:Oito grupos com programação diversificada oferecem à comunidade um espaço para conversas e troca de conhecimento sobre os fundamentos da psicanálise. Com foco em incentivar a formação continuada\, esses grupos promovem leituras e discussões sobre diferentes autores e temáticas\, sendo organizados semestralmente de acordo com as áreas de interesse. \nSob a organização da Diretoria de Comunidade e Cultura – Área de Transmissão da Psicanálise – os encontros serão semanais ou quinzenais\, conforme os coordenadore \n \n   
URL:https://febrapsi.org/evento/grupos-de-estudos-para-a-comunidade/
LOCATION:curso online
CATEGORIES:Geral
ATTACH;FMTTYPE=image/png:https://febrapsi.org/storage/2025/01/1-2.png
ORGANIZER;CN="SBPdePA":MAILTO:secretaria@sbpdepa.org.br
END:VEVENT
BEGIN:VEVENT
DTSTART;TZID=America/Sao_Paulo:20250317T203000
DTEND;TZID=America/Sao_Paulo:20250331T220000
DTSTAMP:20260423T012018
CREATED:20250204T053139Z
LAST-MODIFIED:20250204T053139Z
UID:53208-1742243400-1743458400@febrapsi.org
SUMMARY:Racismo e Branquitude: uma perspectiva metapsicológica
DESCRIPTION: \n\n\n\n\n\n\n\n\n\n\n\nRacismo e Branquitude: uma perspectiva metapsicológica \n\n\n\n\n\n\n\n\n\n\nA Sociedade Brasileira de Psicanálise de Porto Alegre (SBPdePA)\, em parceria com o Projeto Ubuntu\, convida para o curso “Racismo e Branquitude: uma perspectiva metapsicológica”\, que acontecerá nos dias 17 e 31 de março de 2025\, das 20h30 às 22h.\n\n\n​Este curso propõe explorar\, sob a luz do pensamento freudiano\, os complexos entrelaçamentos entre racismo\, branquitude e suas implicações na estrutura psíquica e social. Com um olhar crítico e psicanalítico\, o evento busca revisitar conceitos como narcisismo\, masoquismo e as formas de negação em Freud\, articulando-os para compreender como o racismo estrutural opera e se perpetua na sociedade brasileira. \nO curso é direcionado a profissionais\, estudantes e interessados em Psicanálise\, além de todos que desejam refletir sobre a memória histórica da escravidão e das atrocidades coloniais\, reconhecendo-as como parte fundamental da experiência humana compartilhada. \nAo problematizar as relações entre racismo e branquitude\, o curso pretende construir ferramentas clínicas e teóricas para a desconstrução das lógicas de hierarquização racial que ainda marcam nossa sociedade. Trata-se de um convite à responsabilidade individual e coletiva\, com o objetivo de transformar a memória em um saber comprometido com a ruptura de padrões segregadores. \n\n\n Dúvidas: comunicacao@sbpdepa.org.br
URL:https://febrapsi.org/evento/racismo-e-branquitude-uma-perspectiva-metapsicologica/
LOCATION:Evento híbrido
CATEGORIES:Geral
ATTACH;FMTTYPE=image/jpeg:https://febrapsi.org/storage/2025/01/WhatsApp-Image-2025-01-28-at-16.56.26.jpeg
ORGANIZER;CN="SBPdePA":MAILTO:secretaria@sbpdepa.org.br
END:VEVENT
BEGIN:VEVENT
DTSTART;VALUE=DATE:20250321
DTEND;VALUE=DATE:20250323
DTSTAMP:20260423T012018
CREATED:20250204T053137Z
LAST-MODIFIED:20250204T053137Z
UID:53120-1742515200-1742687999@febrapsi.org
SUMMARY:Encontro Preparatório para o 30º Congresso Brasileiro de Psicanálise da FEBRAPSI 2025
DESCRIPTION:Estão abertas as inscrições para o Evento Preparatório da SBPCamp para o 30º Congresso Brasileiro de Psicanálise da FEBRAPSI\, que terá como tema\, “Sexualidade: o tumulto das diferenças”.\nA programação está caprichada para este aperitivo para o congresso maior de Psicanálise do Brasil\, com apresentações e discussões que nos aproximarão do importante assunto deste ano. \nEvento presencial! \n21/03/2025\n19h45 – Abertura\nLuiz  Celso Toledo (Presidente da FEBRAPSI)\nNelson José Nazaré Rocha (Presidente da SBPCamp) \n20h00 – 21h30\n Mesa: “Vozes de Freud”\nLuiz  Celso Toledo (SBPRP)\n\nMesa: “Navegando nas marés das diferenças: Tumulto\, Tormentos e Tormentas”\nNelson José Nazaré Rocha (SBPCamp)\nCoordenação: Claudia Cristina Antonelli (Membro Efetivo da SBPCamp)\n\n21h30 – Coquetel \n22/03/2025\n9h00 – 10h30\nMesa: “Freud: Psicossexualidades em Movimento”\nAna Clara Duarte Gavião (Diretora Científica da FEBRAPSI) \nMesa: “Quero fechar o meu amor na mão – Raízes do desejo e da sexualidade”\nAdriana Maria Nagalli de Oliveira (Diretora Científica da SBPCamp)\nCoordenação: Maria Roseli Pompermayer Galvani (Membro Efetivo da SBPCamp) \n10h30 – Intervalo \n11h00 – 12h30\nMesa: “As múltiplas dimensões do édipo”\nVera Lamanno Adamo (Analista Didata da SBPCAMP) \nMesa: “Estímulo para um início de conversa”\nMaria Carolina Scoz (Membro Efetivo da SBPCamp)\nCoordenação: Marcela Casacio Ferreira Teixeira (Membro Associado da SBPCamp)\n \nMais informações e inscrições: (19) 9 8458-9922.
URL:https://febrapsi.org/evento/encontro-preparatorio-para-o-30o-congresso-brasileiro-de-psicanalise-da-febrapsi-2025/
LOCATION:Auditório Praça Capital\, Av. José Rocha Bonfim\, 214\, Campinas\, São Paulo\, 13080650\, Brazil
CATEGORIES:Geral
ATTACH;FMTTYPE=image/jpeg:https://febrapsi.org/storage/2025/01/Encontro-Preparatorio.jpeg
ORGANIZER;CN="SBPCamp":MAILTO:eventos@sbpcamp.org.br
END:VEVENT
BEGIN:VEVENT
DTSTART;TZID=America/Sao_Paulo:20250321T170000
DTEND;TZID=America/Sao_Paulo:20250321T190000
DTSTAMP:20260423T012018
CREATED:20250209T010153Z
LAST-MODIFIED:20250209T010153Z
UID:52765-1742576400-1742583600@febrapsi.org
SUMMARY:Mesa redonda sobre a clínica da Parentalidade Hoje
DESCRIPTION:17h – Abertura \n\nMagda Guimarães Khouri\, Presidente da SBPSP.\nIara Spada Bondioli de Souza Noto\, Secretária de Psicanálise de Criança e Adolescente da SBPSP.\nMaria Cecília Pereira da Silva\, Coordenadora da Clínica 0 a 3 da SBPSP.\n\n17h15 – Conferência com Maria do Carmo Camarotti\nDebatedores: \n\nFátima Maria Vieira Batistelli (SBPSP)\nTaiza Stumpp (UNIFESP)\nCoordenação: Maria Cecília Pereira da Silva (SBPSP).\n\nLocal:\nAv. Dr. Cardoso de Melo\, 1450\, 1° andar\, Vila Olímpia\, São Paulo/SP \nEvento Híbrido\n(Transmissão pela plataforma Zoom) \nInscreva-se pelo site:\nwww.sbpsp.org.br \nPalestrante:\nMaria do Carmo Camarotti\nPsicóloga e psicanalista\, mestra em Saúde Materno Infantil (Instituto de Medicina Integral Professor Fernando Figueira). Especialista e formadora em Intervenção Precoce Pais-Bebê. Membro fundadora da RIEPPI (Rede Internacional de Estudos em Psicanálise e Psicopatologia do Infans). Membro da CIPPA (Coordination Internationale entre Psychothérapeutes Psychanalystes et membres associés s’occupant de personnes Autistes). Fundadora e coordenadora do Ciclos da Vida – Centro de Formação e Acompanhamento (Recife). \nInvestimento: \n\nProfissionais de saúde e educação: R$ 160\,00\nMembros da SBPSP/FEBRAPSI/IPA/FEPAL: R$ 120\,00\nEstudantes de graduação / Membros filiados SBPSP / Profissionais da Rede Pública / Candidatos (FEBRAPSI / IPA e FEPAL) / Alunos de cursos da DAC: R$ 60\,00\n10% das vagas gratuitas para estudantes\, profissionais negros\, indígenas e refugiados.
URL:https://febrapsi.org/evento/mesa-redonda-sobre-a-clinica-da-parentalidade-hoje/
LOCATION:Sede SBPSP\, Av. Dr. Cardoso de Melo\, 1450\, 9ª andar\, São Paulo\, São Paulo\, 04548005\, Brasil
CATEGORIES:Geral
ATTACH;FMTTYPE=image/png:https://febrapsi.org/storage/2025/01/CARTAZ-MESA-REDONDA-CLINICA-DA-PARENTALIDADE-HOJE_Book.png
ORGANIZER;CN="SBPSP":MAILTO:contato@sbpsp.org.br
END:VEVENT
END:VCALENDAR