BEGIN:VCALENDAR
VERSION:2.0
PRODID:-//FEBRAPSI - ECPv6.15.20//NONSGML v1.0//EN
CALSCALE:GREGORIAN
METHOD:PUBLISH
X-ORIGINAL-URL:https://febrapsi.org
X-WR-CALDESC:Eventos para FEBRAPSI
REFRESH-INTERVAL;VALUE=DURATION:PT1H
X-Robots-Tag:noindex
X-PUBLISHED-TTL:PT1H
BEGIN:VTIMEZONE
TZID:America/Sao_Paulo
BEGIN:STANDARD
TZOFFSETFROM:-0300
TZOFFSETTO:-0300
TZNAME:-03
DTSTART:20240101T000000
END:STANDARD
END:VTIMEZONE
BEGIN:VEVENT
DTSTART;TZID=America/Sao_Paulo:20250301T090000
DTEND;TZID=America/Sao_Paulo:20250301T180000
DTSTAMP:20260423T012018
CREATED:20241118T225227Z
LAST-MODIFIED:20241118T225227Z
UID:52140-1740819600-1740852000@febrapsi.org
SUMMARY:PSICANÁLISE DA VINCULARIDADE DIALÉTICA DE FAMÍLIA E CASAL (2025/2026)
DESCRIPTION:A Psicanálise da Vincularidade Dialética de Família e Casal é considerada uma expansão dos paradigmas psicanalíticos. Exige\, porém\, uma especificidade de conhecimento dentro do próprio acervo conceitual psicanalítico\, para a aquisição de recursos teórico/clínicos pertinentes a essa prática. Estes recursos sustentarão a possibilidade de escuta da psicodinâmica vincular dialética inconsciente\, intra e intersubjetiva da família ou casal\, que ocorre no campo emocional do atendimento.\n \nOBJETIVOS: Serão oferecidos subsídios psicoterapêuticos orientados pelo referencial psicanalítico e também apresentados conceitos introdutórios que evoluirão para a apreensão de psicodinâmicas vinculares gradativamente mais complexas.\n \nPÚBLICO ALVO: Psicólogos\, Médicos e Profissionais da área da saúde.\n \nCORPO DOCENTE:\nCoordenadora: LIA RACHEL COLUSSI CYPEL.\nPsicanalista Didata e Docente da SBPSP\, Coordenadora do Grupo de Estudos sobre Psicanálise dos Vínculos de Família e Casal da SBPSP\, Ex chair do Comitê de Familia e Casal da FEPAL (Federação Latino Americana de Psicanalise)\, Membro do Comitê de Psicanálise de Família e Casal da IPA (International Psychoanalitycal Association). Membro do Comitê de Família e Casal da FEBRAPSI. Coordenadora do Grupo dos Vínculos de Casal e Família do CAP.\n \nANDRÉIA LOBO COSTA CAMPOS DE MELO.\nMembro titular da Sociedade Brasileira de Psicanálise de Goiânia(SBPG)\, atual diretora científica. Docente da SBPG. Coordenadora do departamento de Casal e Família da SBPG. Coordenadora do curso de Teoria Psicanalítica da SBPG. Mestre em psicologia clínica pela PUC-Goias. Membro do Comitê de Família e Casal da FEBRAPSI. Membro enlace do COWAP.\n \nCELIA BLINI DE LIMA.\nPsicanalista\, Membro Efetivopela Sociedade Brasileira de Psicanálise de Sao Paulo (SBPSP). Mestre e Doutora em Psicologia pela Universidade de Sao Paulo (USP). Membro representante da SBPSP pela FEPAL\, Membro socio-fundador da Associação Brasileira de Psicanálise de Casal e Família (ABPCF). Psicanalista de Casal e Família e artigos publicados na área.\n \nHELOISA DE SOUZA SAMPAIO.\nPsicóloga – PUC Campinas . Psicanalista pelo Instituto Durval Marcondes. Membro Associadoà Sociedade Brasileira de Psicanálise de São Paulo (SBPSP). Experiência com grupo e família\, tanto em consultório particular quanto em Instituição Psiquiátrica. Psicanalista de Casal e Família. Ex Membro do Núcleo de Psicanálise de Campinas e região\, depois Gep ( Grupo de estudos de Psicanálise de Cps e região)\, atualmente SBPCamp.\n \nJOSEFA DIAS SILVA FERNANDES.\nPsicanalista\, membro efetivo e docente  da Sociedade Brasileira de   Psicanálise de São Paulo. Membro Didata e docente do Gep de São José do Rio Preto e região. Psicanalista de crianças e adolescentes pela Sociedade Brasileira Psicanálise de São Paulo. Especialização em psicanálise pelo Instituto Sedes Sapientiae São Paulo\, SP. Especialização em psicoterapia de grupo pelo Núcleo de Estudos em Saúde Mental e Psicanálise das Configurações Vinculares (NESME)\, SP. Docente no curso de Medicina da Faculdade Unilago – União Das Faculdades Dos Grandes Lagos – São José do Rio Preto.\n \nSUELI PESCO.\nPsicanalista pelo Instituto Durval Marcondes\, Membro Associado da Sociedade Brasileira de Psicanálise de São Paulo e a IPA. Representante Regional de Maringá-PR junto à Diretoria Regional da SBPSP no período de 2018 a 2022. Membro do Núcleo de Psicanálise do Norte do PR de 2015 a 2022. Psicanalista de Casal e Família e Membro Participante do Grupo de Vínculos de Casal e Família do CAP-SBPSP.\n \nColaboradora: MARIA CECILIA FERNANDES SILVA.\nMembro Filiado ao Instituto Durval Marcondes da SBPSP. Mestre em Psicologia Clínica-PUC-SP. Membro Efetivo da Associação Brasileira de Psicanálise de Casal e Família (ABPCF). Membro da Associação Internacional de Psicanálise de Casal e Família (AIPCF). Representante da SBPSP no Comitê de Casal e Família (COFAP) da IPA (International Psychoanalitycal Association). Coordenadora e Supervisora do Ambulatório de Casal e Família (AMFAM) do Instituto de Psiquiatria do HC-FMUSP. Psicanalista de Casal e Família.\n \nDURAÇÃO: 2 anos\, de Março de 2025 à Novembro de 2026.\n\nMATRÍCULA: R$600\,00 – Mensalidade: R$800\,00.\n\n5 cotas para profissionais\, negros\, indígenas e refugiados.\n\nFREQÜÊNCIA: Segundos Sábados dos meses de Março a Novembro \n(exceto julho) das 9h às 12h30 e das 14h às 18h.\n\nCARGA HORÁRIA: 72 horas anuais – 144 horas dois anos\nPara receber o certificado de participação\, é necessário atingir 75% de freqüência.\n\nCURSO PRESENCIAL. \nO modo híbrido está disponível apenas para interessados que residem \nfora da cidade de São Paulo. \n\nVAGAS LIMITADAS!
URL:https://febrapsi.org/evento/psicanalise-da-vincularidade-dialetica-de-familia-e-casal-2025-2026/
CATEGORIES:Geral
ATTACH;FMTTYPE=image/png:https://febrapsi.org/storage/2024/11/CURSO-VINCULARIDADE.png
ORGANIZER;CN="SBPSP":MAILTO:contato@sbpsp.org.br
END:VEVENT
END:VCALENDAR