BEGIN:VCALENDAR
VERSION:2.0
PRODID:-//FEBRAPSI - ECPv6.15.20//NONSGML v1.0//EN
CALSCALE:GREGORIAN
METHOD:PUBLISH
X-ORIGINAL-URL:https://febrapsi.org
X-WR-CALDESC:Eventos para FEBRAPSI
REFRESH-INTERVAL;VALUE=DURATION:PT1H
X-Robots-Tag:noindex
X-PUBLISHED-TTL:PT1H
BEGIN:VTIMEZONE
TZID:America/Sao_Paulo
BEGIN:STANDARD
TZOFFSETFROM:-0300
TZOFFSETTO:-0300
TZNAME:-03
DTSTART:20240101T000000
END:STANDARD
END:VTIMEZONE
BEGIN:VEVENT
DTSTART;TZID=America/Sao_Paulo:20250205T090000
DTEND;TZID=America/Sao_Paulo:20250226T101500
DTSTAMP:20260423T031405
CREATED:20250204T053138Z
LAST-MODIFIED:20250204T053138Z
UID:53138-1738746000-1740564900@febrapsi.org
SUMMARY:Curso on-line: A essência da psicanálise
DESCRIPTION:A Sociedade Brasileira de Psicanálise de Porto Alegre (SBPdePA)\, por meio da Diretoria de Comunidade e Cultura\, convida para o curso “A essência da psicanálise “\, uma oportunidade online para explorar os fundamentos essenciais da Psicanálise em suas férias.  \n​Convidados: \n\n\n● Silvia Katz: Membro Titular da SBPdePA \n● Mara Horta Barbosa: Membro Titular e Diretora Administrativa da SBPdePA \n● Patrícia Rivoire Menelli Goldfeld: Membro Titular e Presidente da SBPdePA \n● Lores Meler: Membro Associada da SBPdePA \n​O curso é direcionado a profissionais e interessados em adquirir uma introdução sólida aos principais conceitos psicanalíticos\, fundamentais para a compreensão da mente humana. \n\n\n\n\n\n   \n\n \n\n\n\n\n\n\n\n \n\n\n\n\n\n\n\n\n\n\n\n\n\n\n\n\n\n 
URL:https://febrapsi.org/evento/curso-on-line-a-essencia-da-psicanalise/
LOCATION:curso online
CATEGORIES:Geral
ATTACH;FMTTYPE=image/png:https://febrapsi.org/storage/2025/01/1.png
ORGANIZER;CN="SBPdePA":MAILTO:secretaria@sbpdepa.org.br
END:VEVENT
BEGIN:VEVENT
DTSTART;TZID=America/Sao_Paulo:20250206T103000
DTEND;TZID=America/Sao_Paulo:20250227T114500
DTSTAMP:20260423T031405
CREATED:20250204T053138Z
LAST-MODIFIED:20250204T053138Z
UID:53146-1738837800-1740656700@febrapsi.org
SUMMARY:Curso de férias para estudantes: Conceitos básicos da psicanálise
DESCRIPTION:A Sociedade Brasileira de Psicanálise de Porto Alegre (SBPdePA) oferece\, nessas férias\, um curso especialmente voltado para estudantes interessados em explorar os fundamentos da Psicanálise. Serão quatro aulas introdutórias\, ideais para quem deseja compreender conceitos básicos\, mas essenciais sobre a mente humana. \n\n​Este curso introdutório é uma excelente oportunidade para estudantes mergulharem no universo psicanalítico\, refletindo sobre conceitos que fundamentam a prática e a teoria. \n\n\n\n\n\n  
URL:https://febrapsi.org/evento/curso-de-ferias-para-estudantes-conceitos-basicos-da-psicanalise/
LOCATION:curso online
CATEGORIES:Geral
ATTACH;FMTTYPE=image/png:https://febrapsi.org/storage/2025/01/1-1.png
ORGANIZER;CN="SBPdePA":MAILTO:secretaria@sbpdepa.org.br
END:VEVENT
END:VCALENDAR