BEGIN:VCALENDAR
VERSION:2.0
PRODID:-//FEBRAPSI - ECPv6.15.20//NONSGML v1.0//EN
CALSCALE:GREGORIAN
METHOD:PUBLISH
X-WR-CALNAME:FEBRAPSI
X-ORIGINAL-URL:https://febrapsi.org
X-WR-CALDESC:Eventos para FEBRAPSI
REFRESH-INTERVAL;VALUE=DURATION:PT1H
X-Robots-Tag:noindex
X-PUBLISHED-TTL:PT1H
BEGIN:VTIMEZONE
TZID:America/Sao_Paulo
BEGIN:STANDARD
TZOFFSETFROM:-0300
TZOFFSETTO:-0300
TZNAME:-03
DTSTART:20240101T000000
END:STANDARD
END:VTIMEZONE
BEGIN:VEVENT
DTSTART;TZID=America/Sao_Paulo:20250101T080000
DTEND;TZID=America/Sao_Paulo:20250216T170000
DTSTAMP:20260423T031236
CREATED:20241022T122249Z
LAST-MODIFIED:20241205T113557Z
UID:51773-1735718400-1739725200@febrapsi.org
SUMMARY:Curso "Exercícios Clínicos" 2025
DESCRIPTION:Inscrições abertas para o Curso “Exercícios Clínicos” 2025! \nEste curso oferece a oportunidade de aprimorar a escuta analítica e aprofundar a investigação clínica por meio da discussão de casos. Voltado para psicanalistas e psicoterapeutas psicanalíticos\, os encontros serão coordenados pelos membros do GEP Marília e Região: Angela M. J. Benites de Castro (Membro Associado da SBPSP e do GEP Marília e Região); Cássia Teixeira Assef (Membro Associado da SBPSP e do GEP Marília e Região); Luís Fernando Nóbrega (Membro Efetivo da SBPSP e do GEP Marília e Região); Maria Aparecida Rocha (Membro Associado da SBPSP e do GEP Marília e Região). \n️ 1º e 2º semestre/2025\nAulas às Terças-feiras\, das 20h30 às 22h\nOnline\, síncrono\, Via Zoom\nVagas limitadas (5 cotas para profissionais\, negros\, indígenas e refugiados).\nMensalidade: R$350\,00 \nGaranta sua vaga e participe deste espaço de troca e aperfeiçoamento profissional! \nMais informações e inscrições: (14) 3413-3307 | (14) 99614-6782.
URL:https://febrapsi.org/evento/curso-exercicios-clinicos-2025/
LOCATION:GEP Marília e Região\, R. Dr. Granadino de Batista\, 135\, Marília\, SP\, 17502-180
CATEGORIES:Geral
ATTACH;FMTTYPE=image/jpeg:https://febrapsi.org/storage/2024/10/Exercicios_Carrossel_3.jpeg
ORGANIZER;CN="GEP Mar%C3%ADlia e Regi%C3%A3o":MAILTO:contato@gepmariliaeregiao.com.br
END:VEVENT
BEGIN:VEVENT
DTSTART;TZID=America/Sao_Paulo:20250205T090000
DTEND;TZID=America/Sao_Paulo:20250226T101500
DTSTAMP:20260423T031236
CREATED:20250204T053138Z
LAST-MODIFIED:20250204T053138Z
UID:53138-1738746000-1740564900@febrapsi.org
SUMMARY:Curso on-line: A essência da psicanálise
DESCRIPTION:A Sociedade Brasileira de Psicanálise de Porto Alegre (SBPdePA)\, por meio da Diretoria de Comunidade e Cultura\, convida para o curso “A essência da psicanálise “\, uma oportunidade online para explorar os fundamentos essenciais da Psicanálise em suas férias.  \n​Convidados: \n\n\n● Silvia Katz: Membro Titular da SBPdePA \n● Mara Horta Barbosa: Membro Titular e Diretora Administrativa da SBPdePA \n● Patrícia Rivoire Menelli Goldfeld: Membro Titular e Presidente da SBPdePA \n● Lores Meler: Membro Associada da SBPdePA \n​O curso é direcionado a profissionais e interessados em adquirir uma introdução sólida aos principais conceitos psicanalíticos\, fundamentais para a compreensão da mente humana. \n\n\n\n\n\n   \n\n \n\n\n\n\n\n\n\n \n\n\n\n\n\n\n\n\n\n\n\n\n\n\n\n\n\n 
URL:https://febrapsi.org/evento/curso-on-line-a-essencia-da-psicanalise/
LOCATION:curso online
CATEGORIES:Geral
ATTACH;FMTTYPE=image/png:https://febrapsi.org/storage/2025/01/1.png
ORGANIZER;CN="SBPdePA":MAILTO:secretaria@sbpdepa.org.br
END:VEVENT
BEGIN:VEVENT
DTSTART;TZID=America/Sao_Paulo:20250206T103000
DTEND;TZID=America/Sao_Paulo:20250227T114500
DTSTAMP:20260423T031236
CREATED:20250204T053138Z
LAST-MODIFIED:20250204T053138Z
UID:53146-1738837800-1740656700@febrapsi.org
SUMMARY:Curso de férias para estudantes: Conceitos básicos da psicanálise
DESCRIPTION:A Sociedade Brasileira de Psicanálise de Porto Alegre (SBPdePA) oferece\, nessas férias\, um curso especialmente voltado para estudantes interessados em explorar os fundamentos da Psicanálise. Serão quatro aulas introdutórias\, ideais para quem deseja compreender conceitos básicos\, mas essenciais sobre a mente humana. \n\n​Este curso introdutório é uma excelente oportunidade para estudantes mergulharem no universo psicanalítico\, refletindo sobre conceitos que fundamentam a prática e a teoria. \n\n\n\n\n\n  
URL:https://febrapsi.org/evento/curso-de-ferias-para-estudantes-conceitos-basicos-da-psicanalise/
LOCATION:curso online
CATEGORIES:Geral
ATTACH;FMTTYPE=image/png:https://febrapsi.org/storage/2025/01/1-1.png
ORGANIZER;CN="SBPdePA":MAILTO:secretaria@sbpdepa.org.br
END:VEVENT
BEGIN:VEVENT
DTSTART;TZID=America/Sao_Paulo:20250215T090000
DTEND;TZID=America/Sao_Paulo:20250215T120000
DTSTAMP:20260423T031236
CREATED:20250116T001850Z
LAST-MODIFIED:20250116T001850Z
UID:53049-1739610000-1739620800@febrapsi.org
SUMMARY:"O início do tratamento: o que a pessoa busca quando decide procurar um psicanalista?"\, aula gratuita com Cibele Di Battista Brandão
DESCRIPTION:Este ano o GEP Marília e Região está oferecendo uma grande oportunidade para você aprimorar seus conhecimentos e ter uma aula com a renomada psicanalista Cibele Brandão. \nO início do tratamento: o que a pessoa busca quando decide procurar um psicanalista? \nO começo de um tratamento de saúde sempre é um momento que precisa ser observado de forma sensível. Este mini curso será uma forma de acionar um olhar profundo para o tema. \nVoltado para psicanalistas\, psicólogos\, médicos e estudantes das áreas médicas e psíquicas. \nOferecido de forma gratuita com certificado de participação que somam horas complementares para graduandos. \n️ 15 de fevereiro\nAula das 9h às 12h\nOnline\, síncrono\, Via Zoom\nVagas limitadas presencial \nInvestimento: gratuito. \nGaranta sua vaga! \nParticipe deste espaço de troca e aperfeiçoamento profissional! \nMais informações e inscrições\, pelo WhatsApp: (14) 99614-6782.
URL:https://febrapsi.org/evento/o-inicio-do-tratamento-o-que-a-pessoa-busca-quando-decide-procurar-um-psicanalista-aula-gratuita-com-cibele-di-battista-brandao/
LOCATION:GEP Marília e Região\, R. Dr. Granadino de Batista\, 135\, Marília\, SP\, 17502-180
CATEGORIES:Geral
ATTACH;FMTTYPE=image/jpeg:https://febrapsi.org/storage/2025/01/inicio_tratamento.jpeg
ORGANIZER;CN="GEP Mar%C3%ADlia e Regi%C3%A3o":MAILTO:contato@gepmariliaeregiao.com.br
END:VEVENT
BEGIN:VEVENT
DTSTART;TZID=America/Sao_Paulo:20250215T140000
DTEND;TZID=America/Sao_Paulo:20250215T170000
DTSTAMP:20260423T031236
CREATED:20250116T001851Z
LAST-MODIFIED:20250116T001851Z
UID:53046-1739628000-1739638800@febrapsi.org
SUMMARY:"Envelhecer: uma nova visão"\, aula gratuita com Cibele Di Battista Brandão
DESCRIPTION:Este ano o GEP Marília e Região está oferecendo uma grande oportunidade para você aprimorar seus conhecimentos e ter uma aula com a renomada psicanalista Cibele Brandão. \nEnvelhecer: uma nova visão\, trará esclarecimentos e abordagens sobre este importante momento da vida\, e a atuação dos profissionais de saúde mental. \nVoltado para psicanalistas\, psicólogos e estudantes das áreas médicas e psíquicas. \nOferecido de forma gratuita com certificado de participação que somam horas complementares para graduandos. \n️ 15 de fevereiro\nAula das 14h às 17h\nOnline\, síncrono\, Via Zoom\nVagas limitadas presencial \nInvestimento: gratuito. \nGaranta sua vaga!\nParticipe deste espaço de troca e aperfeiçoamento profissional! \nMais informações e inscrições\, pelo WhatsApp: (14) 99614-6782.
URL:https://febrapsi.org/evento/envelhecer-uma-nova-visao-aula-gratuita-com-cibele-di-battista-brandao/
LOCATION:GEP Marília e Região\, R. Dr. Granadino de Batista\, 135\, Marília\, SP\, 17502-180
CATEGORIES:Geral
ATTACH;FMTTYPE=image/jpeg:https://febrapsi.org/storage/2025/01/Envelhecer_nova.jpg
ORGANIZER;CN="GEP Mar%C3%ADlia e Regi%C3%A3o":MAILTO:contato@gepmariliaeregiao.com.br
END:VEVENT
END:VCALENDAR