BEGIN:VCALENDAR
VERSION:2.0
PRODID:-//FEBRAPSI - ECPv6.15.20//NONSGML v1.0//EN
CALSCALE:GREGORIAN
METHOD:PUBLISH
X-WR-CALNAME:FEBRAPSI
X-ORIGINAL-URL:https://febrapsi.org
X-WR-CALDESC:Eventos para FEBRAPSI
REFRESH-INTERVAL;VALUE=DURATION:PT1H
X-Robots-Tag:noindex
X-PUBLISHED-TTL:PT1H
BEGIN:VTIMEZONE
TZID:America/Sao_Paulo
BEGIN:STANDARD
TZOFFSETFROM:-0300
TZOFFSETTO:-0300
TZNAME:-03
DTSTART:20230101T000000
END:STANDARD
END:VTIMEZONE
BEGIN:VEVENT
DTSTART;TZID=America/Sao_Paulo:20241223T080000
DTEND;TZID=America/Sao_Paulo:20250203T170000
DTSTAMP:20260423T044900
CREATED:20241218T123309Z
LAST-MODIFIED:20241218T123309Z
UID:52450-1734940800-1738602000@febrapsi.org
SUMMARY:Curso Anual: "Envelhecer: uma descoberta"
DESCRIPTION:Estão abertas até fevereiro de 2025\, as inscrições para o curso “Envelhecer: uma descoberta”\, com a docente Cibele Maria Moraes di Battista Brandão (Membro Efetivo e Analista Didata da SBPSP; Docente no Instituto Durval Marcondes; Presidente\, Membro Fundador e Docente no GEP Marília e Região). \nO curso oferece uma compreensão sobre os processos psíquicos envolvidos no envelhecimento\, a partir da obra de Danielle Quinodoz\, uma das principais autoras contemporâneas que exploram o envelhecimento no âmbito da Psicanálise. Tem o objetivo de promover reflexões sobre como o envelhecer se apresenta dentro e fora da clínica\, no analisado e no analista\, de modo que se possa pensar o tema em nossa sociedade. \nPúblico alvo: Psicanalistas\, psicoterapeutas psicanalíticos\, médicos\, estudantes de pós-graduação de Medicina ou Psicologia. \n\n1º e 2º semestre/2025\nAulas às Sextas-feiras\, das 08h às 09h30\nOnline\, síncrono\, Via Zoom\nVagas limitadas (5 cotas gratuitas)\nMensalidade: R$350\,00\n\nMais informações e inscrições: (14) 3413-3307 | (14) 99614-6782.
URL:https://febrapsi.org/evento/curso-anual-envelhecer-uma-descoberta/
LOCATION:GEP Marília e Região\, R. Dr. Granadino de Batista\, 135\, Marília\, SP\, 17502-180
CATEGORIES:Geral
ATTACH;FMTTYPE=image/jpeg:https://febrapsi.org/storage/2024/12/Envelhecer.jpg
ORGANIZER;CN="GEP Mar%C3%ADlia e Regi%C3%A3o":MAILTO:contato@gepmariliaeregiao.com.br
END:VEVENT
BEGIN:VEVENT
DTSTART;TZID=America/Sao_Paulo:20250101T080000
DTEND;TZID=America/Sao_Paulo:20250131T170000
DTSTAMP:20260423T044900
CREATED:20241025T130820Z
LAST-MODIFIED:20241205T113444Z
UID:51878-1735718400-1738342800@febrapsi.org
SUMMARY:Curso "Princípios Básicos da Clínica Psicanalítica – A clínica de Freud"
DESCRIPTION:O GEP Marília e Região está com inscrições abertas para o Curso “Princípios Básicos da Clínica Psicanalítica – A clínica de Freud” em 2025. \nEste curso oferece aos graduandos dos últimos anos e aos recém-formados em Psicologia e Medicina a oportunidade de conhecerem os primórdios da clínica psicanalítica\, por meio de textos em que Freud aborda a criação e aplicação de suas técnicas. Os encontros serão coordenados pelos membros filiados ao GEP Marília e Região: Julia G. B. V. Boselli e Márcio Oldack Silva. \n️ 1º e 2º semestre/2025\nAulas 2º e 4º sábado do mês\, das 15h às 16h30\nOnline\, síncrono\, Via Zoom\nVagas limitadas (5 cotas para profissionais negros\, indígenas e refugiados).\nMensalidade: R$ 160\,00 \nGaranta sua vaga e participe deste espaço de troca e aperfeiçoamento profissional! Mais informações e inscrições\, nos chame no WhatsApp: (14) 99614-6782.
URL:https://febrapsi.org/evento/curso-principios-basicos-da-clinica-psicanalitica-a-clinica-de-freud/
LOCATION:GEP Marília e Região\, R. Dr. Granadino de Batista\, 135\, Marília\, SP\, 17502-180
CATEGORIES:Geral
ATTACH;FMTTYPE=image/jpeg:https://febrapsi.org/storage/2024/10/Principios.jpeg
ORGANIZER;CN="GEP Mar%C3%ADlia e Regi%C3%A3o":MAILTO:contato@gepmariliaeregiao.com.br
END:VEVENT
BEGIN:VEVENT
DTSTART;TZID=America/Sao_Paulo:20250101T080000
DTEND;TZID=America/Sao_Paulo:20250216T170000
DTSTAMP:20260423T044900
CREATED:20241022T122249Z
LAST-MODIFIED:20241205T113557Z
UID:51773-1735718400-1739725200@febrapsi.org
SUMMARY:Curso "Exercícios Clínicos" 2025
DESCRIPTION:Inscrições abertas para o Curso “Exercícios Clínicos” 2025! \nEste curso oferece a oportunidade de aprimorar a escuta analítica e aprofundar a investigação clínica por meio da discussão de casos. Voltado para psicanalistas e psicoterapeutas psicanalíticos\, os encontros serão coordenados pelos membros do GEP Marília e Região: Angela M. J. Benites de Castro (Membro Associado da SBPSP e do GEP Marília e Região); Cássia Teixeira Assef (Membro Associado da SBPSP e do GEP Marília e Região); Luís Fernando Nóbrega (Membro Efetivo da SBPSP e do GEP Marília e Região); Maria Aparecida Rocha (Membro Associado da SBPSP e do GEP Marília e Região). \n️ 1º e 2º semestre/2025\nAulas às Terças-feiras\, das 20h30 às 22h\nOnline\, síncrono\, Via Zoom\nVagas limitadas (5 cotas para profissionais\, negros\, indígenas e refugiados).\nMensalidade: R$350\,00 \nGaranta sua vaga e participe deste espaço de troca e aperfeiçoamento profissional! \nMais informações e inscrições: (14) 3413-3307 | (14) 99614-6782.
URL:https://febrapsi.org/evento/curso-exercicios-clinicos-2025/
LOCATION:GEP Marília e Região\, R. Dr. Granadino de Batista\, 135\, Marília\, SP\, 17502-180
CATEGORIES:Geral
ATTACH;FMTTYPE=image/jpeg:https://febrapsi.org/storage/2024/10/Exercicios_Carrossel_3.jpeg
ORGANIZER;CN="GEP Mar%C3%ADlia e Regi%C3%A3o":MAILTO:contato@gepmariliaeregiao.com.br
END:VEVENT
END:VCALENDAR