BEGIN:VCALENDAR
VERSION:2.0
PRODID:-//FEBRAPSI - ECPv6.15.20//NONSGML v1.0//EN
CALSCALE:GREGORIAN
METHOD:PUBLISH
X-ORIGINAL-URL:https://febrapsi.org
X-WR-CALDESC:Eventos para FEBRAPSI
REFRESH-INTERVAL;VALUE=DURATION:PT1H
X-Robots-Tag:noindex
X-PUBLISHED-TTL:PT1H
BEGIN:VTIMEZONE
TZID:America/Sao_Paulo
BEGIN:STANDARD
TZOFFSETFROM:-0300
TZOFFSETTO:-0300
TZNAME:-03
DTSTART:20230101T000000
END:STANDARD
END:VTIMEZONE
BEGIN:VEVENT
DTSTART;TZID=America/Sao_Paulo:20241205T203000
DTEND;TZID=America/Sao_Paulo:20241205T220000
DTSTAMP:20260423T061514
CREATED:20241120T013347Z
LAST-MODIFIED:20241120T013347Z
UID:52155-1733430600-1733436000@febrapsi.org
SUMMARY:Quinta Científica da Associação de Candidatos: “Processos criativos e o espaço transicional entre a arte e a psicanálise”
DESCRIPTION:Convidamos para a Quinta Científica da Associação de Candidatos: “Processos criativos e o espaço transicional entre a arte e a psicanálise”\, dia 5 de dezembro (quinta-feira)\, às 20h30\, no Auditório da SPPA (Residentes em Porto Alegre) e Plataforma Zoom/SPPA (Pessoas que estiverem fora de Porto Alegre). \nApresentadores\nAloísio Rocha\nPublicitário e produtor audiovisual\nFAMECOS – PUCRS\nDiretor do documentário Tangos e Tragédias Para Sempre\nProdutor do documentário Tragédia Anunciada\, referente a enchente de 2024 \nAna Rita Taschetto\nPsicóloga\, Membro aspirante graduado SPPA\nFormação analítica de adultos\, infância e adolescência\nProfessora e Supervisora do CEAPIA\nGraduação em Artes pela UPF \nCoordenação\nGustavo Bortoluzzi\nMédico Psiquiatra\nMembro Aspirante SPPA\nPresidente da Associação de Candidatos (AC) da SPPA \nInscrições antecipadas:\nhttps://forms.gle/MxE9R96piU3QkCTW9 \nAtividade aberta e gratuita
URL:https://febrapsi.org/evento/quinta-cientifica-da-associacao-de-candidatos-processos-criativos-e-o-espaco-transicional-entre-a-arte-e-a-psicanalise/
LOCATION:Evento híbrido
CATEGORIES:Geral
ATTACH;FMTTYPE=image/jpeg:https://febrapsi.org/storage/2024/11/2024-12-05-01-Quinta-Cientidica-AC.jpg
ORGANIZER;CN="SPPA":MAILTO:sppa@sppa.org.br
END:VEVENT
END:VCALENDAR