BEGIN:VCALENDAR
VERSION:2.0
PRODID:-//FEBRAPSI - ECPv6.15.20//NONSGML v1.0//EN
CALSCALE:GREGORIAN
METHOD:PUBLISH
X-ORIGINAL-URL:https://febrapsi.org
X-WR-CALDESC:Eventos para FEBRAPSI
REFRESH-INTERVAL;VALUE=DURATION:PT1H
X-Robots-Tag:noindex
X-PUBLISHED-TTL:PT1H
BEGIN:VTIMEZONE
TZID:America/Sao_Paulo
BEGIN:STANDARD
TZOFFSETFROM:-0300
TZOFFSETTO:-0300
TZNAME:-03
DTSTART:20230101T000000
END:STANDARD
END:VTIMEZONE
BEGIN:VEVENT
DTSTART;TZID=America/Sao_Paulo:20241202T203000
DTEND;TZID=America/Sao_Paulo:20241202T220000
DTSTAMP:20260423T061516
CREATED:20241120T013347Z
LAST-MODIFIED:20241120T013347Z
UID:52152-1733171400-1733176800@febrapsi.org
SUMMARY:A Diretoria Científica convida para a última atividade do Ciclo de Conferências da SBPdePA - Sexualidade e Gênero: Origens e Destinos
DESCRIPTION:A Diretoria Científica convida para a última atividade do Ciclo de Conferências da SBPdePA – Sexualidade e Gênero: Origens e Destinos\n\nAbrindo espaço para o gênero na psicanálise: uma exigência teórica\, clínica e ético-política \n\nEsta atividade encerra o Ciclo de Conferências Sexualidade e Gênero: Origens e Destinos\, com estudos realizados ao longo do ano de 2024\, e inaugura o Grupo de Estudos sobre Sexualidade e Gênero Dissidentes\, que terá início em março de 2025. Para este encontro\, teremos como convidado Facundo Blestcher\, psicanalista\, mestre em Clínica Psicanalítica pela Universidade de León e com Diploma de Estudos Avançados em Psicanálise pela Universidade Autônoma de Madri. Foi presidente da FLAPPSIP (Federação Latino-Americana de Associações de Psicoterapia Psicanalítica e Psicanálise) e atualmente preside a ASAPPIA (Associação Argentina de Psiquiatria e Psicologia da Infância e Adolescência). Além disso\, é membro do Conselho Assessor do Fórum de Psicanálise e Gênero da Associação de Psicólogos de Buenos Aires\, autor de diversas publicações e palestrante em eventos científicos.\n Data: 02/12/24\n Horário: das 20h30 às 22h\n Evento on-line\nCoordenação: Patrícia Goldfeld\, psicanalista e presidente da SBPdePA.
URL:https://febrapsi.org/evento/a-diretoria-cientifica-convida-para-a-ultima-atividade-do-ciclo-de-conferencias-da-sbpdepa-sexualidade-e-genero-origens-e-destinos/
LOCATION:curso online
CATEGORIES:Geral
ATTACH;FMTTYPE=image/jpeg:https://febrapsi.org/storage/2024/11/conferencia.jpeg
ORGANIZER;CN="SBPdePA":MAILTO:secretaria@sbpdepa.org.br
END:VEVENT
END:VCALENDAR