BEGIN:VCALENDAR
VERSION:2.0
PRODID:-//FEBRAPSI - ECPv6.15.20//NONSGML v1.0//EN
CALSCALE:GREGORIAN
METHOD:PUBLISH
X-ORIGINAL-URL:https://febrapsi.org
X-WR-CALDESC:Eventos para FEBRAPSI
REFRESH-INTERVAL;VALUE=DURATION:PT1H
X-Robots-Tag:noindex
X-PUBLISHED-TTL:PT1H
BEGIN:VTIMEZONE
TZID:America/Sao_Paulo
BEGIN:STANDARD
TZOFFSETFROM:-0300
TZOFFSETTO:-0300
TZNAME:-03
DTSTART:20230101T000000
END:STANDARD
END:VTIMEZONE
BEGIN:VEVENT
DTSTART;TZID=America/Sao_Paulo:20241128T203000
DTEND;TZID=America/Sao_Paulo:20241128T220000
DTSTAMP:20260423T075840
CREATED:20241105T131326Z
LAST-MODIFIED:20241105T131326Z
UID:52011-1732825800-1732831200@febrapsi.org
SUMMARY:RODA DE CONVERSA SOBRE SEXUALIDADE E GÊNERO
DESCRIPTION:Diretoria Científica convida a todos para a última Roda de Conversa sobre Sexualidade e Gênero – Origens e Destinos de 2024 – “Metapsicologia e Subjetividades Contemporâneas”\, que encerra nosso ano científico. \nA atividade acontecerá no dia 28 de novembro\, quinta-feira\, das 20h30 às 22h em formato híbrido e gratuito.  A mesa propõe instigar o pensamento sobre como a psicanálise escuta\, acolhe e dá sentido às subjetividades que se apresentam hoje. Ressaltamos que será um prazer receber todos que puderem estar presentes em nossa sede. \n​▪️ Convidados: \nAbraham Turkenicz – Psicanalista do Ceapia e do Contemporâneo; \nIgnácio Paim – Psicanalista da SBPdePA e Integrante da Comissão Ubuntu; \nPaula Sarmento Leite – Psicanalista da SBPdePA. \nCoordenação: Janine Severo – Psicanalista da SBPdePA e Diretora Científica. \nSerá uma conversa enriquecedora\, estimulando o diálogo e a reflexão para aprofundar conhecimentos e trocar experiências sobre este tema tão relevante. \nDúvidas: comuniacao@sbpdepa.org.br \nEsta atividade será gravada: As imagens e gravações poderão ser publicadas e/ou postadas nas nossas redes. Solicitamos que as pessoas que não queiram que sua imagem apareça\, permaneçam com suas câmeras desligadas durante toda a atividade.
URL:https://febrapsi.org/evento/roda-de-conversa-sobre-sexualidade-e-genero-2/
LOCATION:Evento híbrido
CATEGORIES:Geral
ATTACH;FMTTYPE=image/png:https://febrapsi.org/storage/2024/11/capa-1.png
ORGANIZER;CN="SBPdePA":MAILTO:secretaria@sbpdepa.org.br
END:VEVENT
END:VCALENDAR