BEGIN:VCALENDAR
VERSION:2.0
PRODID:-//FEBRAPSI - ECPv6.15.20//NONSGML v1.0//EN
CALSCALE:GREGORIAN
METHOD:PUBLISH
X-WR-CALNAME:FEBRAPSI
X-ORIGINAL-URL:https://febrapsi.org
X-WR-CALDESC:Eventos para FEBRAPSI
REFRESH-INTERVAL;VALUE=DURATION:PT1H
X-Robots-Tag:noindex
X-PUBLISHED-TTL:PT1H
BEGIN:VTIMEZONE
TZID:America/Sao_Paulo
BEGIN:STANDARD
TZOFFSETFROM:-0300
TZOFFSETTO:-0300
TZNAME:-03
DTSTART:20230101T000000
END:STANDARD
END:VTIMEZONE
BEGIN:VEVENT
DTSTART;TZID=America/Sao_Paulo:20241114T080000
DTEND;TZID=America/Sao_Paulo:20241125T170000
DTSTAMP:20260423T075529
CREATED:20241007T142544Z
LAST-MODIFIED:20241204T033424Z
UID:51663-1731571200-1732554000@febrapsi.org
SUMMARY:Curso "Envelhecer: uma descoberta"
DESCRIPTION:Estão abertas até 25/11/2024 as inscrições para o curso “Envelhecer: uma descoberta”\, com a docente Cibele Maria Moraes di Battista Brandão (Membro Efetivo e Analista Didata da SBPSP; Docente no Instituto Durval Marcondes; Presidente\, Membro Fundador e Docente no GEP Marília e Região). \nO curso oferece uma compreensão sobre os processos psíquicos envolvidos no envelhecimento\, a partir da obra de Danielle Quinodoz\, uma das principais autoras contemporâneas que exploram o envelhecimento no âmbito da Psicanálise. Tem o objetivo de promover reflexões sobre como o envelhecer se apresenta dentro e fora da clínica\, no analisado e no analista\, de modo que se possa pensar o tema em nossa sociedade. \nPúblico alvo: Psicanalistas\, psicoterapeutas psicanalíticos\, médicos\, estudantes de pós-graduação de Medicina ou Psicologia. \n\n1º e 2º semestre/2025\nAulas às Sextas-feiras\, das 08h às 09h30\nOnline\, síncrono\, Via Zoom\nVagas limitadas (5 cotas gratuitas)\nMensalidade: R$350\,00\n\nMais informações e inscrições: (14) 3413-3307 | (14) 99614-6782.
URL:https://febrapsi.org/evento/curso-envelhecer-uma-descoberta/
LOCATION:GEP Marília e Região\, R. Dr. Granadino de Batista\, 135\, Marília\, SP\, 17502-180
CATEGORIES:Geral
ATTACH;FMTTYPE=image/jpeg:https://febrapsi.org/storage/2024/10/Curso-Envelhecer.jpeg
ORGANIZER;CN="GEP Mar%C3%ADlia e Regi%C3%A3o":MAILTO:contato@gepmariliaeregiao.com.br
END:VEVENT
BEGIN:VEVENT
DTSTART;TZID=America/Sao_Paulo:20241122T143000
DTEND;TZID=America/Sao_Paulo:20241122T163000
DTSTAMP:20260423T075529
CREATED:20241022T122312Z
LAST-MODIFIED:20241022T122312Z
UID:51760-1732285800-1732293000@febrapsi.org
SUMMARY:MASOQUISMO por Marilia Aisenstein
DESCRIPTION:Palestra com tradução simultânea. \nMarilia Aisenstein\, psicanalista\, membro da Sociedade Psicanalítica de Paris – SPP \n\n\nCoordenador: Admar Horn\, presidente do Instituto de Psicossomática – IPSO BRASIL e membro da SBPRJ \n\nProfissionais 220\,00 (*)\nMembros efetivos/associados SBPRJ 200\,00 (*)\nEstudantes universitários 110\,00 (*)\nAlunos/MP SBPRJ 100\,00 (*)\n(*) +tx. Sympla\n \nINSCREVA-SE  => https://www.sympla.com.br/evento-online/palestra-masoquismo-por-marilia-aisenstein/2681314\n \nGratuito para bolsistas SBPRJ. inscrição: sbprj@sbprj.org.br\n \nAtividade promovida pelo Centro de Estudos Psicanalíticos da SBPRJ e Instituto de Psicossomática – IPSO BRASIL\n \n\n 
URL:https://febrapsi.org/evento/masoquismo-por-marilia-aisenstein/
LOCATION:Online – Plataforma Zoom
CATEGORIES:Geral
ATTACH;FMTTYPE=image/png:https://febrapsi.org/storage/2024/10/M-Aisenstein_22-1.png
ORGANIZER;CN="SBPRJ":MAILTO:sbprj@sbprj.org.br
END:VEVENT
BEGIN:VEVENT
DTSTART;TZID=America/Sao_Paulo:20241122T190000
DTEND;TZID=America/Sao_Paulo:20241123T180000
DTSTAMP:20260423T075529
CREATED:20241025T183502Z
LAST-MODIFIED:20241029T161006Z
UID:51908-1732302000-1732384800@febrapsi.org
SUMMARY:JORNADA PREPARATÓRIA DO GEP-SC PARA O 30o. CONGRESSO BRASILEIRO DE PSICANÁLISE DA FEBRAPSI\, COM O TEMA SEXUALIDADE – O TUMULTO DAS DIFERENÇAS
DESCRIPTION:Estamos prestes a embarcar em dois dias intensos de aprendizado e troca de experiências no caminho para o 30º Congresso Brasileiro de Psicanálise da FEBRAPSI.\nSerão compartilhadas reflexões profundas e provocações essenciais sobre o tema.\n22 e 23 de novembro de 2024 | Hotel Castelmar | Florianópolis/SC
URL:https://febrapsi.org/evento/jornada-preparatoria-do-gep-sc-para-o-30o-congresso-brasileiro-de-psicanalise-da-febrapsi-com-o-tema-sexualidade-o-tumulto-das-diferencas/
LOCATION:Castelmar Hotel\, R. Felipe Schmidt\, 1260 - Centro\, Florianópolis SC\, Santa Catarina\, 88010-002\, Brazil
CATEGORIES:Geral
ATTACH;FMTTYPE=image/jpeg:https://febrapsi.org/storage/2024/10/PRIMEIRO.jpeg
ORGANIZER;CN="GEP-SC":MAILTO:secretaria@gep-sc.com.br
END:VEVENT
END:VCALENDAR