BEGIN:VCALENDAR
VERSION:2.0
PRODID:-//FEBRAPSI - ECPv6.15.20//NONSGML v1.0//EN
CALSCALE:GREGORIAN
METHOD:PUBLISH
X-WR-CALNAME:FEBRAPSI
X-ORIGINAL-URL:https://febrapsi.org
X-WR-CALDESC:Eventos para FEBRAPSI
REFRESH-INTERVAL;VALUE=DURATION:PT1H
X-Robots-Tag:noindex
X-PUBLISHED-TTL:PT1H
BEGIN:VTIMEZONE
TZID:America/Sao_Paulo
BEGIN:STANDARD
TZOFFSETFROM:-0300
TZOFFSETTO:-0300
TZNAME:-03
DTSTART:20230101T000000
END:STANDARD
END:VTIMEZONE
BEGIN:VEVENT
DTSTART;TZID=America/Sao_Paulo:20241113T080000
DTEND;TZID=America/Sao_Paulo:20241113T220000
DTSTAMP:20260423T075528
CREATED:20241017T031656Z
LAST-MODIFIED:20241030T142359Z
UID:51745-1731484800-1731535200@febrapsi.org
SUMMARY:Burnout: Entre o prazer e o sofrimento
DESCRIPTION: No dia 13 de novembro\, a Diretoria Científica da SPBsb promoverá um evento na Sociedade de Psicanálise de Brasília – SPBsb. O encontro contará com a apresentação do trabalho “Burnout: Entre o prazer e o sofrimento”\, conduzido por Marielle Kellerman\, psicóloga formada pela USP\, membro associado da Sociedade Brasileira de Psicanálise de São Paulo (SBPSP)\, autora do livro Entre o Like e o Burnout e co-host do podcast Lá Fora – Coisas do Mundo pelo Olhar da Psicanálise. A coordenação da atividade será de Daniela Yglesias Castro Prieto\, Diretora Científica da SPBsb.\n\n\n\n\n\n\n \n\n\n\n\n\n\n\n\n\n\n\n\n\n\n\n\n\n\n\n\n\n\n\n\n\n\n\n\nFaça a sua inscrição aqui
URL:https://febrapsi.org/evento/burnout-entre-o-prazer-e-o-sofrimento/
LOCATION:Daniel Briand Pâtissier e Chocolatier\, CLN 104 Norte\, Brasília\, Distrito Federal\, Brazil
CATEGORIES:Geral
ATTACH;FMTTYPE=image/jpeg:https://febrapsi.org/storage/2024/10/Marielle-DC-1.jpg
END:VEVENT
END:VCALENDAR