BEGIN:VCALENDAR
VERSION:2.0
PRODID:-//FEBRAPSI - ECPv6.15.20//NONSGML v1.0//EN
CALSCALE:GREGORIAN
METHOD:PUBLISH
X-WR-CALNAME:FEBRAPSI
X-ORIGINAL-URL:https://febrapsi.org
X-WR-CALDESC:Eventos para FEBRAPSI
REFRESH-INTERVAL;VALUE=DURATION:PT1H
X-Robots-Tag:noindex
X-PUBLISHED-TTL:PT1H
BEGIN:VTIMEZONE
TZID:America/Sao_Paulo
BEGIN:STANDARD
TZOFFSETFROM:-0300
TZOFFSETTO:-0300
TZNAME:-03
DTSTART:20230101T000000
END:STANDARD
END:VTIMEZONE
BEGIN:VEVENT
DTSTART;TZID=America/Sao_Paulo:20241107T203000
DTEND;TZID=America/Sao_Paulo:20241107T220000
DTSTAMP:20260423T075459
CREATED:20241022T122248Z
LAST-MODIFIED:20241022T122248Z
UID:51752-1731011400-1731016800@febrapsi.org
SUMMARY:Quinta Científica da Diretoria da Infância e da Adolescência “Avatares da adoção: novos desafios”
DESCRIPTION:Convidamos para a Quinta Científica da Diretoria da Infância e da Adolescência “Avatares da adoção: novos desafios”\, no dia  07 de novembro (quinta-feira)\, às 20h30\, na Plataforma Zoom/SPPA. \nConvidada\nAlicia Dorado de Lisondo\nPsicanalista Didata\, Docente\, Psicanalista de Crianças e Adolescentes pelo IPA (International Psychoanalytic Association) da SBPCampinas e da SBPSP.\nMembro Fundador do Grupo de Psicanálise de Campinas.\nCo -Coordenadora do Grupo de Estudos Parentalidade e Adoção na SBPSP\nMembro da Associação Latino Americana de Observação de Bebês (ALOBB) Método Esther Bick.\nMembro do grupo de pesquisa Protocolo PRISMA na SBPSP. \nCoordenação\nNazur Aragonez de Vasconcellos\nDiretor da Infância e Adolescência da SPPA \nInscrições Antecipadas:\nhttps://us06web.zoom.us/webinar/register/WN_j-pVrFctQv6qwKk9a2O8cQ \nAtividade aberta e gratuita
URL:https://febrapsi.org/evento/quinta-cientifica-da-diretoria-da-infancia-e-da-adolescencia-avatares-da-adocao-novos-desafios/
LOCATION:Evento Online
CATEGORIES:Geral
ATTACH;FMTTYPE=image/jpeg:https://febrapsi.org/storage/2024/10/2024-11-07-DIA.jpg
ORGANIZER;CN="SPPA":MAILTO:sppa@sppa.org.br
END:VEVENT
END:VCALENDAR