BEGIN:VCALENDAR
VERSION:2.0
PRODID:-//FEBRAPSI - ECPv6.15.20//NONSGML v1.0//EN
CALSCALE:GREGORIAN
METHOD:PUBLISH
X-WR-CALNAME:FEBRAPSI
X-ORIGINAL-URL:https://febrapsi.org
X-WR-CALDESC:Eventos para FEBRAPSI
REFRESH-INTERVAL;VALUE=DURATION:PT1H
X-Robots-Tag:noindex
X-PUBLISHED-TTL:PT1H
BEGIN:VTIMEZONE
TZID:America/Sao_Paulo
BEGIN:STANDARD
TZOFFSETFROM:-0300
TZOFFSETTO:-0300
TZNAME:-03
DTSTART:20230101T000000
END:STANDARD
END:VTIMEZONE
BEGIN:VEVENT
DTSTART;TZID=America/Sao_Paulo:20240619T090000
DTEND;TZID=America/Sao_Paulo:20241104T114500
DTSTAMP:20260423T113106
CREATED:20240508T030634Z
LAST-MODIFIED:20241105T135203Z
UID:49987-1718787600-1730720700@febrapsi.org
SUMMARY:Cenários da Psicanálise: dos Autores Clássicos aos Contemporâneos
DESCRIPTION:A Diretoria de Comunidade e Cultura tem o prazer de anunciar um curso extensivo dedicado ao estudo abrangente dos cenários da psicanálise. De junho a novembro\, embarque em uma jornada intelectual que se inicia com Sigmund Freud\, o pioneiro da psicanálise\, atravessa os influentes pós-freudianos e alcança as figuras marcantes da psicanálise contemporânea.\n\nEste curso de sete meses\, composto por 48 aulas\, é uma oportunidade única para explorar a evolução da psicanálise dentro de seus contextos históricos e culturais. \n\nAs aulas serão coordenadas por membros renomados da SBPdePA e contarão com a participação de professores convidados de diversas regiões\, trazendo perspectivas frescas e diversificadas para enriquecer nosso entendimento sobre os fenômenos da condição humana\n\n\nParticipe deste curso transformador e amplie seus horizontes no campo da psicanálise!\nDúvidas: comunicacao@sbpdepa.org.br
URL:https://febrapsi.org/evento/cenarios-da-psicanalise-dos-autores-classicos-aos-contemporaneos/
LOCATION:Online – Plataforma Zoom
CATEGORIES:Geral
ATTACH;FMTTYPE=image/png:https://febrapsi.org/storage/2024/05/curso-1-1.png
END:VEVENT
BEGIN:VEVENT
DTSTART;TZID=America/Sao_Paulo:20240903T200000
DTEND;TZID=America/Sao_Paulo:20240903T213000
DTSTAMP:20260423T113106
CREATED:20240823T201536Z
LAST-MODIFIED:20240823T201536Z
UID:51126-1725393600-1725399000@febrapsi.org
SUMMARY:“Intersecções entre psicanálise e o teatro infantil. Reflexões sobre o musical “Adivinha o que é?”
DESCRIPTION:Convidamos para a atividade “Intersecções entre psicanálise e o teatro infantil. Reflexões sobre o musical “Adivinha o que é?”\, dia 03 de setembro\, às 20h\, no auditório da SPPA (Residentes em Porto Alegre) e Plataforma Zoom/SPPA (Pessoas que estiverem fora de Porto Alegre). \nA atividade deste mês propõe um debate sobre um musical infantil.\n“Adivinha o que é?” foi inspirado no disco de mesmo nome\, do MPB4. A partir das músicas\, a autora e diretora Juliana Barros desenvolveu a história do espetáculo\, que conta com as músicas cantadas ao vivo pelo elenco. O musical apresenta a história de uma menina\, a princesa Rosa Branca que\, às vésperas do seu aniversário\, tem um pesadelo onde ela se transforma em um botão. Sendo assim\, ela decide que nunca mais vai dormir. Para reestabelecer o sono da menina\, e os dias e as noites no Reino das Flores\, o trio de cantadores mágicos leva a princesa para uma jornada de aventuras através da Floresta Mágica do Tempo. \nApresentação:\nJuliana Barros – formação em artes cênicas e comunicação social pela UFRGS. Atua na área cultural desde a década de 90\, tendo recebido vários prêmios como atriz e produtora cultural. A partir dos últimos também\, atua também como diretora e autora teatral. Assina o texto e direção dos espetáculos: TERAPIA DE CASAL\, UMA COMÉDIA EM CRISE – ADIVINHA O QUE É\, UM MUSICAL INSPIRADO NO DISCO DO MPB4 – TERAPIA COLORIDA #TUDOJUNTO&MISTURADO \nComentário:\nCátia Deon Dall’Agno\nPsicanalista de crianças e adolescentes- membro efetivo SPPA \nCoordenação\nNazur Aragonez de Vasconcellos\n(Diretor da Infância e Adolescênciada SPPA) \nInscrições Antecipadas:\nhttps://forms.gle/6BAwdxdVfCocGfnu5 \nAtividade aberta e gratuita \nSPPA (Rua Gen. Andrade Neves\, 14/402 – Centro)\nEstacionamento conveniado Open Auto (R. Gen. Andrade Neves\, 46)
URL:https://febrapsi.org/evento/interseccoes-entre-psicanalise-e-o-teatro-infantil-reflexoes-sobre-o-musical-adivinha-o-que-e/
LOCATION:Evento híbrido
CATEGORIES:Geral
ATTACH;FMTTYPE=image/jpeg:https://febrapsi.org/storage/2024/08/2024-09-03-01-DIA.jpg
ORGANIZER;CN="SPPA":MAILTO:sppa@sppa.org.br
END:VEVENT
BEGIN:VEVENT
DTSTART;TZID=America/Sao_Paulo:20240903T200000
DTEND;TZID=America/Sao_Paulo:20240903T220000
DTSTAMP:20260423T113106
CREATED:20240429T225150Z
LAST-MODIFIED:20240613T142626Z
UID:49713-1725393600-1725400800@febrapsi.org
SUMMARY:Sigmund Freud encontra Rita Lee - Música\, Literatura e Psicanálise
DESCRIPTION:Sigmund Freud encontra Rita Lee – Música\, Literatura e Psicanálise \nA diretoria de Comunidade e Cultura convida a todos para evento intitulado “Sigmund Freud encontra Rita Lee – Música\, Literatura e Psicanálise”\, que acontecerá em nova data\, no dia 03 de setembro às 20h em formato híbrido e gratuito. A atividade tem como objetivo mostrar o vínculo entre a arte e a psicanálise \nPara futuras atualizações sobre o evento e informações de inscrição\, por favor\, acompanhe nosso site sbpdepa.org.br  \nDúvidas: comunicacao@sbpdepa.org.br \nInscrições: https://www.sbpdepa.org.br/sigmund-freud-encontra-rita-lee-m%C3%BAsica \n 
URL:https://febrapsi.org/evento/sigmund-freud-encontra-rita-lee-musica-literatura-e-psicanalise/
LOCATION:Evento híbrido
CATEGORIES:Geral
ATTACH;FMTTYPE=image/png:https://febrapsi.org/storage/2024/04/capa-freud.png
ORGANIZER;CN="SBPdePA":MAILTO:secretaria@sbpdepa.org.br
END:VEVENT
BEGIN:VEVENT
DTSTART;TZID=America/Sao_Paulo:20240903T203000
DTEND;TZID=America/Sao_Paulo:20240903T220000
DTSTAMP:20260423T113106
CREATED:20240904T143437Z
LAST-MODIFIED:20240904T143437Z
UID:51308-1725395400-1725400800@febrapsi.org
SUMMARY:“Quinta Científica: Contribuição da Escuta Psicanalítica na Construção de Políticas Públicas”
DESCRIPTION:Convidamos para a “Quinta Científica: Contribuição da Escuta Psicanalítica na Construção de Políticas Públicas”\, no dia 12 de setembro (quinta-feira)\, às 20h30\, na Plataforma Zoom/SPPA. \nConvidadas:\nCarmem Rodríguez\nDoutora em Educação. Licenciada em Psicologia. Especialista em Políticas Públicas da Infância e Adolescência. Consultora da UNICEF \nFlávia Friedman Maltz\nPsicanalista da SPPA. Coordenadora do Grupo Rodaviva /SPPA \nCoordenação:\nLuciana Aranha Secco\nDiretora de Ações na Comunidade \nInscrições antecipadas:\nhttps://us06web.zoom.us/webinar/register/WN_fk8W2Z2JQFKeuRB70It-bw \nAtividade online e aberta.
URL:https://febrapsi.org/evento/quinta-cientifica-contribuicao-da-escuta-psicanalitica-na-construcao-de-politicas-publicas/
LOCATION:Online – Plataforma Zoom
CATEGORIES:Geral
ATTACH;FMTTYPE=image/jpeg:https://febrapsi.org/storage/2024/09/2024-09-12-01-Quinta-Cientifica.jpg
ORGANIZER;CN="SPPA":MAILTO:sppa@sppa.org.br
END:VEVENT
END:VCALENDAR