BEGIN:VCALENDAR
VERSION:2.0
PRODID:-//FEBRAPSI - ECPv6.15.20//NONSGML v1.0//EN
CALSCALE:GREGORIAN
METHOD:PUBLISH
X-WR-CALNAME:FEBRAPSI
X-ORIGINAL-URL:https://febrapsi.org
X-WR-CALDESC:Eventos para FEBRAPSI
REFRESH-INTERVAL;VALUE=DURATION:PT1H
X-Robots-Tag:noindex
X-PUBLISHED-TTL:PT1H
BEGIN:VTIMEZONE
TZID:America/Sao_Paulo
BEGIN:STANDARD
TZOFFSETFROM:-0300
TZOFFSETTO:-0300
TZNAME:-03
DTSTART:20230101T000000
END:STANDARD
END:VTIMEZONE
BEGIN:VEVENT
DTSTART;TZID=America/Sao_Paulo:20240619T090000
DTEND;TZID=America/Sao_Paulo:20241104T114500
DTSTAMP:20260423T123757
CREATED:20240508T030634Z
LAST-MODIFIED:20241105T135203Z
UID:49987-1718787600-1730720700@febrapsi.org
SUMMARY:Cenários da Psicanálise: dos Autores Clássicos aos Contemporâneos
DESCRIPTION:A Diretoria de Comunidade e Cultura tem o prazer de anunciar um curso extensivo dedicado ao estudo abrangente dos cenários da psicanálise. De junho a novembro\, embarque em uma jornada intelectual que se inicia com Sigmund Freud\, o pioneiro da psicanálise\, atravessa os influentes pós-freudianos e alcança as figuras marcantes da psicanálise contemporânea.\n\nEste curso de sete meses\, composto por 48 aulas\, é uma oportunidade única para explorar a evolução da psicanálise dentro de seus contextos históricos e culturais. \n\nAs aulas serão coordenadas por membros renomados da SBPdePA e contarão com a participação de professores convidados de diversas regiões\, trazendo perspectivas frescas e diversificadas para enriquecer nosso entendimento sobre os fenômenos da condição humana\n\n\nParticipe deste curso transformador e amplie seus horizontes no campo da psicanálise!\nDúvidas: comunicacao@sbpdepa.org.br
URL:https://febrapsi.org/evento/cenarios-da-psicanalise-dos-autores-classicos-aos-contemporaneos/
LOCATION:Online – Plataforma Zoom
CATEGORIES:Geral
ATTACH;FMTTYPE=image/png:https://febrapsi.org/storage/2024/05/curso-1-1.png
END:VEVENT
BEGIN:VEVENT
DTSTART;TZID=America/Sao_Paulo:20240830T123000
DTEND;TZID=America/Sao_Paulo:20240831T133000
DTSTAMP:20260423T123757
CREATED:20240406T162938Z
LAST-MODIFIED:20240619T142947Z
UID:49585-1725021000-1725111000@febrapsi.org
SUMMARY:XXVI Simpósio da Infância e Adolescência da SPPA
DESCRIPTION:XXVI Simpósio da Infância e Adolescência da SPPA: O processo arcaico (e seus après-coup)\nConvidado: Dr. René Roussillon\nMembro da Sociedade Psicanalítica de Paris\, professor honorário da Universidade de Lyon2\, pesquisador e escritor na área psicanalítica \nHaverá tradução simultânea\n30 e 31 de agosto de 2024\nAtividade online pela plataforma Zoom \nValores:\nProfissionais: 280\,00\nEstudantes: 130\,00\nMembros da SPPA: isentos\nInscrições antecipadas: https://forms.gle/GNpngkBc9r2AJfiq5 \nPrograma:\n30 de agosto de 2024 (sexta-feira) \n12h30 às 14h\nAbertura\nKatia Wagner Radke (Presidente SPPA \nPrimeira Conferência: “O processo arcaico (e seus après-coup)”.\nApresentação: Dr. René Roussillon\nCoordenação: Nazur Aragonez de Vasconcellos (Diretor da Infância e Adolescência SPPA) \n14h30 às 16h30– Temas Livres \n31 de agosto de 2024 (sábado) \n9h às 10h30\nSupervisão com Dr. René Roussillon (Restrita a Membros IPA)\nApresentação: Rui de Mesquita Annes (Psicanalista SPPA)\nCoordenação: Maria Elisabeth Cimenti (Psicanalista SPPA) \n11h às 12h30\nSegunda Conferência: “Efeitos dos fracassos do arcaico na adolescência”\nApresentação: Dr. René Roussillon\nCoordenação: Katia Wagner Radke (Presidente SPPA) \n12h30\nEntrega do Prêmio Zaira de Bittencourt Martins\nEncerramento\nCoordenação: Nazur Aragonez de Vasconcellos (Diretor da Infância e Adolescência SPPA) \n  \nPrêmio Zaira de Bittencourt Martins\nData limite para envio dos trabalhos: 30 de julho de 2024 \nComo parte da programação científica\, do Simpósio da Infância e Adolescência\, convidamos os colegas a escrever e enviar trabalhos relacionados a temática da Psicanálise da Infância e Adolescência. \nRegulamento do Prêmio Zaira de Bittencourt Martins \nParticipe! Envio para secretaria@sppa.org.br \n  \nTemas Livres  \nData limite para envio dos Temas Livres: 15 de agosto 2024 \nRegulamento Temas Livres \n Participe! Envio para secretaria@sppa.org.br
URL:https://febrapsi.org/evento/xxvi-simposio-da-infancia-e-adolescencia-da-sppa/
LOCATION:Online – Plataforma Zoom
CATEGORIES:Geral
ATTACH;FMTTYPE=image/jpeg:https://febrapsi.org/storage/2024/04/2024-08-30-01.jpeg
ORGANIZER;CN="SPPA":MAILTO:sppa@sppa.org.br
END:VEVENT
BEGIN:VEVENT
DTSTART;TZID=America/Sao_Paulo:20240831T100000
DTEND;TZID=America/Sao_Paulo:20240831T120000
DTSTAMP:20260423T123757
CREATED:20240624T183248Z
LAST-MODIFIED:20240624T183248Z
UID:50556-1725098400-1725105600@febrapsi.org
SUMMARY:SPRJ - Conferência: A posição generativa com um dilema narcísico-depressivo
DESCRIPTION:SPRJ – Conferência: A posição generativa com um dilema narcísico-depressivo \nConvidado: Heribert Blass (presidente eleito da IPA) \nDia: Sábado\, 31 de agosto 2024 \nHorário: Das 10 às 11hs de Brasília \nEvento: On-line\, via Zoom
URL:https://febrapsi.org/evento/sprj-conferencia-a-posicao-generativa-com-um-dilema-narcisico-depressivo/
LOCATION:Evento Online
CATEGORIES:Geral
ATTACH;FMTTYPE=image/jpeg:https://febrapsi.org/storage/2024/06/Conferencia2-31-8-2024.jpeg
END:VEVENT
BEGIN:VEVENT
DTSTART;TZID=America/Sao_Paulo:20240831T103000
DTEND;TZID=America/Sao_Paulo:20240831T123000
DTSTAMP:20260423T123757
CREATED:20240816T003108Z
LAST-MODIFIED:20240816T003108Z
UID:51045-1725100200-1725107400@febrapsi.org
SUMMARY:LANÇAMENTO JORNAL DE PSICANÁLISE 106\, Há esperança?
DESCRIPTION:Conversa entre leitores e autores \nSábado 31/08/2024\, às 10h30 \nEVENTO HÍBRIDO E GRATUITO \nPRESENCIAL COM TRANSMISSÃO PELA PLATAFORMA ZOOM\nLOCAL: AUDITÓRIO DA SBPSP\nAV. DR. CARDOSO DE MELO\, 1450\, 1º ANDAR\, VILA OLÍMPIA\, SÃO PAULO/SP \nInscrições: mayara@sbpsp.org.br \nAbertura:\nCarmen C. Mion (Presidente da SBPSP)\nDora Tognolli (Diretora do Instituto Durval Marcondes)\nBerta Hoffmann Azevedo (Editora do Jornal de Psicanálise) \nCoordenação: Helena Cunha Di Ciero (SBPSP) \nComentadores:\nIsabel Castello Branco Lima (IP/SBPSP)\nCaio Marchi Zampronha (IP/SBPSP)\nCamila Paiva Petean Danesi Rossi (IP/SBPSP) \n\nO Jornal de Psicanálise pode ser comprado através do e-mail: secretaria@sbpsp.org.br\nAcesse gratuitamente pelo site: www.bivipsi.org/pt-br
URL:https://febrapsi.org/evento/lancamento-jornal-de-psicanalise-106-ha-esperanca/
LOCATION:Sede SBPSP\, Av. Dr. Cardoso de Melo\, 1450\, 9ª andar\, São Paulo\, São Paulo\, 04548005\, Brasil
CATEGORIES:Geral
ATTACH;FMTTYPE=image/png:https://febrapsi.org/storage/2024/08/CARTAZ_A3_JP_106.png
ORGANIZER;CN="SBPSP":MAILTO:contato@sbpsp.org.br
END:VEVENT
END:VCALENDAR