BEGIN:VCALENDAR
VERSION:2.0
PRODID:-//FEBRAPSI - ECPv6.15.20//NONSGML v1.0//EN
CALSCALE:GREGORIAN
METHOD:PUBLISH
X-ORIGINAL-URL:https://febrapsi.org
X-WR-CALDESC:Eventos para FEBRAPSI
REFRESH-INTERVAL;VALUE=DURATION:PT1H
X-Robots-Tag:noindex
X-PUBLISHED-TTL:PT1H
BEGIN:VTIMEZONE
TZID:America/Sao_Paulo
BEGIN:STANDARD
TZOFFSETFROM:-0300
TZOFFSETTO:-0300
TZNAME:-03
DTSTART:20230101T000000
END:STANDARD
END:VTIMEZONE
BEGIN:VEVENT
DTSTART;TZID=America/Sao_Paulo:20240619T090000
DTEND;TZID=America/Sao_Paulo:20241104T114500
DTSTAMP:20260423T124255
CREATED:20240508T030634Z
LAST-MODIFIED:20241105T135203Z
UID:49987-1718787600-1730720700@febrapsi.org
SUMMARY:Cenários da Psicanálise: dos Autores Clássicos aos Contemporâneos
DESCRIPTION:A Diretoria de Comunidade e Cultura tem o prazer de anunciar um curso extensivo dedicado ao estudo abrangente dos cenários da psicanálise. De junho a novembro\, embarque em uma jornada intelectual que se inicia com Sigmund Freud\, o pioneiro da psicanálise\, atravessa os influentes pós-freudianos e alcança as figuras marcantes da psicanálise contemporânea.\n\nEste curso de sete meses\, composto por 48 aulas\, é uma oportunidade única para explorar a evolução da psicanálise dentro de seus contextos históricos e culturais. \n\nAs aulas serão coordenadas por membros renomados da SBPdePA e contarão com a participação de professores convidados de diversas regiões\, trazendo perspectivas frescas e diversificadas para enriquecer nosso entendimento sobre os fenômenos da condição humana\n\n\nParticipe deste curso transformador e amplie seus horizontes no campo da psicanálise!\nDúvidas: comunicacao@sbpdepa.org.br
URL:https://febrapsi.org/evento/cenarios-da-psicanalise-dos-autores-classicos-aos-contemporaneos/
LOCATION:Online – Plataforma Zoom
CATEGORIES:Geral
ATTACH;FMTTYPE=image/png:https://febrapsi.org/storage/2024/05/curso-1-1.png
END:VEVENT
BEGIN:VEVENT
DTSTART;TZID=America/Sao_Paulo:20240806T140000
DTEND;TZID=America/Sao_Paulo:20240827T151500
DTSTAMP:20260423T124255
CREATED:20240718T225854Z
LAST-MODIFIED:20240718T225854Z
UID:50746-1722952800-1724771700@febrapsi.org
SUMMARY:Curso on-line: Os Avanços da Reprodução Assistida e suas Implicações na Psicanálise
DESCRIPTION:Curso on-line: Os Avanços da Reprodução Assistida e suas Implicações na Psicanálise \nA Diretoria de Comunidade e Cultura convida a todos para o curso intitulado “Os Avanços da Reprodução Assistida e suas Implicações na Psicanálise”\, que acontecerá nas terças-feiras 06\, 13 e 27 de agosto. \nA atividade se justifica pelo surgimento de novas tecnologias reprodutivas que têm criado situações nunca antes pensadas\, que vão desde a doação de gametas\, passando pelo congelamento de embriões e pelas gestações por substituição. Essas novas realidades nos desafiam a pensar sobre nossas teorias. Estaríamos realmente no campo de algo novo ou as conflitivas são as mesmas com novas roupagens? \nConteúdo do curso: Os avanços da Reprodução Assistida (RA) e suas implicações na psicanálise; a infertilidade (um capítulo à parte); implicações subjetivas na adoção de embriões; e implicações subjetivas na barriga de aluguel. \nInscrições abertas. \nDúvidas: comunicacao@sbpdepa.org.br \nDevido ao conteúdo sigiloso\, esta atividade não será registrada.
URL:https://febrapsi.org/evento/curso-on-line-os-avancos-da-reproducao-assistida-e-suas-implicacoes-na-psicanalise/
LOCATION:curso online
CATEGORIES:Geral
ATTACH;FMTTYPE=image/jpeg:https://febrapsi.org/storage/2024/07/reproducaooo22.jpg
ORGANIZER;CN="SBPdePA":MAILTO:secretaria@sbpdepa.org.br
END:VEVENT
BEGIN:VEVENT
DTSTART;TZID=America/Sao_Paulo:20240824T080000
DTEND;TZID=America/Sao_Paulo:20240824T140000
DTSTAMP:20260423T124255
CREATED:20240725T143219Z
LAST-MODIFIED:20240725T143615Z
UID:50783-1724486400-1724508000@febrapsi.org
SUMMARY:PSICANÁLISE E CORPOREIDADE
DESCRIPTION:PSICANÁLISE E CORPOREIDADE \nDia: 24 de agosto de 2024 \nHorário: 8h30 às 13h40
URL:https://febrapsi.org/evento/psicanalise-e-corporeidade/
LOCATION:Evento híbrido
CATEGORIES:Geral
ATTACH;FMTTYPE=image/png:https://febrapsi.org/storage/2024/07/SPRJ-Psicanálise-e-corporeidade-Insta-1.png
ORGANIZER;CN="SPRJ":MAILTO:sprj.rio1@sprj.org.br
END:VEVENT
BEGIN:VEVENT
DTSTART;TZID=America/Sao_Paulo:20240824T083000
DTEND;TZID=America/Sao_Paulo:20240824T140000
DTSTAMP:20260423T124255
CREATED:20240823T201536Z
LAST-MODIFIED:20240823T201536Z
UID:51122-1724488200-1724508000@febrapsi.org
SUMMARY:SPRJ - PSICANÁLISE CORPOREIDADE
DESCRIPTION:PSICANÁLISE CORPOREIDADE \nDia: 24 de agosto 2024 \nHorário: 08h30 \nEvento híbrido / Gratuito
URL:https://febrapsi.org/evento/sprj-psicanalise-corporeidade/
LOCATION:Evento híbrido
CATEGORIES:Geral
ATTACH;FMTTYPE=image/jpeg:https://febrapsi.org/storage/2024/08/Evento-24-8-2024.jpeg
ORGANIZER;CN="SPRJ":MAILTO:sprj.rio1@sprj.org.br
END:VEVENT
BEGIN:VEVENT
DTSTART;TZID=America/Sao_Paulo:20240824T090000
DTEND;TZID=America/Sao_Paulo:20240824T180000
DTSTAMP:20260423T124255
CREATED:20240714T123301Z
LAST-MODIFIED:20240828T121625Z
UID:50707-1724490000-1724522400@febrapsi.org
SUMMARY:JORNADA: ‘‘ENTRE MENTE\, CORPO E CULTURA: UMA REFLEXÃO NO CAMPO DA PSICOSSOMÁTICA”
DESCRIPTION:PROGRAMA: \nABERTURA e CONFERÊNCIA INAUGURAL: 9h às 10h30.\n“El cuerpo\, el mundo y el otro: tres dimensiones en juego en la sesión”. \nPalestrante: Jorge Ulnik (APA-Buenos Aires / Univ. de Buenos Aires).\nCoordenação: João Frayze-Pereira (SBPSP / USP) e\nEliana Riberti Nazareth (SBPSP). \nMESA 1: 11h às 12h30.\n“Neuropsicanálise e Neurociência: a questão do psicossoma”.\nPalestrantes: Yoshiaki Ohki (SBPSP) e Rogério Lerner (SBPSP / USP).\nCoordenação: Maria Teresa Labate Mantovanini (SBPSP). \nMESA 2: 14h às 15h30.\n“Sobre a técnica: a clínica psicanalítica com pacientes psicossomáticos”.\nPalestrantes: Plínio Montagna (SBPSP) e \nEliana Riberti Nazareth (SBPSP).\nCoordenação: Lila Schwartz (SBPSP). \n\nMESA 3: 16h às 17h30.\n“Psicanalise e Filosofia: entre clínica e crítica\, \na relação mente-corpo”. \nPalestrantes: Olivia Porcaro (SPRJ) e João Frayze-Pereira (SBPSP / USP).\nCoordenação: Eliana Riberti Nazareth (SBPSP). \nENCERRAMENTO: 17h30 às 18h.\nEliana Riberti Nazareth (SBPSP) e João Frayze-Pereira (SBPSP / USP). \nOrganização : \nJoão Frayze-Pereira e Eliana Riberti  Nazareth. \nInscreva-se: www.sbpsp.org.br\nfabiana@sbpsp.org.br \nINVESTIMENTO:\nMembros filiados da SBPSP / Candidatos FEBRAPSI\nIPA / FEPAL: SEM ÔNUS\nMembros da SBPSP/ FEBRAPSI/IPA/ FEPAL: SEM ÔNUS \nPÚBLICO EXTERNO: R$ 60.00 \n5 Cotas para profissionais negros\, indígenas e refugiados.
URL:https://febrapsi.org/evento/jornada-entre-mente-corpo-e-cultura-uma-reflexao-no-campo-da-psicossomatica/
LOCATION:Evento Online
CATEGORIES:Geral
ATTACH;FMTTYPE=image/png:https://febrapsi.org/storage/2024/07/DCC_JORNADA_PSICOSSOMATICA.png
ORGANIZER;CN="SBPSP":MAILTO:contato@sbpsp.org.br
END:VEVENT
BEGIN:VEVENT
DTSTART;TZID=America/Sao_Paulo:20240824T093000
DTEND;TZID=America/Sao_Paulo:20240824T130000
DTSTAMP:20260423T124255
CREATED:20240807T181617Z
LAST-MODIFIED:20240807T181628Z
UID:50890-1724491800-1724504400@febrapsi.org
SUMMARY:Evento Preparatório para o 35º Congresso da FEPAL
DESCRIPTION:“Intolerância\, Fanatismo e Realidade Psíquica” \n\nCom tradução simultânea\n \n9h30 Abertura \nRuth Naidin (presidente SBPRJ)\nRoberto Santoro Pires de C. Almeida (presidente SPRJ)\nWania Cidade (presidente FEPAL\, SBPRJ)\n \nMesa 1 “Entre muros e pontes: INTOLERÂNCIA nas instituições psicanalíticas”\nEloá Bittencourt (SBPRJ) e Larissa Albertino (SBPRJ).\n \nMesa 2 “Faces do extremismo: conflitos e reflexões psicanalíticas sobre o FANATISMO”\nPablo Santander (APChile) e Ney Marinho (SBPRJ)\n \n12h45 Encerramento: Wania Cidade\n\n\n\nGratuito para membros e alunos SBPRJ / FEBRAPSI / FEPAL. Gratuito para profissionais e estudantes: negros\, indígenas e refugiados. Inscrições pelo e-mail: sbprj@sbprj.org.br \n\n\n\n \n\nINSCRIÇÕES PÚBLICO EXTERNO\n\n\n\n\nProfissionais externos  50 (+ tx. Sympla) \n\n\nEstudantes universitários 25 (+ tx. Sympla) \n\n\n\nQUERO ME INSCREVER\n \n\nRealização: Conselho Científico da SBPRJ com a colaboração da Revista TRIEB
URL:https://febrapsi.org/evento/evento-preparatorio-para-o-35o-congresso-da-fepal/
LOCATION:Evento Online
CATEGORIES:Geral
ATTACH;FMTTYPE=image/png:https://febrapsi.org/storage/2024/08/EvePrep24-1.png
ORGANIZER;CN="SBPRJ":MAILTO:sbprj@sbprj.org.br
END:VEVENT
BEGIN:VEVENT
DTSTART;TZID=America/Sao_Paulo:20240824T150000
DTEND;TZID=America/Sao_Paulo:20240824T170000
DTSTAMP:20260423T124255
CREATED:20240813T033557Z
LAST-MODIFIED:20240813T033557Z
UID:51011-1724511600-1724518800@febrapsi.org
SUMMARY:Cine Anime: Cinema\, debate e divulgações psicanalíticas ​ A VIAGEM DE CHIHIRO
DESCRIPTION:Cine Anime: Cinema\, debate e divulgações psicanalíticas – A VIAGEM DE CHIHIRO\nOs animes somam legiões de admiradores\, superando diferenças culturais\, etárias e linguísticas. Para celebrar o gênero\, o Instituto Ling lança em parceria com a Sociedade Brasileira de Psicanálise de Porto Alegre o projeto Cine Anime. O primeiro encontro será no dia 24 de agosto\, sábado\, das 15h às 17h\, aqui no centro cultural\, com ingressos a partir de R$ 19\,80. Acesse institutoling.org.br e venha participar. \nO debate de estreia será sobre “A Viagem de Chihiro”\, primeira animação que não tem o inglês como língua original a vencer o Oscar de Melhor Filme de Animação (2003). O filme conta a história de Chihiro\, menina de dez anos que está de mudança para sua nova casa\, quando seu pai decide pegar um atalho que os leva a um mundo misterioso. \n️ O encontro terá a coordenação de Júlio Sperb\, psicanalista\, entusiasta de animes e membro do Instituto da SBPdePA\, com os convidados Helena Surreaux\, psicanalista e membro didata da SBPdePA e da APA\, e Giordano Gio\, cineasta e entusiasta do Studio Ghibli. O trio debate a riqueza dos roteiros de filmes de animações japonesas no contexto da subjetividade e suas questões simbólicas. \n️ O filme não será exibido na íntegra durante o debate: para aproveitar melhor a experiência\, é indicado assistir antes do encontro (está disponível na Netflix). \n♿ Acessibilidade: esta atividade tem a possibilidade de contratação de intérprete de libras. Sinalize na hora da inscrição no formulário. ⸜(｡˃ ᵕ ˂ )⸝♡ \n​Esta programação é uma realização do Instituto Ling e do Ministério da Cultura\, em parceria com a SBPdePA e com o patrocínio da Crown Embalagens. \nINSCREVA-SE: https://www.sbpdepa.org.br/cineanime \nDúvidas: comunicacao@sbpdepa.or.br \n  
URL:https://febrapsi.org/evento/cine-anime-cinema-debate-e-divulgacoes-psicanaliticas-a-viagem-de-chihiro/
LOCATION:SBPdePA\, 07 Praça Doutor Maurício Cardoso\, Porto Alegre\, RS\, 90570-010\, Brasil
CATEGORIES:Geral
ATTACH;FMTTYPE=image/jpeg:https://febrapsi.org/storage/2024/08/A-viagem-de-chihiro-1.jpeg
ORGANIZER;CN="SBPdePA":MAILTO:secretaria@sbpdepa.org.br
END:VEVENT
END:VCALENDAR