BEGIN:VCALENDAR
VERSION:2.0
PRODID:-//FEBRAPSI - ECPv6.15.20//NONSGML v1.0//EN
CALSCALE:GREGORIAN
METHOD:PUBLISH
X-ORIGINAL-URL:https://febrapsi.org
X-WR-CALDESC:Eventos para FEBRAPSI
REFRESH-INTERVAL;VALUE=DURATION:PT1H
X-Robots-Tag:noindex
X-PUBLISHED-TTL:PT1H
BEGIN:VTIMEZONE
TZID:America/Sao_Paulo
BEGIN:STANDARD
TZOFFSETFROM:-0300
TZOFFSETTO:-0300
TZNAME:-03
DTSTART:20230101T000000
END:STANDARD
END:VTIMEZONE
BEGIN:VEVENT
DTSTART;TZID=America/Sao_Paulo:20240619T090000
DTEND;TZID=America/Sao_Paulo:20241104T114500
DTSTAMP:20260423T124253
CREATED:20240508T030634Z
LAST-MODIFIED:20241105T135203Z
UID:49987-1718787600-1730720700@febrapsi.org
SUMMARY:Cenários da Psicanálise: dos Autores Clássicos aos Contemporâneos
DESCRIPTION:A Diretoria de Comunidade e Cultura tem o prazer de anunciar um curso extensivo dedicado ao estudo abrangente dos cenários da psicanálise. De junho a novembro\, embarque em uma jornada intelectual que se inicia com Sigmund Freud\, o pioneiro da psicanálise\, atravessa os influentes pós-freudianos e alcança as figuras marcantes da psicanálise contemporânea.\n\nEste curso de sete meses\, composto por 48 aulas\, é uma oportunidade única para explorar a evolução da psicanálise dentro de seus contextos históricos e culturais. \n\nAs aulas serão coordenadas por membros renomados da SBPdePA e contarão com a participação de professores convidados de diversas regiões\, trazendo perspectivas frescas e diversificadas para enriquecer nosso entendimento sobre os fenômenos da condição humana\n\n\nParticipe deste curso transformador e amplie seus horizontes no campo da psicanálise!\nDúvidas: comunicacao@sbpdepa.org.br
URL:https://febrapsi.org/evento/cenarios-da-psicanalise-dos-autores-classicos-aos-contemporaneos/
LOCATION:Online – Plataforma Zoom
CATEGORIES:Geral
ATTACH;FMTTYPE=image/png:https://febrapsi.org/storage/2024/05/curso-1-1.png
END:VEVENT
BEGIN:VEVENT
DTSTART;TZID=America/Sao_Paulo:20240806T140000
DTEND;TZID=America/Sao_Paulo:20240827T151500
DTSTAMP:20260423T124253
CREATED:20240718T225854Z
LAST-MODIFIED:20240718T225854Z
UID:50746-1722952800-1724771700@febrapsi.org
SUMMARY:Curso on-line: Os Avanços da Reprodução Assistida e suas Implicações na Psicanálise
DESCRIPTION:Curso on-line: Os Avanços da Reprodução Assistida e suas Implicações na Psicanálise \nA Diretoria de Comunidade e Cultura convida a todos para o curso intitulado “Os Avanços da Reprodução Assistida e suas Implicações na Psicanálise”\, que acontecerá nas terças-feiras 06\, 13 e 27 de agosto. \nA atividade se justifica pelo surgimento de novas tecnologias reprodutivas que têm criado situações nunca antes pensadas\, que vão desde a doação de gametas\, passando pelo congelamento de embriões e pelas gestações por substituição. Essas novas realidades nos desafiam a pensar sobre nossas teorias. Estaríamos realmente no campo de algo novo ou as conflitivas são as mesmas com novas roupagens? \nConteúdo do curso: Os avanços da Reprodução Assistida (RA) e suas implicações na psicanálise; a infertilidade (um capítulo à parte); implicações subjetivas na adoção de embriões; e implicações subjetivas na barriga de aluguel. \nInscrições abertas. \nDúvidas: comunicacao@sbpdepa.org.br \nDevido ao conteúdo sigiloso\, esta atividade não será registrada.
URL:https://febrapsi.org/evento/curso-on-line-os-avancos-da-reproducao-assistida-e-suas-implicacoes-na-psicanalise/
LOCATION:curso online
CATEGORIES:Geral
ATTACH;FMTTYPE=image/jpeg:https://febrapsi.org/storage/2024/07/reproducaooo22.jpg
ORGANIZER;CN="SBPdePA":MAILTO:secretaria@sbpdepa.org.br
END:VEVENT
BEGIN:VEVENT
DTSTART;TZID=America/Sao_Paulo:20240816T113000
DTEND;TZID=America/Sao_Paulo:20240816T130000
DTSTAMP:20260423T124254
CREATED:20240812T135157Z
LAST-MODIFIED:20240812T183155Z
UID:50981-1723807800-1723813200@febrapsi.org
SUMMARY:Reunião do Comitê de Psicanálise de Família e Casal da SPPA
DESCRIPTION:Prezados colegas\, \nConvidamos para Reunião do Comitê de Psicanálise de Família e Casal da SPPA\, no dia 16 de agosto (sexta-feira)\, das 11h30 às 12h45min\, na Plataforma Zoom. Conversa sobre os Ecos da Reunião Científica: “Indicações para Intervenções Psicanalíticas com Casal”. \nInscrições Antecipadas:\nhttps://us06web.zoom.us/meeting/register/tZUqdeqoqTkpGtc8F67SMXWfeUbrliH0YQa3 \nAtividade aberta aos membros SPPA\, FEPAL e FEBRAPSI \nUm abraço\,\nCarmem Emilia Keidann
URL:https://febrapsi.org/evento/reuniao-do-comite-de-psicanalise-de-familia-e-casal-da-sppa-5/
LOCATION:Online – Plataforma Zoom
CATEGORIES:Geral
ATTACH;FMTTYPE=image/jpeg:https://febrapsi.org/storage/2024/08/2024-08-16-Casal-e-Familia-1.jpg
ORGANIZER;CN="SPPA":MAILTO:sppa@sppa.org.br
END:VEVENT
BEGIN:VEVENT
DTSTART;TZID=America/Sao_Paulo:20240816T183000
DTEND;TZID=America/Sao_Paulo:20240816T200000
DTSTAMP:20260423T124254
CREATED:20240722T184954Z
LAST-MODIFIED:20240722T184954Z
UID:50763-1723833000-1723838400@febrapsi.org
SUMMARY:Clima\, Ciências\, Profecias – qual é o nosso futuro?
DESCRIPTION:Convidamos para a atividade “Clima\, Ciências\, Profecias – qual é o nosso futuro?”\, no dia 16 de agosto (sexta-feira)\, às 18h30\, no Auditório da SPPA (residentes em Porto Alegre) e na Plataforma Zoom/SPPA (pessoas que estiverem fora de Porto Alegre). \nConvidado:\nRualdo Menegat\nProfessor Titular do Instituto de Geociências da UFRGS. Coordenador do Atlas Ambiental de Porto Alegre. \nCoordenação:\nRegina Pereira Klarmann\nDiretora de Psicanálise na Cultura \nInscrições antecipadas:\nhttps://forms.gle/4eAKf1yxRD5dW7ku6 \nAtividade aberta e gratuita
URL:https://febrapsi.org/evento/clima-ciencias-profecias-qual-e-o-nosso-futuro/
LOCATION:Evento híbrido
CATEGORIES:Geral
ATTACH;FMTTYPE=image/jpeg:https://febrapsi.org/storage/2024/07/2024-08-16-Clima.jpg
ORGANIZER;CN="SPPA":MAILTO:sppa@sppa.org.br
END:VEVENT
END:VCALENDAR