BEGIN:VCALENDAR
VERSION:2.0
PRODID:-//FEBRAPSI - ECPv6.15.20//NONSGML v1.0//EN
CALSCALE:GREGORIAN
METHOD:PUBLISH
X-ORIGINAL-URL:https://febrapsi.org
X-WR-CALDESC:Eventos para FEBRAPSI
REFRESH-INTERVAL;VALUE=DURATION:PT1H
X-Robots-Tag:noindex
X-PUBLISHED-TTL:PT1H
BEGIN:VTIMEZONE
TZID:America/Sao_Paulo
BEGIN:STANDARD
TZOFFSETFROM:-0300
TZOFFSETTO:-0300
TZNAME:-03
DTSTART:20230101T000000
END:STANDARD
END:VTIMEZONE
BEGIN:VEVENT
DTSTART;VALUE=DATE:20240919
DTEND;VALUE=DATE:20240922
DTSTAMP:20260423T142655
CREATED:20240716T152917Z
LAST-MODIFIED:20240716T152917Z
UID:49936-1726704000-1726963199@febrapsi.org
SUMMARY:VIII Jornada de Psicanálise SPFOR - "Caminhos do Trauma"
DESCRIPTION:  \nÉ com muita alegria que divulgamos a programação da VIII Jornada de Psicanálise da SPFOR\, que terá como tema: “Caminhos do trauma”. \nA nossa Jornada acontecerá presencialmente no aconchegante auditório do Hotel Mareiro\, na Beira-mar de Fortaleza\, a partir do dia 19 de setembro\, quinta-feira\, e seguirá até dia 21 de setembro\, sábado. \nAs inscrições já estão disponíveis com lotes promocionais no link abaixo \nhttps://www.sympla.com.br/evento/viii-jornada-de-psicanalise-spfor-caminhos-do-trauma/2547698 \n \nPROGRAMAÇÃO  \nVIII JORNADA SPFOR 2024\nCAMINHOS DO TRAUMA \n19.09.2024 – QUINTA-FEIRA \n18h00 – Credenciamento \n19h00 –  Boas-vindas  \n19h05 – 19h15 – Apresentação artística: “Reencarnei numa baleia”. \nDalyla de Sousa – Intérprete criadora\, pesquisadora em dança e integrante de coletivos como o DIA (Dançar entre Infâncias e Autismos) \n19h15 – 19h25 – Acolhimento \nKarina Bernardes – Presidente da SPFOR \n19h25 – 20h10 – O eu e seus abalos sísmicos: contribuições contemporâneas\nà teoria do trauma\nBerta Hoffmann Azevedo – Psicanalista SBPSP \n20.09.2024 – SEXTA-FEIRA \n09h00 – 10h30  – Trauma: investimento libidinal e viscosidade \nGalba Lobo – Psicanalista SPFOR \nEu acredito na minha neurótica \nBarbosa Coutinho – Psicanalista SPFOR \nCoordenação – Inês Benevides – Psicanalista em formação SPFOR \n10h30 – 10h45 – Intervalo \n10h45 – 12h15 – “Primeiro eu tive de morrer”: a clínica dos sofrimentos narcísicos\nMaiza Colares – Psicanalista em formação SPFOR \nIolanda Mendes – Psicanalista em formação SPFOR  \n“Vivendo como em um filme”: desamparo e traumatismo primário\nRosane Müller – Psicanalista SPFOR  \nCoordenação – Erbon Araujo – Psicanalista SPFOR \n12h15 – 14h00 – Intervalo \n14h00 – 15h30 – O trauma e os caminhos tortos da sublimação \nErbon Araujo – Psicanalista SPFOR \nA prostituta e o Herr Professor em análise \nPaulo Marchon – Psicanalista SPFOR/SBPRJ \nCoordenação – José Alves Gurgel – Psicanalista SPFOR \n15h30 – 15h45 – Lançamento do livro “O catecúmeno: o Jenipapo desemboca no infinito”\nValton de Miranda Leitão – Psicanalista SPFOR \n15h45 – 16h15 – Pausa para lanche e assinatura de livros \n16h15 – 17h45 – Reflexão psicanalítica sobre o efeito traumático do capacitismo na pessoa com trissomia do cromossomo 21 \nHelder Pinheiro – Psicanalista em formação SPFOR \nAdolescência em cortes: mutilando traumas ou buscando sentido de vida? \nMarcela Ranier – Psicanalista em formação SPFOR \nCoordenação – Maria José de Andrade Souza – Psicanalista SPFOR / SBPSP \n17h45 – 19h15\nO analista trabalhando: apresentação de caso clínico \nFernanda Basílio – Psicanalista em formação SPFOR  \nComentadores \nAdalberto Goulart – Psicanalista NPA\nBerta Azevedo – Psicanalista SBPSP\nSandra Paraiso Sampaio – Psicanalista SPRPE \nCoordenação – Frederico Sancho – Psicanalista em formação SPFOR \n21.09.2024 – SÁBADO \n9h00 – 9h15 – Apresentação artística\nDalyla de Sousa – Intérprete criadora\, pesquisadora em dança e integrante de coletivos como o DIA (Dançar entre Infâncias e Autismos) \n9h15 – 11h15 – Excessos de presença e ausência na relação mãe-bebê\nLourdes Negreiros – Psicanalista SPFOR \nHeranças do trauma na família e na sociedade \nDaniel Franco – Psicanalista em formação SPFOR\nAdriana Augusta – Psicanalista em formação SPFOR \nA faca e o laço: trauma e elaboração psíquica na escrita de mulheres \nLina Schlachter – Psicanalista em formação SPFOR \nAna Valeska Maia – Psicanalista em formação SPFOR \nCoordenação – Suzette Telles Alves – Psicanalista em formação SPFOR \n11h15 – 11h30 – Intervalo \n11h30 – 13h00 – Continente-Contido na sessão de análise: trauma e experiência emocional\nAna Valeska Maia – Psicanalista em formação SPFOR \nPetrônio Magalhães – Psicanalista SPFOR \n“É escuro e frio aqui” – Um útero a ser elaborado\nKarina Bernardes – Psicanalista SPFOR \nCoordenação – Angélica Almada – Psicanalista em formação SPFOR \n13h – Despedida e agradecimentos \nFederadas presentes em nosso evento\nSBPSP – Sociedade Brasileira de Psicanálise de São Paulo \nSBPRJ – Sociedade Brasileira de Psicanálise do Rio de Janeiro \nNPA – Núcleo Psicanalítico de Aracaju\nSPRPE – Sociedade Psicanalítica do Recife \nServiço: VIII Jornada de Psicanálise da SPFOR | Data: 19 a 21 de setembro de 2024 | Local: Hotel Mareiro – Fortaleza-CE | Maiores informações: 85 98142 4811
URL:https://febrapsi.org/evento/viii-jornada-de-psicanalise-spfor-caminhos-do-trauma/
LOCATION:Hotel Mareiro – Fortaleza Ceara\, Av. Beira Mar 2380\, Fortaleza\, Ceara\, 60.165-120\, Brasil
CATEGORIES:Geral
ATTACH;FMTTYPE=image/jpeg:https://febrapsi.org/storage/2024/05/VIII-Jornada-spfor.jpg
ORGANIZER;CN="SPFOR":MAILTO:psicanalisefortaleza@gmail.com
END:VEVENT
BEGIN:VEVENT
DTSTART;TZID=America/Sao_Paulo:20240619T090000
DTEND;TZID=America/Sao_Paulo:20241104T114500
DTSTAMP:20260423T142655
CREATED:20240508T030634Z
LAST-MODIFIED:20241105T135203Z
UID:49987-1718787600-1730720700@febrapsi.org
SUMMARY:Cenários da Psicanálise: dos Autores Clássicos aos Contemporâneos
DESCRIPTION:A Diretoria de Comunidade e Cultura tem o prazer de anunciar um curso extensivo dedicado ao estudo abrangente dos cenários da psicanálise. De junho a novembro\, embarque em uma jornada intelectual que se inicia com Sigmund Freud\, o pioneiro da psicanálise\, atravessa os influentes pós-freudianos e alcança as figuras marcantes da psicanálise contemporânea.\n\nEste curso de sete meses\, composto por 48 aulas\, é uma oportunidade única para explorar a evolução da psicanálise dentro de seus contextos históricos e culturais. \n\nAs aulas serão coordenadas por membros renomados da SBPdePA e contarão com a participação de professores convidados de diversas regiões\, trazendo perspectivas frescas e diversificadas para enriquecer nosso entendimento sobre os fenômenos da condição humana\n\n\nParticipe deste curso transformador e amplie seus horizontes no campo da psicanálise!\nDúvidas: comunicacao@sbpdepa.org.br
URL:https://febrapsi.org/evento/cenarios-da-psicanalise-dos-autores-classicos-aos-contemporaneos/
LOCATION:Online – Plataforma Zoom
CATEGORIES:Geral
ATTACH;FMTTYPE=image/png:https://febrapsi.org/storage/2024/05/curso-1-1.png
END:VEVENT
BEGIN:VEVENT
DTSTART;TZID=America/Sao_Paulo:20240624T203000
DTEND;TZID=America/Sao_Paulo:20240708T220000
DTSTAMP:20260423T142655
CREATED:20240614T130439Z
LAST-MODIFIED:20240614T130439Z
UID:50435-1719261000-1720476000@febrapsi.org
SUMMARY:Seminário Aberto: O Traumático e Seus Destinos
DESCRIPTION:Seminário Aberto: O Traumático e Seus Destinos\n\n\n\n\n\nNeste momento de tragédia climática no RS e suas consequências emocionais\, é importante refletirmos e aprendermos sobre o traumático e seus destinos. Venha participar do nosso seminário aberto que reunirá palestrantes internacionais de renome!\n\n\n\n​Programa Seminário Aberto: \n● Segunda-feira\, 24 de junho\, das 20h30 às 21h45: O TRAUMÁTICO I Convidado: Moty Benyakar – APA – Buenos Aires. \n​● Segunda-feira\, 01 de julho\, das 20h30 às 21h45: O TRAUMÁTICO II Convidado: Moty Benyakar – APA – Buenos Aires. \n​● Sábado\, 06 de julho\, das 10h15 às 11h30: CRIANÇAS EM SITUAÇÃO DE CATÁSTROFE Convidada: Yolanda Gampel – IPS – Israel. \n​● Segunda-feira\, 08 de julho\, das 20h30 às 21h45:TRAUMA E ACONTECIMENTO Convidado: Júlio Moreno – APdeBA – Buenos Aires. Lembrando que\, a terceira aula ocorre no sábado pela manhã! \nDívidas: comunicacao@sbpdepa.org.br \nInscrições: https://www.sbpdepa.org.br/semin%C3%A1rio-aberto-o-traum%C3%A1tico-e-seus-de \n 
URL:https://febrapsi.org/evento/seminario-aberto-o-traumatico-e-seus-destinos/
LOCATION:Evento híbrido
CATEGORIES:Geral
ATTACH;FMTTYPE=image/png:https://febrapsi.org/storage/2024/06/post01.png
ORGANIZER;CN="SBPdePA":MAILTO:secretaria@sbpdepa.org.br
END:VEVENT
BEGIN:VEVENT
DTSTART;TZID=America/Sao_Paulo:20240704T080000
DTEND;TZID=America/Sao_Paulo:20240805T170000
DTSTAMP:20260423T142655
CREATED:20240702T182018Z
LAST-MODIFIED:20240704T124133Z
UID:50594-1720080000-1722877200@febrapsi.org
SUMMARY:Curso "Atualizações Psicanalíticas"
DESCRIPTION:GEP Marília e Região oferece o curso “Atualizações Psicanalíticas Contemporâneas em sua Diversidade”. \nNeste semestre\, as docentes Maria Luiza Salomão\, Leda Spessotto e Luciana Saddi discorrem sobre as novas formas de trabalhar e acolher os sofrimentos que se apresentam na clínica contemporânea. \n\nAs aulas serão on-line\, de agosto a novembro de 2024.\nSexta-feira\, das 13h30 às 15h.\nInvestimento: Matrícula: R$ 80\,00 +4 parcelas de R$ 240 (membros do GEP e Sociedades) e R$ 450\,00 (demais participantes).\nPúblico-alvo: Psicanalistas\, psicoterapeutas psicanalíticos\, estudantes de pós-graduação de Medicina ou Psicologia e médicos que atuem em sua área.\n\nAs inscrições podem ser feitas por meio do Formulário\, Whatsapp (14) 99614-6782 ou presencialmente na Sede do GEP Marília e Região (Rua Dr. Granadino de Baptista\, 135. Sen. Salgado Filho\, Marília – SP).
URL:https://febrapsi.org/evento/curso-atualizacoes-psicanaliticas/
CATEGORIES:Geral
ATTACH;FMTTYPE=image/jpeg:https://febrapsi.org/storage/2024/06/Atualizacoes-Psicanaliticas.jpeg
ORGANIZER;CN="GEP Mar%C3%ADlia e Regi%C3%A3o":MAILTO:contato@gepmariliaeregiao.com.br
END:VEVENT
BEGIN:VEVENT
DTSTART;TZID=America/Sao_Paulo:20240704T080000
DTEND;TZID=America/Sao_Paulo:20240805T170000
DTSTAMP:20260423T142655
CREATED:20240702T182018Z
LAST-MODIFIED:20240704T123723Z
UID:50597-1720080000-1722877200@febrapsi.org
SUMMARY:Curso "A Obra de Klein"
DESCRIPTION:O curso “A obra de Klein” oferece uma imersão na vida e obra da psicanalista austríaca Melanie Klein. Os conceitos fundamentais e sua relação com a prática clínicas são abordados por meio da leitura e discussão de seus textos canônicos. Conta com os docentes Cássia Assef\, Elaine Cardin\, Ernesto Sang e Lidia Magnino. \n\nAs aulas serão on-line\, de agosto a novembro de 2024.\nQuinta-feira\, das 20h30 às 22h.\nInvestimento: Matrícula: R$ 80\,00 +4 parcelas de R$ 240 (membros do GEP e Sociedades) e R$ 450\,00 (demais participantes).\nPúblico-alvo: Psicanalistas\, psicoterapeutas psicanalíticos\, estudantes de pós-graduação de Medicina ou Psicologia e médicos que atuem em sua área.\n\nAs inscrições podem ser feitas por meio do Formulário\, Whatsapp (14) 99614-6782 ou presencialmente na Sede do GEP Marília e Região (Rua Dr. Granadino de Baptista\, 135. Sen. Salgado Filho\, Marília – SP).
URL:https://febrapsi.org/evento/curso-a-obra-de-klein/
CATEGORIES:Geral
ATTACH;FMTTYPE=image/jpeg:https://febrapsi.org/storage/2024/06/Obra-de-Melanie-Klein.jpeg
ORGANIZER;CN="GEP Mar%C3%ADlia e Regi%C3%A3o":MAILTO:contato@gepmariliaeregiao.com.br
END:VEVENT
BEGIN:VEVENT
DTSTART;TZID=America/Sao_Paulo:20240704T080000
DTEND;TZID=America/Sao_Paulo:20240805T170000
DTSTAMP:20260423T142655
CREATED:20240702T182019Z
LAST-MODIFIED:20240704T123812Z
UID:50580-1720080000-1722877200@febrapsi.org
SUMMARY:Curso "Princípios Básicos da Clínica Psicanalítica"
DESCRIPTION:O GEP Marília e Região oferece o Curso Princípios Básicos da Clínica Psicanalítica\, cujo objetivo é o de ampliar o conhecimento fundamental da prática clínica. É ideal para os recém-formados e estudantes nos últimos anos de graduação que desejam se dedicar à clínica psicanalítica\, além disso oferece uma base sólida nos autores tradicionais da área\, preparando os participantes para exercer a função de Psicoterapeuta Psicanalítico com ética. \nO corpo docente é composto por Cibele Brandão e Márcio Oldack. \n• As aulas serão on-line\, de agosto a novembro de 2024.\n• Todo 2º sábado do mês\, das 15h às 16h30.\n• Investimento: Taxa de Matrícula: R$80\,00 | Mensalidade: R$ 80\,00  \nAs inscrições podem ser feitas por meio do Formulário\, Whatsapp (14) 99614-6782 ou presencialmente na Sede do GEP Marília e Região (Rua Dr. Granadino de Baptista\, 135. Sen. Salgado Filho\, Marília – SP). \n  \n  \n  \n 
URL:https://febrapsi.org/evento/curso-principios-basicos-da-clinica-psicanalitica-2/
CATEGORIES:Geral
ATTACH;FMTTYPE=image/jpeg:https://febrapsi.org/storage/2024/06/Principios-Basicos.jpeg
ORGANIZER;CN="GEP Mar%C3%ADlia e Regi%C3%A3o":MAILTO:contato@gepmariliaeregiao.com.br
END:VEVENT
BEGIN:VEVENT
DTSTART;TZID=America/Sao_Paulo:20240704T080000
DTEND;TZID=America/Sao_Paulo:20240805T170000
DTSTAMP:20260423T142655
CREATED:20240702T182019Z
LAST-MODIFIED:20240704T123931Z
UID:50601-1720080000-1722877200@febrapsi.org
SUMMARY:Curso "Psicossomática Psicanalítica"
DESCRIPTION:As manifestações no corpo endógeno e erógeno da desorganização psíquica tem sido cada vez mais frequentes na clínica atual. O objetivo do curso “Psicossomática Psicanalítica” é o de ampliar o conhecimento teórico e clínico desta condição fato a partir do estudo da Psicossomática Psicanalítica. Ancorado na metapsicologia este curso tentará abordar o jogo pulsional e os aspectos destrutivos existentes no amago da atividade mental\, que refletidos no corpo podem gerar “dor corporal”. A abordagem clínica e teórica escolhida será predominantemente a da Psicossomática Psicanalítica da Escola de Paris. \nConta com a participação dos docentes: Clara Castro\, Denise Aizemberg Steinwurz\, Diva Aparecida Cilurzo Neto\, Glaucia Maria Ferreira Furtado\, Eliana Riberti Nazareth\, Eliane Grass Ferreira Nogueira\, Victoria Regina Bejar e Walkiria Nunes Paulo dos Santos. \n\nAs aulas serão on-line\, de agosto a novembro de 2024.\nSexta-feira\, das 08h às 09h30.\nInvestimento: Matrícula: R$ 80\,00 +4 parcelas de R$ 240 (membros do GEP e Sociedades) e R$ 450\,00 (demais participantes).\nPúblico-alvo: Psicanalistas\, psicoterapeutas psicanalíticos\, estudantes de pós-graduação de Medicina ou Psicologia e médicos que atuem em sua área.\n\nAs inscrições podem ser feitas por meio do Formulário\, Whatsapp (14) 99614-6782 ou presencialmente na Sede do GEP Marília e Região (Rua Dr. Granadino de Baptista\, 135. Sen. Salgado Filho\, Marília – SP).
URL:https://febrapsi.org/evento/curso-psicossomatica-psicanalitica/
CATEGORIES:Geral
ATTACH;FMTTYPE=image/jpeg:https://febrapsi.org/storage/2024/06/Psicossomatica.jpeg
ORGANIZER;CN="GEP Mar%C3%ADlia e Regi%C3%A3o":MAILTO:contato@gepmariliaeregiao.com.br
END:VEVENT
BEGIN:VEVENT
DTSTART;TZID=America/Sao_Paulo:20240704T203000
DTEND;TZID=America/Sao_Paulo:20240704T220000
DTSTAMP:20260423T142655
CREATED:20240621T202527Z
LAST-MODIFIED:20240621T202527Z
UID:50552-1720125000-1720130400@febrapsi.org
SUMMARY:A função do brincar precoce no acesso à linguagem
DESCRIPTION:A Diretoria da Infância e Adolescência convida para a atividade “A função do brincar precoce no acesso à linguagem”\, no dia 04 de julho\, às 20h30\, na Plataforma Zoom/SPPA. \nApresentação:\nCamila Sabóia\nPsicóloga e Psicanalista\, Doutora em Psicopatologia e Psicanálise pela Universidade de Paris – 7. Pós-doutora pela USP. Professora convidada da pós-graduação da IP-USP. Docente do Instituto de Psicanálise Sedes Sapientiae. Membro diretivo da CIPPA\, membro fundadora do Entrelacer Psicanálise & Infância \nComentário:\nCátia Olivier Mello\nPsicanalista de crianças\, adolescentes e adultos\, Membro Efetivo SPPA\, Psicóloga e Mestre em Psicologia UFRGS\, Professora e Supervisora CEAPIA \nCoordenação:\nNazur Aragonez de Vasconcellos\nDiretor da infância e adolescência \nAtividade aberta e on-line pela Plataforma Zoom/SPPA\nInscrições antecipadas:\nhttps://forms.gle/LWk2iDJg7mBKnL6R7\n \nProfissionais: R$ 60\,00\nEstudantes: R$ 30\,00\nMembros SPPA: Isentos \n 
URL:https://febrapsi.org/evento/a-funcao-do-brincar-precoce-no-acesso-a-linguagem/
LOCATION:Evento Online
CATEGORIES:Geral
ATTACH;FMTTYPE=image/jpeg:https://febrapsi.org/storage/2024/06/2024-07-04-01-DIA.jpg
ORGANIZER;CN="SPPA":MAILTO:sppa@sppa.org.br
END:VEVENT
END:VCALENDAR