BEGIN:VCALENDAR
VERSION:2.0
PRODID:-//FEBRAPSI - ECPv6.15.20//NONSGML v1.0//EN
CALSCALE:GREGORIAN
METHOD:PUBLISH
X-WR-CALNAME:FEBRAPSI
X-ORIGINAL-URL:https://febrapsi.org
X-WR-CALDESC:Eventos para FEBRAPSI
REFRESH-INTERVAL;VALUE=DURATION:PT1H
X-Robots-Tag:noindex
X-PUBLISHED-TTL:PT1H
BEGIN:VTIMEZONE
TZID:America/Sao_Paulo
BEGIN:STANDARD
TZOFFSETFROM:-0300
TZOFFSETTO:-0300
TZNAME:-03
DTSTART:20230101T000000
END:STANDARD
END:VTIMEZONE
BEGIN:VEVENT
DTSTART;VALUE=DATE:20240919
DTEND;VALUE=DATE:20240922
DTSTAMP:20260423T161445
CREATED:20240716T152917Z
LAST-MODIFIED:20240716T152917Z
UID:49936-1726704000-1726963199@febrapsi.org
SUMMARY:VIII Jornada de Psicanálise SPFOR - "Caminhos do Trauma"
DESCRIPTION:  \nÉ com muita alegria que divulgamos a programação da VIII Jornada de Psicanálise da SPFOR\, que terá como tema: “Caminhos do trauma”. \nA nossa Jornada acontecerá presencialmente no aconchegante auditório do Hotel Mareiro\, na Beira-mar de Fortaleza\, a partir do dia 19 de setembro\, quinta-feira\, e seguirá até dia 21 de setembro\, sábado. \nAs inscrições já estão disponíveis com lotes promocionais no link abaixo \nhttps://www.sympla.com.br/evento/viii-jornada-de-psicanalise-spfor-caminhos-do-trauma/2547698 \n \nPROGRAMAÇÃO  \nVIII JORNADA SPFOR 2024\nCAMINHOS DO TRAUMA \n19.09.2024 – QUINTA-FEIRA \n18h00 – Credenciamento \n19h00 –  Boas-vindas  \n19h05 – 19h15 – Apresentação artística: “Reencarnei numa baleia”. \nDalyla de Sousa – Intérprete criadora\, pesquisadora em dança e integrante de coletivos como o DIA (Dançar entre Infâncias e Autismos) \n19h15 – 19h25 – Acolhimento \nKarina Bernardes – Presidente da SPFOR \n19h25 – 20h10 – O eu e seus abalos sísmicos: contribuições contemporâneas\nà teoria do trauma\nBerta Hoffmann Azevedo – Psicanalista SBPSP \n20.09.2024 – SEXTA-FEIRA \n09h00 – 10h30  – Trauma: investimento libidinal e viscosidade \nGalba Lobo – Psicanalista SPFOR \nEu acredito na minha neurótica \nBarbosa Coutinho – Psicanalista SPFOR \nCoordenação – Inês Benevides – Psicanalista em formação SPFOR \n10h30 – 10h45 – Intervalo \n10h45 – 12h15 – “Primeiro eu tive de morrer”: a clínica dos sofrimentos narcísicos\nMaiza Colares – Psicanalista em formação SPFOR \nIolanda Mendes – Psicanalista em formação SPFOR  \n“Vivendo como em um filme”: desamparo e traumatismo primário\nRosane Müller – Psicanalista SPFOR  \nCoordenação – Erbon Araujo – Psicanalista SPFOR \n12h15 – 14h00 – Intervalo \n14h00 – 15h30 – O trauma e os caminhos tortos da sublimação \nErbon Araujo – Psicanalista SPFOR \nA prostituta e o Herr Professor em análise \nPaulo Marchon – Psicanalista SPFOR/SBPRJ \nCoordenação – José Alves Gurgel – Psicanalista SPFOR \n15h30 – 15h45 – Lançamento do livro “O catecúmeno: o Jenipapo desemboca no infinito”\nValton de Miranda Leitão – Psicanalista SPFOR \n15h45 – 16h15 – Pausa para lanche e assinatura de livros \n16h15 – 17h45 – Reflexão psicanalítica sobre o efeito traumático do capacitismo na pessoa com trissomia do cromossomo 21 \nHelder Pinheiro – Psicanalista em formação SPFOR \nAdolescência em cortes: mutilando traumas ou buscando sentido de vida? \nMarcela Ranier – Psicanalista em formação SPFOR \nCoordenação – Maria José de Andrade Souza – Psicanalista SPFOR / SBPSP \n17h45 – 19h15\nO analista trabalhando: apresentação de caso clínico \nFernanda Basílio – Psicanalista em formação SPFOR  \nComentadores \nAdalberto Goulart – Psicanalista NPA\nBerta Azevedo – Psicanalista SBPSP\nSandra Paraiso Sampaio – Psicanalista SPRPE \nCoordenação – Frederico Sancho – Psicanalista em formação SPFOR \n21.09.2024 – SÁBADO \n9h00 – 9h15 – Apresentação artística\nDalyla de Sousa – Intérprete criadora\, pesquisadora em dança e integrante de coletivos como o DIA (Dançar entre Infâncias e Autismos) \n9h15 – 11h15 – Excessos de presença e ausência na relação mãe-bebê\nLourdes Negreiros – Psicanalista SPFOR \nHeranças do trauma na família e na sociedade \nDaniel Franco – Psicanalista em formação SPFOR\nAdriana Augusta – Psicanalista em formação SPFOR \nA faca e o laço: trauma e elaboração psíquica na escrita de mulheres \nLina Schlachter – Psicanalista em formação SPFOR \nAna Valeska Maia – Psicanalista em formação SPFOR \nCoordenação – Suzette Telles Alves – Psicanalista em formação SPFOR \n11h15 – 11h30 – Intervalo \n11h30 – 13h00 – Continente-Contido na sessão de análise: trauma e experiência emocional\nAna Valeska Maia – Psicanalista em formação SPFOR \nPetrônio Magalhães – Psicanalista SPFOR \n“É escuro e frio aqui” – Um útero a ser elaborado\nKarina Bernardes – Psicanalista SPFOR \nCoordenação – Angélica Almada – Psicanalista em formação SPFOR \n13h – Despedida e agradecimentos \nFederadas presentes em nosso evento\nSBPSP – Sociedade Brasileira de Psicanálise de São Paulo \nSBPRJ – Sociedade Brasileira de Psicanálise do Rio de Janeiro \nNPA – Núcleo Psicanalítico de Aracaju\nSPRPE – Sociedade Psicanalítica do Recife \nServiço: VIII Jornada de Psicanálise da SPFOR | Data: 19 a 21 de setembro de 2024 | Local: Hotel Mareiro – Fortaleza-CE | Maiores informações: 85 98142 4811
URL:https://febrapsi.org/evento/viii-jornada-de-psicanalise-spfor-caminhos-do-trauma/
LOCATION:Hotel Mareiro – Fortaleza Ceara\, Av. Beira Mar 2380\, Fortaleza\, Ceara\, 60.165-120\, Brasil
CATEGORIES:Geral
ATTACH;FMTTYPE=image/jpeg:https://febrapsi.org/storage/2024/05/VIII-Jornada-spfor.jpg
ORGANIZER;CN="SPFOR":MAILTO:psicanalisefortaleza@gmail.com
END:VEVENT
BEGIN:VEVENT
DTSTART;TZID=America/Sao_Paulo:20240611T140000
DTEND;TZID=America/Sao_Paulo:20240625T151500
DTSTAMP:20260423T161445
CREATED:20240429T225150Z
LAST-MODIFIED:20240604T191855Z
UID:49719-1718114400-1719328500@febrapsi.org
SUMMARY:Curso on-line: Os Indicadores de Risco dos Transtornos do Desenvolvimento TEA e Possíveis Intervenções
DESCRIPTION: \n\n\n\n\n\n\n\n\nCurso on-line: Os Indicadores de Risco dos Transtornos do Desenvolvimento TEA e Possíveis Intervenções\n\n\n\n\n\n\n\nNovas datas do curso on-line: Os Indicadores de Risco dos Transtornos do Desenvolvimento TEA e Possíveis Intervenções \n​A diretoria de Comunidade e Cultura convida a todos para o curso intitulado “Os Indicadores de Risco dos Transtornos do Desenvolvimento TEA e Possíveis Intervenções”\, que acontecerá nas três últimas terças-feiras do mês de junho: 11\, 18 e 25. A atividade se justifica pela emergência de casos de TEA e/ou de bebês em risco. \nConteúdo do curso: Análise e entendimento dos indicadores de risco do TEA\, pensamentos e teorias de Marie Christine Laznik e caso clínico. \n\n\n\nDúvidas: comunicacao@sbpdepa.org.br \nInscrições: https://www.sbpdepa.org.br/cursoonline \n 
URL:https://febrapsi.org/evento/curso-on-line-os-indicadores-de-risco-dos-transtornos-do-desenvolvimento-tea-e-possiveis-intervencoes/
LOCATION:Online – Plataforma Zoom
CATEGORIES:Geral
ATTACH;FMTTYPE=image/png:https://febrapsi.org/storage/2024/04/NOTICIAS-1.png
ORGANIZER;CN="SBPdePA":MAILTO:secretaria@sbpdepa.org.br
END:VEVENT
BEGIN:VEVENT
DTSTART;TZID=America/Sao_Paulo:20240619T090000
DTEND;TZID=America/Sao_Paulo:20241104T114500
DTSTAMP:20260423T161445
CREATED:20240508T030634Z
LAST-MODIFIED:20241105T135203Z
UID:49987-1718787600-1730720700@febrapsi.org
SUMMARY:Cenários da Psicanálise: dos Autores Clássicos aos Contemporâneos
DESCRIPTION:A Diretoria de Comunidade e Cultura tem o prazer de anunciar um curso extensivo dedicado ao estudo abrangente dos cenários da psicanálise. De junho a novembro\, embarque em uma jornada intelectual que se inicia com Sigmund Freud\, o pioneiro da psicanálise\, atravessa os influentes pós-freudianos e alcança as figuras marcantes da psicanálise contemporânea.\n\nEste curso de sete meses\, composto por 48 aulas\, é uma oportunidade única para explorar a evolução da psicanálise dentro de seus contextos históricos e culturais. \n\nAs aulas serão coordenadas por membros renomados da SBPdePA e contarão com a participação de professores convidados de diversas regiões\, trazendo perspectivas frescas e diversificadas para enriquecer nosso entendimento sobre os fenômenos da condição humana\n\n\nParticipe deste curso transformador e amplie seus horizontes no campo da psicanálise!\nDúvidas: comunicacao@sbpdepa.org.br
URL:https://febrapsi.org/evento/cenarios-da-psicanalise-dos-autores-classicos-aos-contemporaneos/
LOCATION:Online – Plataforma Zoom
CATEGORIES:Geral
ATTACH;FMTTYPE=image/png:https://febrapsi.org/storage/2024/05/curso-1-1.png
END:VEVENT
BEGIN:VEVENT
DTSTART;TZID=America/Sao_Paulo:20240619T200000
DTEND;TZID=America/Sao_Paulo:20240619T210000
DTSTAMP:20260423T161445
CREATED:20240613T190043Z
LAST-MODIFIED:20240613T190043Z
UID:50421-1718827200-1718830800@febrapsi.org
SUMMARY:CURSO – INTRODUÇÃO A THOMAS OGDEN
DESCRIPTION:CURSO INTRODUÇÃOA THOMAS OGDEN \nPrograma:\n23/03 – 08:30 h – Apresentação do autor e obra (presencial)\n23/03 – 10:30 h – Sujeitos da Psicanálise (presencial)\n24/04 – 20:00 h – Terceiro Analítico Intersubjetivo (on line)\n15/05 – 20:00 h – Matriz da mente (on line)\n19/06 – 20:00 h – Posição Autista Contígua (on line)\n21/08 – 20:00 h – Implicações clínicas – psicanálise ontológica (on line ou presencial
URL:https://febrapsi.org/evento/curso-introducao-a-thomas-ogden-2/
LOCATION:Evento Online
CATEGORIES:Geral
ATTACH;FMTTYPE=image/png:https://febrapsi.org/storage/2024/04/gepsc-curso-introducao-thomas-ogden.png
ORGANIZER;CN="GEP-SC":MAILTO:secretaria@gep-sc.com.br
END:VEVENT
BEGIN:VEVENT
DTSTART;TZID=America/Sao_Paulo:20240619T200000
DTEND;TZID=America/Sao_Paulo:20240619T213000
DTSTAMP:20260423T161445
CREATED:20240609T035524Z
LAST-MODIFIED:20240609T035524Z
UID:50325-1718827200-1718832600@febrapsi.org
SUMMARY:COWAP/SPPA: "Sonhos de luto na menopausa"
DESCRIPTION:A COWAP (Committee on Women and Psychoanalysis) SPPA convida para atividade aberta aos membros da SPPA\, da FEBRAPSI e da FEPAL\, 19 de junho de 2024\, quarta-feira\, das 20h às 21h30 (excepcionalmente)\, online\, pela Plataforma Zoom/SPPA. \nO tema apresentado será:\n“Sonhos de luto na menopausa” \nConvidada:\nTeresa Rocha Leite Haudenschild (Analista didata e Analista de crianças e adolescentes da SBPSP e da IPA. Docente da SBPSP) \nApós a apresentação o tema será debatido com os participantes.\nContamos com sua presença! \nInscrições Antecipadas:\nhttps://us06web.zoom.us/meeting/register/tZcsd-yrpzsoH9MkhPjQThLpvacrUr4wl8Kg \nAtividade aberta aos membros da SPPA\, da FEBRAPSI e da FEPAL
URL:https://febrapsi.org/evento/cowap-sppa-sonhos-de-luto-na-menopausa/
LOCATION:Evento Online
CATEGORIES:Geral
ATTACH;FMTTYPE=image/jpeg:https://febrapsi.org/storage/2024/06/2024-06-19-COWAP.jpeg
ORGANIZER;CN="SPPA":MAILTO:sppa@sppa.org.br
END:VEVENT
END:VCALENDAR