BEGIN:VCALENDAR
VERSION:2.0
PRODID:-//FEBRAPSI - ECPv6.15.20//NONSGML v1.0//EN
CALSCALE:GREGORIAN
METHOD:PUBLISH
X-ORIGINAL-URL:https://febrapsi.org
X-WR-CALDESC:Eventos para FEBRAPSI
REFRESH-INTERVAL;VALUE=DURATION:PT1H
X-Robots-Tag:noindex
X-PUBLISHED-TTL:PT1H
BEGIN:VTIMEZONE
TZID:America/Sao_Paulo
BEGIN:STANDARD
TZOFFSETFROM:-0300
TZOFFSETTO:-0300
TZNAME:-03
DTSTART:20230101T000000
END:STANDARD
END:VTIMEZONE
BEGIN:VEVENT
DTSTART;VALUE=DATE:20240919
DTEND;VALUE=DATE:20240922
DTSTAMP:20260423T161849
CREATED:20240716T152917Z
LAST-MODIFIED:20240716T152917Z
UID:49936-1726704000-1726963199@febrapsi.org
SUMMARY:VIII Jornada de Psicanálise SPFOR - "Caminhos do Trauma"
DESCRIPTION:  \nÉ com muita alegria que divulgamos a programação da VIII Jornada de Psicanálise da SPFOR\, que terá como tema: “Caminhos do trauma”. \nA nossa Jornada acontecerá presencialmente no aconchegante auditório do Hotel Mareiro\, na Beira-mar de Fortaleza\, a partir do dia 19 de setembro\, quinta-feira\, e seguirá até dia 21 de setembro\, sábado. \nAs inscrições já estão disponíveis com lotes promocionais no link abaixo \nhttps://www.sympla.com.br/evento/viii-jornada-de-psicanalise-spfor-caminhos-do-trauma/2547698 \n \nPROGRAMAÇÃO  \nVIII JORNADA SPFOR 2024\nCAMINHOS DO TRAUMA \n19.09.2024 – QUINTA-FEIRA \n18h00 – Credenciamento \n19h00 –  Boas-vindas  \n19h05 – 19h15 – Apresentação artística: “Reencarnei numa baleia”. \nDalyla de Sousa – Intérprete criadora\, pesquisadora em dança e integrante de coletivos como o DIA (Dançar entre Infâncias e Autismos) \n19h15 – 19h25 – Acolhimento \nKarina Bernardes – Presidente da SPFOR \n19h25 – 20h10 – O eu e seus abalos sísmicos: contribuições contemporâneas\nà teoria do trauma\nBerta Hoffmann Azevedo – Psicanalista SBPSP \n20.09.2024 – SEXTA-FEIRA \n09h00 – 10h30  – Trauma: investimento libidinal e viscosidade \nGalba Lobo – Psicanalista SPFOR \nEu acredito na minha neurótica \nBarbosa Coutinho – Psicanalista SPFOR \nCoordenação – Inês Benevides – Psicanalista em formação SPFOR \n10h30 – 10h45 – Intervalo \n10h45 – 12h15 – “Primeiro eu tive de morrer”: a clínica dos sofrimentos narcísicos\nMaiza Colares – Psicanalista em formação SPFOR \nIolanda Mendes – Psicanalista em formação SPFOR  \n“Vivendo como em um filme”: desamparo e traumatismo primário\nRosane Müller – Psicanalista SPFOR  \nCoordenação – Erbon Araujo – Psicanalista SPFOR \n12h15 – 14h00 – Intervalo \n14h00 – 15h30 – O trauma e os caminhos tortos da sublimação \nErbon Araujo – Psicanalista SPFOR \nA prostituta e o Herr Professor em análise \nPaulo Marchon – Psicanalista SPFOR/SBPRJ \nCoordenação – José Alves Gurgel – Psicanalista SPFOR \n15h30 – 15h45 – Lançamento do livro “O catecúmeno: o Jenipapo desemboca no infinito”\nValton de Miranda Leitão – Psicanalista SPFOR \n15h45 – 16h15 – Pausa para lanche e assinatura de livros \n16h15 – 17h45 – Reflexão psicanalítica sobre o efeito traumático do capacitismo na pessoa com trissomia do cromossomo 21 \nHelder Pinheiro – Psicanalista em formação SPFOR \nAdolescência em cortes: mutilando traumas ou buscando sentido de vida? \nMarcela Ranier – Psicanalista em formação SPFOR \nCoordenação – Maria José de Andrade Souza – Psicanalista SPFOR / SBPSP \n17h45 – 19h15\nO analista trabalhando: apresentação de caso clínico \nFernanda Basílio – Psicanalista em formação SPFOR  \nComentadores \nAdalberto Goulart – Psicanalista NPA\nBerta Azevedo – Psicanalista SBPSP\nSandra Paraiso Sampaio – Psicanalista SPRPE \nCoordenação – Frederico Sancho – Psicanalista em formação SPFOR \n21.09.2024 – SÁBADO \n9h00 – 9h15 – Apresentação artística\nDalyla de Sousa – Intérprete criadora\, pesquisadora em dança e integrante de coletivos como o DIA (Dançar entre Infâncias e Autismos) \n9h15 – 11h15 – Excessos de presença e ausência na relação mãe-bebê\nLourdes Negreiros – Psicanalista SPFOR \nHeranças do trauma na família e na sociedade \nDaniel Franco – Psicanalista em formação SPFOR\nAdriana Augusta – Psicanalista em formação SPFOR \nA faca e o laço: trauma e elaboração psíquica na escrita de mulheres \nLina Schlachter – Psicanalista em formação SPFOR \nAna Valeska Maia – Psicanalista em formação SPFOR \nCoordenação – Suzette Telles Alves – Psicanalista em formação SPFOR \n11h15 – 11h30 – Intervalo \n11h30 – 13h00 – Continente-Contido na sessão de análise: trauma e experiência emocional\nAna Valeska Maia – Psicanalista em formação SPFOR \nPetrônio Magalhães – Psicanalista SPFOR \n“É escuro e frio aqui” – Um útero a ser elaborado\nKarina Bernardes – Psicanalista SPFOR \nCoordenação – Angélica Almada – Psicanalista em formação SPFOR \n13h – Despedida e agradecimentos \nFederadas presentes em nosso evento\nSBPSP – Sociedade Brasileira de Psicanálise de São Paulo \nSBPRJ – Sociedade Brasileira de Psicanálise do Rio de Janeiro \nNPA – Núcleo Psicanalítico de Aracaju\nSPRPE – Sociedade Psicanalítica do Recife \nServiço: VIII Jornada de Psicanálise da SPFOR | Data: 19 a 21 de setembro de 2024 | Local: Hotel Mareiro – Fortaleza-CE | Maiores informações: 85 98142 4811
URL:https://febrapsi.org/evento/viii-jornada-de-psicanalise-spfor-caminhos-do-trauma/
LOCATION:Hotel Mareiro – Fortaleza Ceara\, Av. Beira Mar 2380\, Fortaleza\, Ceara\, 60.165-120\, Brasil
CATEGORIES:Geral
ATTACH;FMTTYPE=image/jpeg:https://febrapsi.org/storage/2024/05/VIII-Jornada-spfor.jpg
ORGANIZER;CN="SPFOR":MAILTO:psicanalisefortaleza@gmail.com
END:VEVENT
BEGIN:VEVENT
DTSTART;TZID=America/Sao_Paulo:20240611T140000
DTEND;TZID=America/Sao_Paulo:20240625T151500
DTSTAMP:20260423T161849
CREATED:20240429T225150Z
LAST-MODIFIED:20240604T191855Z
UID:49719-1718114400-1719328500@febrapsi.org
SUMMARY:Curso on-line: Os Indicadores de Risco dos Transtornos do Desenvolvimento TEA e Possíveis Intervenções
DESCRIPTION: \n\n\n\n\n\n\n\n\nCurso on-line: Os Indicadores de Risco dos Transtornos do Desenvolvimento TEA e Possíveis Intervenções\n\n\n\n\n\n\n\nNovas datas do curso on-line: Os Indicadores de Risco dos Transtornos do Desenvolvimento TEA e Possíveis Intervenções \n​A diretoria de Comunidade e Cultura convida a todos para o curso intitulado “Os Indicadores de Risco dos Transtornos do Desenvolvimento TEA e Possíveis Intervenções”\, que acontecerá nas três últimas terças-feiras do mês de junho: 11\, 18 e 25. A atividade se justifica pela emergência de casos de TEA e/ou de bebês em risco. \nConteúdo do curso: Análise e entendimento dos indicadores de risco do TEA\, pensamentos e teorias de Marie Christine Laznik e caso clínico. \n\n\n\nDúvidas: comunicacao@sbpdepa.org.br \nInscrições: https://www.sbpdepa.org.br/cursoonline \n 
URL:https://febrapsi.org/evento/curso-on-line-os-indicadores-de-risco-dos-transtornos-do-desenvolvimento-tea-e-possiveis-intervencoes/
LOCATION:Online – Plataforma Zoom
CATEGORIES:Geral
ATTACH;FMTTYPE=image/png:https://febrapsi.org/storage/2024/04/NOTICIAS-1.png
ORGANIZER;CN="SBPdePA":MAILTO:secretaria@sbpdepa.org.br
END:VEVENT
BEGIN:VEVENT
DTSTART;TZID=America/Sao_Paulo:20240614T150000
DTEND;TZID=America/Sao_Paulo:20240615T180000
DTSTAMP:20260423T161849
CREATED:20240326T140233Z
LAST-MODIFIED:20240326T140233Z
UID:49367-1718377200-1718474400@febrapsi.org
SUMMARY:1º Encontro SBPCamp - O Ato Criativo
DESCRIPTION:Estão abertas as inscrições para o I Encontro da Sociedade Brasileira de Psicanálise de Campinas\, com o tema O Ato Criativo!\nConfira a programação e inscreva-se para garantir sua vaga. Quem desejar permanecer no hotel\, o Vinhedo Plaza Hotel oferece um preço diferenciado por ocasião do evento. Mas as vagas são limitadas!
URL:https://febrapsi.org/evento/1o-encontro-sbpcamp-o-ato-criativo/
LOCATION:Vinhedo Plaza Hotel\, Av. Independência\, 4111\, Vinhedo\, São Paulo\, Brasil
CATEGORIES:Geral
ATTACH;FMTTYPE=image/webp:https://febrapsi.org/storage/2024/03/SBPCamp-1o-encontro-1-copia.webp
ORGANIZER;CN="SBPCamp":MAILTO:eventos@sbpcamp.org.br
END:VEVENT
BEGIN:VEVENT
DTSTART;TZID=America/Sao_Paulo:20240614T170000
DTEND;TZID=America/Sao_Paulo:20240615T113000
DTSTAMP:20260423T161849
CREATED:20240508T030633Z
LAST-MODIFIED:20240508T030633Z
UID:49983-1718384400-1718451000@febrapsi.org
SUMMARY:VIII JORNADA DA CLÍNICA 0 a 3
DESCRIPTION:FRANÇOISE DOLTO E A CLÍNICA DA PRIMEIRA INFÂNCIA.\n14/06 – Sexta-feira\, 17h às 19h30. Após as conferências teremos coquetel com autógrafos.\n15/06 – Sábado\, 9h às 13h30.\nOrganização: Clínica 0 a 3: Intervenção na relação pais-bebê da SBPSP. \nComissão organizadora: Maria Cecília Pereira da Silva\, Diva Aparecida Cilurzo Neto\, Eliane Saslavsky Muszkat\, Gabriela Zemel\, Luciana Stoiani\, Maria José Dell’Acqua Mazzonetto\, Mariângela Mendes de Almeida\, Olivia Arno Caminoto e Raquel Andreucci Pereira Gomes. \nCONVIDADOS:\nCATHERINE DOLTO (ON-LINE)\nMédica\, psicoterapeuta e haptoterapeuta. Foi assistente de Françoise Dolto\, sua mãe\, no período em que esta tinha um programa de rádio na France Inter. É Presidente do CIRDHFV (Centro Internacional de pesquisa e desenvolvimento da haptonomia Frans Velldman) http://www.haptonomie.org/fr/ \nLAURENCE NADAL ARZEL (ON-LINE)\nPsicanalista e artista. Doutora em psicologia e psicanálise. Foi professora na Universidade Rennes II. Trabalha numa CMPP (centro médico psicopedagógico da rede pública) e também em consultório privado. Ela é autora do livro “Dolto e a imagem inconsciente do corpo ” (2006) . Editora: De Boeck Superieur. \nLUCIANA PIRES \nPsicanalista\, com especialização pela Tavistock Clinic\, mestre e doutora pelo Instituto de Psicologia da USP\, autora do livro “Do Silêncio ao Eco: Autismo e Clínica Psicanalítica” e organizadora do “Françoise Dolto: cultura psicossomática e clínica”\, coordenadora de grupos de estudos em psicanálise e supervisora do Sustentar – Psicanálise Infâncias e Saúde Pública do Instituto Sedes Sapientiae. \nPROGRAMA:\nSEXTA-FEIRA 14/06/24: 17H | ABERTURA\nDarcy A. Portolese – Diretor de Atendimento à Comunidade da SBPSP.\nAna Clara Duarte Gavião – Coordenadora do Centro de Atendimento Psicanalítico da SBPSP.\nMaria Cecília Pereira da Silva – Coordenadora da Clínica 0 a 3 – Intervenção nas relações iniciais pais-bebê e da Clínica Transcultural do Centro de Atendimento Psicanalítico da SBPSP. \n17H30 ÀS 19H30\nCONFERÊNCIA: DOLTO E SEU TRABALHO COM PAIS E BEBÊS: UMA INTRODUÇÃO\nApresentadoras: Catherine Dolto (Médica) e Luciana Pires (USP/Sedes)\nCoordenação: Maria Cecília Pereira da Silva (SBPSP) e Olivia Arno Caminoto (SBPSP) \nSÁBADO 15/06/24 | 9H ÀS 10H30\nCONFERÊNCIA: AS CONTRIBUIÇÕES DE FRANÇOISE DOLTO PARA A CLÍNICA DA PRIMEIRA INFÂNCIA\nApresentadora: Laurence Nadal Arzel (Psicanalista)\nCoordenação: Mariângela Mendes de Almeida (SBPSP) e Eliane Saslavsky Muszkat (SBPSP) \n10H30: INTERVALO \n11H ÀS 13H30\nMESA CLÍNICA CASO CLÍNICA 0 A 3: QUANDO A AUSÊNCIA FECHA A BOCA\nApresentadoras: Maria Cecília Pereira da Silva (SBPSP) e Fátima Maria Vieira Batistelli (SBPSP)\nComentários: Laurence Nadal Arzel (Psicanalista)\, Catherine Dolto (médica) e Luciana Pires (USP/Sedes)\nCoordenação: Luciana Stoiani (SBPSP) e Diva Aparecida Cilurzo Neto (SBPSP) \nPÚBLICO-ALVO: Psicólogos\, médicos\, pediatras\, fonoaudiólogos\, fisioterapeutas e terapeutas ocupacionais\, graduandos e profissionais de saúde e educação.\nINSCRIÇÕES: www.sbpsp.org.br\nINFORMAÇÕES: fabiana@sbpsp.org.br\nTAXA DE INSCRIÇÃO: \nMembros filiados da SBPSP / Candidatos FEBRAPSI / IPA / FEPAL\nEstudantes de Graduação / Alunos dos Cursos da DAC \nProfissionais da Rede Pública e Parceiros: R$ 70\,00\nMembros da SBPSP\, FEBRAPSI/ IPA/ FEPAL: R$140\,00\nPúblico externo: R$150\,00\n*5 cotas para profissionais negros\, indígenas e refugiados. \nLOCAL: Av. Dr. Cardoso de Melo\, 1450\, 1º andar\, \nVila Olímpia\, São Paulo / SP
URL:https://febrapsi.org/evento/viii-jornada-da-clinica-0-a-3/
LOCATION:Sede SBPSP\, Av. Dr. Cardoso de Melo\, 1450\, 9ª andar\, São Paulo\, São Paulo\, 04548005\, Brasil
CATEGORIES:Geral
ATTACH;FMTTYPE=image/png:https://febrapsi.org/storage/2024/05/JORNADA_MAISON-VERTE-E-FLOR_C_DOLTO2.png
ORGANIZER;CN="SBPSP":MAILTO:contato@sbpsp.org.br
END:VEVENT
BEGIN:VEVENT
DTSTART;TZID=America/Sao_Paulo:20240615T093000
DTEND;TZID=America/Sao_Paulo:20240615T120000
DTSTAMP:20260423T161849
CREATED:20240527T194237Z
LAST-MODIFIED:20240527T194237Z
UID:50182-1718443800-1718452800@febrapsi.org
SUMMARY:Psicanálise hoje: O tornar-se psicanalista
DESCRIPTION:A Diretoria Científica e a Diretoria de Comunidade e Cultura\, do GEP – Grupo de Estudos de Psicanálise de São José do Rio Preto e região em parceria com o NEPA – Núcleo de Estudos Psicanalíticos de Araçatuba convidam para o evento que acontecerá em Araçatuba\, no dia 15 de junho. O objetivo é transmitir para os terapeutas da região\, informações sobre a formação em Psicanálise/IPA.\nSerá um momento importante de trocas e esclarecimento de dúvidas em relação a este processo de vir a ser analista!\nContamos com a presença de todos.
URL:https://febrapsi.org/evento/psicanalise-hoje-o-tornar-se-psicanalista/
CATEGORIES:Geral
ATTACH;FMTTYPE=image/jpeg:https://febrapsi.org/storage/2024/05/WhatsApp-Image-2024-05-23-at-13.57.29.jpeg
END:VEVENT
END:VCALENDAR