BEGIN:VCALENDAR
VERSION:2.0
PRODID:-//FEBRAPSI - ECPv6.15.20//NONSGML v1.0//EN
CALSCALE:GREGORIAN
METHOD:PUBLISH
X-WR-CALNAME:FEBRAPSI
X-ORIGINAL-URL:https://febrapsi.org
X-WR-CALDESC:Eventos para FEBRAPSI
REFRESH-INTERVAL;VALUE=DURATION:PT1H
X-Robots-Tag:noindex
X-PUBLISHED-TTL:PT1H
BEGIN:VTIMEZONE
TZID:America/Sao_Paulo
BEGIN:STANDARD
TZOFFSETFROM:-0300
TZOFFSETTO:-0300
TZNAME:-03
DTSTART:20230101T000000
END:STANDARD
END:VTIMEZONE
BEGIN:VEVENT
DTSTART;VALUE=DATE:20240919
DTEND;VALUE=DATE:20240922
DTSTAMP:20260423T161446
CREATED:20240716T152917Z
LAST-MODIFIED:20240716T152917Z
UID:49936-1726704000-1726963199@febrapsi.org
SUMMARY:VIII Jornada de Psicanálise SPFOR - "Caminhos do Trauma"
DESCRIPTION:  \nÉ com muita alegria que divulgamos a programação da VIII Jornada de Psicanálise da SPFOR\, que terá como tema: “Caminhos do trauma”. \nA nossa Jornada acontecerá presencialmente no aconchegante auditório do Hotel Mareiro\, na Beira-mar de Fortaleza\, a partir do dia 19 de setembro\, quinta-feira\, e seguirá até dia 21 de setembro\, sábado. \nAs inscrições já estão disponíveis com lotes promocionais no link abaixo \nhttps://www.sympla.com.br/evento/viii-jornada-de-psicanalise-spfor-caminhos-do-trauma/2547698 \n \nPROGRAMAÇÃO  \nVIII JORNADA SPFOR 2024\nCAMINHOS DO TRAUMA \n19.09.2024 – QUINTA-FEIRA \n18h00 – Credenciamento \n19h00 –  Boas-vindas  \n19h05 – 19h15 – Apresentação artística: “Reencarnei numa baleia”. \nDalyla de Sousa – Intérprete criadora\, pesquisadora em dança e integrante de coletivos como o DIA (Dançar entre Infâncias e Autismos) \n19h15 – 19h25 – Acolhimento \nKarina Bernardes – Presidente da SPFOR \n19h25 – 20h10 – O eu e seus abalos sísmicos: contribuições contemporâneas\nà teoria do trauma\nBerta Hoffmann Azevedo – Psicanalista SBPSP \n20.09.2024 – SEXTA-FEIRA \n09h00 – 10h30  – Trauma: investimento libidinal e viscosidade \nGalba Lobo – Psicanalista SPFOR \nEu acredito na minha neurótica \nBarbosa Coutinho – Psicanalista SPFOR \nCoordenação – Inês Benevides – Psicanalista em formação SPFOR \n10h30 – 10h45 – Intervalo \n10h45 – 12h15 – “Primeiro eu tive de morrer”: a clínica dos sofrimentos narcísicos\nMaiza Colares – Psicanalista em formação SPFOR \nIolanda Mendes – Psicanalista em formação SPFOR  \n“Vivendo como em um filme”: desamparo e traumatismo primário\nRosane Müller – Psicanalista SPFOR  \nCoordenação – Erbon Araujo – Psicanalista SPFOR \n12h15 – 14h00 – Intervalo \n14h00 – 15h30 – O trauma e os caminhos tortos da sublimação \nErbon Araujo – Psicanalista SPFOR \nA prostituta e o Herr Professor em análise \nPaulo Marchon – Psicanalista SPFOR/SBPRJ \nCoordenação – José Alves Gurgel – Psicanalista SPFOR \n15h30 – 15h45 – Lançamento do livro “O catecúmeno: o Jenipapo desemboca no infinito”\nValton de Miranda Leitão – Psicanalista SPFOR \n15h45 – 16h15 – Pausa para lanche e assinatura de livros \n16h15 – 17h45 – Reflexão psicanalítica sobre o efeito traumático do capacitismo na pessoa com trissomia do cromossomo 21 \nHelder Pinheiro – Psicanalista em formação SPFOR \nAdolescência em cortes: mutilando traumas ou buscando sentido de vida? \nMarcela Ranier – Psicanalista em formação SPFOR \nCoordenação – Maria José de Andrade Souza – Psicanalista SPFOR / SBPSP \n17h45 – 19h15\nO analista trabalhando: apresentação de caso clínico \nFernanda Basílio – Psicanalista em formação SPFOR  \nComentadores \nAdalberto Goulart – Psicanalista NPA\nBerta Azevedo – Psicanalista SBPSP\nSandra Paraiso Sampaio – Psicanalista SPRPE \nCoordenação – Frederico Sancho – Psicanalista em formação SPFOR \n21.09.2024 – SÁBADO \n9h00 – 9h15 – Apresentação artística\nDalyla de Sousa – Intérprete criadora\, pesquisadora em dança e integrante de coletivos como o DIA (Dançar entre Infâncias e Autismos) \n9h15 – 11h15 – Excessos de presença e ausência na relação mãe-bebê\nLourdes Negreiros – Psicanalista SPFOR \nHeranças do trauma na família e na sociedade \nDaniel Franco – Psicanalista em formação SPFOR\nAdriana Augusta – Psicanalista em formação SPFOR \nA faca e o laço: trauma e elaboração psíquica na escrita de mulheres \nLina Schlachter – Psicanalista em formação SPFOR \nAna Valeska Maia – Psicanalista em formação SPFOR \nCoordenação – Suzette Telles Alves – Psicanalista em formação SPFOR \n11h15 – 11h30 – Intervalo \n11h30 – 13h00 – Continente-Contido na sessão de análise: trauma e experiência emocional\nAna Valeska Maia – Psicanalista em formação SPFOR \nPetrônio Magalhães – Psicanalista SPFOR \n“É escuro e frio aqui” – Um útero a ser elaborado\nKarina Bernardes – Psicanalista SPFOR \nCoordenação – Angélica Almada – Psicanalista em formação SPFOR \n13h – Despedida e agradecimentos \nFederadas presentes em nosso evento\nSBPSP – Sociedade Brasileira de Psicanálise de São Paulo \nSBPRJ – Sociedade Brasileira de Psicanálise do Rio de Janeiro \nNPA – Núcleo Psicanalítico de Aracaju\nSPRPE – Sociedade Psicanalítica do Recife \nServiço: VIII Jornada de Psicanálise da SPFOR | Data: 19 a 21 de setembro de 2024 | Local: Hotel Mareiro – Fortaleza-CE | Maiores informações: 85 98142 4811
URL:https://febrapsi.org/evento/viii-jornada-de-psicanalise-spfor-caminhos-do-trauma/
LOCATION:Hotel Mareiro – Fortaleza Ceara\, Av. Beira Mar 2380\, Fortaleza\, Ceara\, 60.165-120\, Brasil
CATEGORIES:Geral
ATTACH;FMTTYPE=image/jpeg:https://febrapsi.org/storage/2024/05/VIII-Jornada-spfor.jpg
ORGANIZER;CN="SPFOR":MAILTO:psicanalisefortaleza@gmail.com
END:VEVENT
BEGIN:VEVENT
DTSTART;TZID=America/Sao_Paulo:20240607T113000
DTEND;TZID=America/Sao_Paulo:20240607T130000
DTSTAMP:20260423T161446
CREATED:20240531T172750Z
LAST-MODIFIED:20240531T172750Z
UID:50248-1717759800-1717765200@febrapsi.org
SUMMARY:Reunião do Comitê de Psicanálise de Família e Casal da SPPA
DESCRIPTION:Prezados colegas\, \nConvidamos para Reunião do Comitê de Psicanálise de Família e Casal da SPPA\, no dia 7 de junho (sexta-feira)\, das 11h30 às 12h45min\, na Plataforma Zoom\, para seguir o debate de um atendimento de casal a partir do estimulo da vinheta clinica já apresentada!  \nInscrições Antecipadas:\nhttps://us06web.zoom.us/meeting/register/tZAvd-6pqjwrG9O6bir3uZ_xCqJFunCTFVs4 \nAtividade aberta aos membros SPPA\, FEPAL e FEBRAPSI \nUm abraço\,\nCarmem Emilia Keidann
URL:https://febrapsi.org/evento/reuniao-do-comite-de-psicanalise-de-familia-e-casal-da-sppa-4/
LOCATION:Online – Plataforma Zoom
CATEGORIES:Geral
ATTACH;FMTTYPE=image/jpeg:https://febrapsi.org/storage/2024/05/2024-06-07-Familia-1.jpg
ORGANIZER;CN="SPPA":MAILTO:sppa@sppa.org.br
END:VEVENT
BEGIN:VEVENT
DTSTART;TZID=America/Sao_Paulo:20240607T193000
DTEND;TZID=America/Sao_Paulo:20240607T193000
DTSTAMP:20260423T161446
CREATED:20240502T125848Z
LAST-MODIFIED:20240502T125848Z
UID:49775-1717788600-1717788600@febrapsi.org
SUMMARY:“Da submissão à autoridade à responsabilidade por si mesmo” Claudio Castelo Filho
DESCRIPTION:A SBPG e a Revista Brasileira de Psicanálise convidam para a palestra “Da submissão à autoridade à responsabilidade por si mesmo” do psicanalista Claudio Castelo Filho. \nApós a apresentação teremos também o lançamento e momento de autógrafos do seu novo livro: “Os (des) caminhos de Édipo”. \nClaudio é membro efetivo e analista com função didática da Sociedade Brasileira de Psicanálise de São Paulo\, atual editor da Revista Brasileira de Psicanálise\, Psicólogo pela USP\, Mestre em Psicologia Clínica pela PUC-SP\, Doutor em Psicologia Social e Livre Docente em Psicologia Clínica pela USP. Full Member da International Psychoanalytical Association (IPA). Autor dos livros “O Processo Criativo: Tranformação e Ruptura”\, “A Psicanálise do Vir a Ser”\, “Os (Des) Caminhos de Édipo: A Resposta é o Infortúnio da Pergunta”\, co-autor e organizador do livro “Sobre o Feminino”\, todos pela Editora Blucher (@editorablucher). Autor de muitos artigos publicados em periódicos científicos e capítulos de livros no Brasil\, Itália e Estados Unidos. \nClaudio é também artista plástico (pintor e desenhista) com exposições e publicações no Brasil\, Inglaterra e Alemanha. Instagram –@claudiocastelofilhopinturas. \nDurante o evento serão vendidos números avulsos e assinaturas da Revista Brasileira de Psicanálise. \nInscrições: (62) 9 9442-3723 / 3225-3316
URL:https://febrapsi.org/evento/da-submissao-a-autoridade-a-responsabilidade-por-si-mesmo-claudio-castelo-filho/
LOCATION:Auditório do Shopping Flamboyant
CATEGORIES:Geral
ATTACH;FMTTYPE=image/png:https://febrapsi.org/storage/2024/04/palestra-Da-submissao-a-autoridade.png
ORGANIZER;CN="SBPG":MAILTO:gepg@gepg.com.br
END:VEVENT
END:VCALENDAR