BEGIN:VCALENDAR
VERSION:2.0
PRODID:-//FEBRAPSI - ECPv6.15.20//NONSGML v1.0//EN
CALSCALE:GREGORIAN
METHOD:PUBLISH
X-WR-CALNAME:FEBRAPSI
X-ORIGINAL-URL:https://febrapsi.org
X-WR-CALDESC:Eventos para FEBRAPSI
REFRESH-INTERVAL;VALUE=DURATION:PT1H
X-Robots-Tag:noindex
X-PUBLISHED-TTL:PT1H
BEGIN:VTIMEZONE
TZID:America/Sao_Paulo
BEGIN:STANDARD
TZOFFSETFROM:-0300
TZOFFSETTO:-0300
TZNAME:-03
DTSTART:20230101T000000
END:STANDARD
END:VTIMEZONE
BEGIN:VEVENT
DTSTART;VALUE=DATE:20240919
DTEND;VALUE=DATE:20240922
DTSTAMP:20260423T175938
CREATED:20240716T152917Z
LAST-MODIFIED:20240716T152917Z
UID:49936-1726704000-1726963199@febrapsi.org
SUMMARY:VIII Jornada de Psicanálise SPFOR - "Caminhos do Trauma"
DESCRIPTION:  \nÉ com muita alegria que divulgamos a programação da VIII Jornada de Psicanálise da SPFOR\, que terá como tema: “Caminhos do trauma”. \nA nossa Jornada acontecerá presencialmente no aconchegante auditório do Hotel Mareiro\, na Beira-mar de Fortaleza\, a partir do dia 19 de setembro\, quinta-feira\, e seguirá até dia 21 de setembro\, sábado. \nAs inscrições já estão disponíveis com lotes promocionais no link abaixo \nhttps://www.sympla.com.br/evento/viii-jornada-de-psicanalise-spfor-caminhos-do-trauma/2547698 \n \nPROGRAMAÇÃO  \nVIII JORNADA SPFOR 2024\nCAMINHOS DO TRAUMA \n19.09.2024 – QUINTA-FEIRA \n18h00 – Credenciamento \n19h00 –  Boas-vindas  \n19h05 – 19h15 – Apresentação artística: “Reencarnei numa baleia”. \nDalyla de Sousa – Intérprete criadora\, pesquisadora em dança e integrante de coletivos como o DIA (Dançar entre Infâncias e Autismos) \n19h15 – 19h25 – Acolhimento \nKarina Bernardes – Presidente da SPFOR \n19h25 – 20h10 – O eu e seus abalos sísmicos: contribuições contemporâneas\nà teoria do trauma\nBerta Hoffmann Azevedo – Psicanalista SBPSP \n20.09.2024 – SEXTA-FEIRA \n09h00 – 10h30  – Trauma: investimento libidinal e viscosidade \nGalba Lobo – Psicanalista SPFOR \nEu acredito na minha neurótica \nBarbosa Coutinho – Psicanalista SPFOR \nCoordenação – Inês Benevides – Psicanalista em formação SPFOR \n10h30 – 10h45 – Intervalo \n10h45 – 12h15 – “Primeiro eu tive de morrer”: a clínica dos sofrimentos narcísicos\nMaiza Colares – Psicanalista em formação SPFOR \nIolanda Mendes – Psicanalista em formação SPFOR  \n“Vivendo como em um filme”: desamparo e traumatismo primário\nRosane Müller – Psicanalista SPFOR  \nCoordenação – Erbon Araujo – Psicanalista SPFOR \n12h15 – 14h00 – Intervalo \n14h00 – 15h30 – O trauma e os caminhos tortos da sublimação \nErbon Araujo – Psicanalista SPFOR \nA prostituta e o Herr Professor em análise \nPaulo Marchon – Psicanalista SPFOR/SBPRJ \nCoordenação – José Alves Gurgel – Psicanalista SPFOR \n15h30 – 15h45 – Lançamento do livro “O catecúmeno: o Jenipapo desemboca no infinito”\nValton de Miranda Leitão – Psicanalista SPFOR \n15h45 – 16h15 – Pausa para lanche e assinatura de livros \n16h15 – 17h45 – Reflexão psicanalítica sobre o efeito traumático do capacitismo na pessoa com trissomia do cromossomo 21 \nHelder Pinheiro – Psicanalista em formação SPFOR \nAdolescência em cortes: mutilando traumas ou buscando sentido de vida? \nMarcela Ranier – Psicanalista em formação SPFOR \nCoordenação – Maria José de Andrade Souza – Psicanalista SPFOR / SBPSP \n17h45 – 19h15\nO analista trabalhando: apresentação de caso clínico \nFernanda Basílio – Psicanalista em formação SPFOR  \nComentadores \nAdalberto Goulart – Psicanalista NPA\nBerta Azevedo – Psicanalista SBPSP\nSandra Paraiso Sampaio – Psicanalista SPRPE \nCoordenação – Frederico Sancho – Psicanalista em formação SPFOR \n21.09.2024 – SÁBADO \n9h00 – 9h15 – Apresentação artística\nDalyla de Sousa – Intérprete criadora\, pesquisadora em dança e integrante de coletivos como o DIA (Dançar entre Infâncias e Autismos) \n9h15 – 11h15 – Excessos de presença e ausência na relação mãe-bebê\nLourdes Negreiros – Psicanalista SPFOR \nHeranças do trauma na família e na sociedade \nDaniel Franco – Psicanalista em formação SPFOR\nAdriana Augusta – Psicanalista em formação SPFOR \nA faca e o laço: trauma e elaboração psíquica na escrita de mulheres \nLina Schlachter – Psicanalista em formação SPFOR \nAna Valeska Maia – Psicanalista em formação SPFOR \nCoordenação – Suzette Telles Alves – Psicanalista em formação SPFOR \n11h15 – 11h30 – Intervalo \n11h30 – 13h00 – Continente-Contido na sessão de análise: trauma e experiência emocional\nAna Valeska Maia – Psicanalista em formação SPFOR \nPetrônio Magalhães – Psicanalista SPFOR \n“É escuro e frio aqui” – Um útero a ser elaborado\nKarina Bernardes – Psicanalista SPFOR \nCoordenação – Angélica Almada – Psicanalista em formação SPFOR \n13h – Despedida e agradecimentos \nFederadas presentes em nosso evento\nSBPSP – Sociedade Brasileira de Psicanálise de São Paulo \nSBPRJ – Sociedade Brasileira de Psicanálise do Rio de Janeiro \nNPA – Núcleo Psicanalítico de Aracaju\nSPRPE – Sociedade Psicanalítica do Recife \nServiço: VIII Jornada de Psicanálise da SPFOR | Data: 19 a 21 de setembro de 2024 | Local: Hotel Mareiro – Fortaleza-CE | Maiores informações: 85 98142 4811
URL:https://febrapsi.org/evento/viii-jornada-de-psicanalise-spfor-caminhos-do-trauma/
LOCATION:Hotel Mareiro – Fortaleza Ceara\, Av. Beira Mar 2380\, Fortaleza\, Ceara\, 60.165-120\, Brasil
CATEGORIES:Geral
ATTACH;FMTTYPE=image/jpeg:https://febrapsi.org/storage/2024/05/VIII-Jornada-spfor.jpg
ORGANIZER;CN="SPFOR":MAILTO:psicanalisefortaleza@gmail.com
END:VEVENT
BEGIN:VEVENT
DTSTART;VALUE=DATE:20240518
DTEND;VALUE=DATE:20240519
DTSTAMP:20260423T175938
CREATED:20240429T225211Z
LAST-MODIFIED:20240429T225211Z
UID:49703-1715990400-1716076799@febrapsi.org
SUMMARY:ECOS DO CONGRESSO DA FEBRAPSI
DESCRIPTION:ECOS DO CONGRESSSO DA FEBRAPSI \nEvento Híbrido \nDia: 18 de maio de 2024 \nHorário: 8h45
URL:https://febrapsi.org/evento/ecos-do-congresso-da-febrapsi/
LOCATION:São Paulo
CATEGORIES:Geral
ATTACH;FMTTYPE=image/jpeg:https://febrapsi.org/storage/2024/04/Ecos-do-Congresso-18-4.jpeg
ORGANIZER;CN="SPRJ":MAILTO:sprj.rio1@sprj.org.br
END:VEVENT
BEGIN:VEVENT
DTSTART;TZID=America/Sao_Paulo:20240518T083000
DTEND;TZID=America/Sao_Paulo:20240518T120000
DTSTAMP:20260423T175938
CREATED:20240315T135658Z
LAST-MODIFIED:20240315T135658Z
UID:49301-1716021000-1716033600@febrapsi.org
SUMMARY:III CICLO DE DEBATE SOBRE AÇÃO AFIRMATIVA EM UM DIÁLOGO COM A PSICANÁLISE: FEMINICÍDIO
DESCRIPTION:Data: 18 de maio de 2024 – ás 8:45h \nPúblico Externo: R$ 50\,00 para profissionais.\nSem ônus: Membros\, Candidatos da SPRPE\, Estudantes de Graduação e profissionais com deficiência\, negros\, indígenas\, refugiados em concordância com as Ações Afirmativas. \nInformações e Inscrições:  \n81 986090196 – 986090198 (WhatsApp) \nE-mail: sprsecretaria@uol.com.br
URL:https://febrapsi.org/evento/iii-ciclo-de-debate-sobre-acao-afirmativa-em-um-dialogo-com-a-psicanalise-feminicidio/
LOCATION:São Paulo
CATEGORIES:Geral
ATTACH;FMTTYPE=image/jpeg:https://febrapsi.org/storage/2024/03/Feminicidio.jpg
END:VEVENT
BEGIN:VEVENT
DTSTART;TZID=America/Sao_Paulo:20240518T090000
DTEND;TZID=America/Sao_Paulo:20240518T120000
DTSTAMP:20260423T175938
CREATED:20240429T225150Z
LAST-MODIFIED:20240429T225150Z
UID:49706-1716022800-1716033600@febrapsi.org
SUMMARY:DIÁLOGOS PSICANALÍTICOS III - AULA 3: DONALD WINNICOTT
DESCRIPTION:Curso Diálogos Psicanalíticos III: A evolução do pensamento e da escuta na prática psicanalítica \nEVENTO HÍBRIDO \nMAIO: 18/05/2024 – Tema: Donald Winnicott \nCoordenação: Marlene Rozenberg e Maria Luiza Salomão \nOrganização: Mariangela Carvalho Canellas Silva e Ana Patrícia Ribeiro\nHorário: das 9h às 12h \nINSCREVA-SE! \nwww.sbpsp.org.br\nadele.lacotis@sbpsp.org.br \nLOCAL: AV. DR. CARDOSO DE MELO\, 1450\, 1º ANDAR\, VILA OLÍMPIA\, SÃO PAULO / SP
URL:https://febrapsi.org/evento/dialogos-psicanaliticos-iii-aula-3-donald-winnicott/
LOCATION:Sede SBPSP\, Av. Dr. Cardoso de Melo\, 1450\, 9ª andar\, São Paulo\, São Paulo\, 04548005\, Brasil
CATEGORIES:Geral
ATTACH;FMTTYPE=image/png:https://febrapsi.org/storage/2024/04/CARTAZ_DIALOGOS_MAIO_2024_HIBRIDO.png
ORGANIZER;CN="SBPSP":MAILTO:contato@sbpsp.org.br
END:VEVENT
BEGIN:VEVENT
DTSTART;TZID=America/Sao_Paulo:20240518T160000
DTEND;TZID=America/Sao_Paulo:20240518T190000
DTSTAMP:20260423T175938
CREATED:20240507T164020Z
LAST-MODIFIED:20240507T164020Z
UID:49919-1716048000-1716058800@febrapsi.org
SUMMARY:PSICANÁLISE EM TEMPOS SOMBRIOS | REUNIÃO 18 DE MAIO DE 2024
DESCRIPTION:PSICANÁLISE EM TEMPOS SOMBRIOS:\nbarbárie\, destrutividade\, maldade / cultura\, ideologia e crítica.\n18/05 – das 16h às 19h. \nSobre a experiência estética: destrutividade e transformações. \nPalestrante: Gabriela Goldstein (APA / IPA). \nCoordenação DCC: João Frayze-Pereira e Lila Schwartz.\nINSCRIÇÕES: www.sbpsp.org.br\nINFORMAÇÕES: fabiana@sbpsp.org.br\nTAXA DE INSCRIÇÃO: \nMembros filiados da SBPSP / \nCandidatos FEBRAPSI / IPA / FEPAL: SEM ÔNUS\nMembros da SBPSP/ FEBRAPSI/ IPA/ FEPAL: SEM ÔNUS\nPÚBLICO EXTERNO: R$ 60\,00\n5 Cotas para profissionais negros\, indígenas e refugiados. \nDIRETORIA DE CULTURA E COMUNIDADE – DCC / SBPSP\nDiretor: João Frayze-Pereira \nAssistente da Direção: Lila Schwartz\nCoordenação das reuniões: Lila Schwartz\, Marlene Rozenberg\, Marisa Granchelli\, \nMirian Malzyner\, Norma Lottenberg Semer\, Raquel Pires e Tania Zalcberg\nApoio do CDM: Regina Gianesi e Yone Castello\nCiclo “Cinema e Psicanálise”: Luciana Saddi
URL:https://febrapsi.org/evento/psicanalise-em-tempos-sombrios-reuniao-18-de-maio-de-2024/
LOCATION:Online – Plataforma Zoom
CATEGORIES:Geral
ATTACH;FMTTYPE=image/png:https://febrapsi.org/storage/2024/05/MAI_DCC_2024.png
ORGANIZER;CN="SBPSP":MAILTO:contato@sbpsp.org.br
END:VEVENT
END:VCALENDAR