BEGIN:VCALENDAR
VERSION:2.0
PRODID:-//FEBRAPSI - ECPv6.15.20//NONSGML v1.0//EN
CALSCALE:GREGORIAN
METHOD:PUBLISH
X-ORIGINAL-URL:https://febrapsi.org
X-WR-CALDESC:Eventos para FEBRAPSI
REFRESH-INTERVAL;VALUE=DURATION:PT1H
X-Robots-Tag:noindex
X-PUBLISHED-TTL:PT1H
BEGIN:VTIMEZONE
TZID:America/Sao_Paulo
BEGIN:STANDARD
TZOFFSETFROM:-0300
TZOFFSETTO:-0300
TZNAME:-03
DTSTART:20230101T000000
END:STANDARD
END:VTIMEZONE
BEGIN:VEVENT
DTSTART;VALUE=DATE:20240919
DTEND;VALUE=DATE:20240922
DTSTAMP:20260423T180050
CREATED:20240716T152917Z
LAST-MODIFIED:20240716T152917Z
UID:49936-1726704000-1726963199@febrapsi.org
SUMMARY:VIII Jornada de Psicanálise SPFOR - "Caminhos do Trauma"
DESCRIPTION:  \nÉ com muita alegria que divulgamos a programação da VIII Jornada de Psicanálise da SPFOR\, que terá como tema: “Caminhos do trauma”. \nA nossa Jornada acontecerá presencialmente no aconchegante auditório do Hotel Mareiro\, na Beira-mar de Fortaleza\, a partir do dia 19 de setembro\, quinta-feira\, e seguirá até dia 21 de setembro\, sábado. \nAs inscrições já estão disponíveis com lotes promocionais no link abaixo \nhttps://www.sympla.com.br/evento/viii-jornada-de-psicanalise-spfor-caminhos-do-trauma/2547698 \n \nPROGRAMAÇÃO  \nVIII JORNADA SPFOR 2024\nCAMINHOS DO TRAUMA \n19.09.2024 – QUINTA-FEIRA \n18h00 – Credenciamento \n19h00 –  Boas-vindas  \n19h05 – 19h15 – Apresentação artística: “Reencarnei numa baleia”. \nDalyla de Sousa – Intérprete criadora\, pesquisadora em dança e integrante de coletivos como o DIA (Dançar entre Infâncias e Autismos) \n19h15 – 19h25 – Acolhimento \nKarina Bernardes – Presidente da SPFOR \n19h25 – 20h10 – O eu e seus abalos sísmicos: contribuições contemporâneas\nà teoria do trauma\nBerta Hoffmann Azevedo – Psicanalista SBPSP \n20.09.2024 – SEXTA-FEIRA \n09h00 – 10h30  – Trauma: investimento libidinal e viscosidade \nGalba Lobo – Psicanalista SPFOR \nEu acredito na minha neurótica \nBarbosa Coutinho – Psicanalista SPFOR \nCoordenação – Inês Benevides – Psicanalista em formação SPFOR \n10h30 – 10h45 – Intervalo \n10h45 – 12h15 – “Primeiro eu tive de morrer”: a clínica dos sofrimentos narcísicos\nMaiza Colares – Psicanalista em formação SPFOR \nIolanda Mendes – Psicanalista em formação SPFOR  \n“Vivendo como em um filme”: desamparo e traumatismo primário\nRosane Müller – Psicanalista SPFOR  \nCoordenação – Erbon Araujo – Psicanalista SPFOR \n12h15 – 14h00 – Intervalo \n14h00 – 15h30 – O trauma e os caminhos tortos da sublimação \nErbon Araujo – Psicanalista SPFOR \nA prostituta e o Herr Professor em análise \nPaulo Marchon – Psicanalista SPFOR/SBPRJ \nCoordenação – José Alves Gurgel – Psicanalista SPFOR \n15h30 – 15h45 – Lançamento do livro “O catecúmeno: o Jenipapo desemboca no infinito”\nValton de Miranda Leitão – Psicanalista SPFOR \n15h45 – 16h15 – Pausa para lanche e assinatura de livros \n16h15 – 17h45 – Reflexão psicanalítica sobre o efeito traumático do capacitismo na pessoa com trissomia do cromossomo 21 \nHelder Pinheiro – Psicanalista em formação SPFOR \nAdolescência em cortes: mutilando traumas ou buscando sentido de vida? \nMarcela Ranier – Psicanalista em formação SPFOR \nCoordenação – Maria José de Andrade Souza – Psicanalista SPFOR / SBPSP \n17h45 – 19h15\nO analista trabalhando: apresentação de caso clínico \nFernanda Basílio – Psicanalista em formação SPFOR  \nComentadores \nAdalberto Goulart – Psicanalista NPA\nBerta Azevedo – Psicanalista SBPSP\nSandra Paraiso Sampaio – Psicanalista SPRPE \nCoordenação – Frederico Sancho – Psicanalista em formação SPFOR \n21.09.2024 – SÁBADO \n9h00 – 9h15 – Apresentação artística\nDalyla de Sousa – Intérprete criadora\, pesquisadora em dança e integrante de coletivos como o DIA (Dançar entre Infâncias e Autismos) \n9h15 – 11h15 – Excessos de presença e ausência na relação mãe-bebê\nLourdes Negreiros – Psicanalista SPFOR \nHeranças do trauma na família e na sociedade \nDaniel Franco – Psicanalista em formação SPFOR\nAdriana Augusta – Psicanalista em formação SPFOR \nA faca e o laço: trauma e elaboração psíquica na escrita de mulheres \nLina Schlachter – Psicanalista em formação SPFOR \nAna Valeska Maia – Psicanalista em formação SPFOR \nCoordenação – Suzette Telles Alves – Psicanalista em formação SPFOR \n11h15 – 11h30 – Intervalo \n11h30 – 13h00 – Continente-Contido na sessão de análise: trauma e experiência emocional\nAna Valeska Maia – Psicanalista em formação SPFOR \nPetrônio Magalhães – Psicanalista SPFOR \n“É escuro e frio aqui” – Um útero a ser elaborado\nKarina Bernardes – Psicanalista SPFOR \nCoordenação – Angélica Almada – Psicanalista em formação SPFOR \n13h – Despedida e agradecimentos \nFederadas presentes em nosso evento\nSBPSP – Sociedade Brasileira de Psicanálise de São Paulo \nSBPRJ – Sociedade Brasileira de Psicanálise do Rio de Janeiro \nNPA – Núcleo Psicanalítico de Aracaju\nSPRPE – Sociedade Psicanalítica do Recife \nServiço: VIII Jornada de Psicanálise da SPFOR | Data: 19 a 21 de setembro de 2024 | Local: Hotel Mareiro – Fortaleza-CE | Maiores informações: 85 98142 4811
URL:https://febrapsi.org/evento/viii-jornada-de-psicanalise-spfor-caminhos-do-trauma/
LOCATION:Hotel Mareiro – Fortaleza Ceara\, Av. Beira Mar 2380\, Fortaleza\, Ceara\, 60.165-120\, Brasil
CATEGORIES:Geral
ATTACH;FMTTYPE=image/jpeg:https://febrapsi.org/storage/2024/05/VIII-Jornada-spfor.jpg
ORGANIZER;CN="SPFOR":MAILTO:psicanalisefortaleza@gmail.com
END:VEVENT
BEGIN:VEVENT
DTSTART;TZID=America/Sao_Paulo:20240508T123000
DTEND;TZID=America/Sao_Paulo:20240508T133000
DTSTAMP:20260423T180050
CREATED:20240429T225151Z
LAST-MODIFIED:20240429T225151Z
UID:49740-1715171400-1715175000@febrapsi.org
SUMMARY:Ciclo de Estudos: “Subjetividade e desenvolvimento infantil”
DESCRIPTION:CICLO DE ESTUDOS ONLINE SOBRE TEORIA PSICANALÍTICA 2024\nDestinado a acadêmicos e profissionais de medicina e psicologia \n“Subjetividade e desenvolvimento infantil”\nCoordenadora: Cátia Olivier Mello (Psicanalista da SPPA) \n4 encontros 08\,15\, 22 e 29 de maio\nQuarta-feira\, das 12h30min às 13h30min \nInscrição antecipada:\nhttps://forms.gle/GDN5Ttp4YvNBL1n88 \nInvestimento Total\nEstudantes de Graduação: R$ 120\,00\nProfissionais: R$ 240\,00\nPlataforma: Google Meet \nVagas: 15 alunos
URL:https://febrapsi.org/evento/ciclo-de-estudos-subjetividade-e-desenvolvimento-infantil/
LOCATION:Evento Online
CATEGORIES:Geral
ATTACH;FMTTYPE=image/jpeg:https://febrapsi.org/storage/2024/04/2024-05-08-01-Ciclo-de-Estudos.jpg
ORGANIZER;CN="SPPA":MAILTO:sppa@sppa.org.br
END:VEVENT
BEGIN:VEVENT
DTSTART;TZID=America/Sao_Paulo:20240508T203000
DTEND;TZID=America/Sao_Paulo:20240508T213000
DTSTAMP:20260423T180050
CREATED:20240415T165600Z
LAST-MODIFIED:20240415T165600Z
UID:49652-1715200200-1715203800@febrapsi.org
SUMMARY:Apresentação do Livro "Marcha do Silêncio"\, de Itamar Cardin
DESCRIPTION:O GEP Marília e Região convida para a apresentação do livro “Marcha do Silêncio”\, escrito pelo jornalista Itamar Cardin. O evento conta com a participação da psicanalista da SBPSP\, Sílvia Lobo\, nos comentários. \nOcorre no dia 08 de maio\, às 20h30\, gratuitamente\, em formato on-line via Zoom (ID da reunião: 818 2991 2482 | Senha: 214922). \nMais informações: (14) 99614-6782 | https://www.psicanalisemarilia.com.br/ \nSobre o livro: \nHanry não voltou para casa em 21 de novembro de 2002. No dia seguinte\, após procurá-lo por toda a comunidade onde moravam no Rio de Janeiro\, Márcia\, sua mãe\, descobriu que o filho de 16 anos havia sido morto em uma troca de tiros com a polícia. Era mais um auto de resistência nas periferias brasileiras. Era? \nAlertada pelos próprios moradores de que Hanry fora morto injustamente\, Márcia iniciou uma busca improvável: investigar como o próprio filho morreu. Foram anos descobrindo testemunhas\, vasculhando vielas e revisitando cada minuto daquele 21 de novembro. Até que finalmente a verdade (ou parte dela) viesse à tona e escancarasse as marcas da violência policial contra o negro brasileiro. \nCom um extenso trabalho de pesquisa que se debruçou sobre o inquérito policial\, o processo jurídico e contou com dezenas de entrevistas com Márcia\, além de testemunhas\, familiares de Hanry\, autoridades e outras mães em condição semelhante\, “Marcha do Silêncio” narra a luta trágica de uma mãe para provar a inocência do filho morto – e como\, em meio a essa busca\, o trauma deixa marcas irreparáveis na constituição dos sujeitos.
URL:https://febrapsi.org/evento/apresentacao-do-livro-marcha-do-silencio-de-itamar-cardin/
LOCATION:São Paulo
CATEGORIES:Geral
ATTACH;FMTTYPE=image/jpeg:https://febrapsi.org/storage/2024/04/WhatsApp-Image-2024-04-10-at-08.28.50.jpeg
ORGANIZER;CN="GEP Mar%C3%ADlia e Regi%C3%A3o":MAILTO:contato@gepmariliaeregiao.com.br
END:VEVENT
END:VCALENDAR