BEGIN:VCALENDAR
VERSION:2.0
PRODID:-//FEBRAPSI - ECPv6.15.20//NONSGML v1.0//EN
CALSCALE:GREGORIAN
METHOD:PUBLISH
X-WR-CALNAME:FEBRAPSI
X-ORIGINAL-URL:https://febrapsi.org
X-WR-CALDESC:Eventos para FEBRAPSI
REFRESH-INTERVAL;VALUE=DURATION:PT1H
X-Robots-Tag:noindex
X-PUBLISHED-TTL:PT1H
BEGIN:VTIMEZONE
TZID:America/Sao_Paulo
BEGIN:STANDARD
TZOFFSETFROM:-0300
TZOFFSETTO:-0300
TZNAME:-03
DTSTART:20230101T000000
END:STANDARD
END:VTIMEZONE
BEGIN:VEVENT
DTSTART;VALUE=DATE:20240919
DTEND;VALUE=DATE:20240922
DTSTAMP:20260423T175800
CREATED:20240716T152917Z
LAST-MODIFIED:20240716T152917Z
UID:49936-1726704000-1726963199@febrapsi.org
SUMMARY:VIII Jornada de Psicanálise SPFOR - "Caminhos do Trauma"
DESCRIPTION:  \nÉ com muita alegria que divulgamos a programação da VIII Jornada de Psicanálise da SPFOR\, que terá como tema: “Caminhos do trauma”. \nA nossa Jornada acontecerá presencialmente no aconchegante auditório do Hotel Mareiro\, na Beira-mar de Fortaleza\, a partir do dia 19 de setembro\, quinta-feira\, e seguirá até dia 21 de setembro\, sábado. \nAs inscrições já estão disponíveis com lotes promocionais no link abaixo \nhttps://www.sympla.com.br/evento/viii-jornada-de-psicanalise-spfor-caminhos-do-trauma/2547698 \n \nPROGRAMAÇÃO  \nVIII JORNADA SPFOR 2024\nCAMINHOS DO TRAUMA \n19.09.2024 – QUINTA-FEIRA \n18h00 – Credenciamento \n19h00 –  Boas-vindas  \n19h05 – 19h15 – Apresentação artística: “Reencarnei numa baleia”. \nDalyla de Sousa – Intérprete criadora\, pesquisadora em dança e integrante de coletivos como o DIA (Dançar entre Infâncias e Autismos) \n19h15 – 19h25 – Acolhimento \nKarina Bernardes – Presidente da SPFOR \n19h25 – 20h10 – O eu e seus abalos sísmicos: contribuições contemporâneas\nà teoria do trauma\nBerta Hoffmann Azevedo – Psicanalista SBPSP \n20.09.2024 – SEXTA-FEIRA \n09h00 – 10h30  – Trauma: investimento libidinal e viscosidade \nGalba Lobo – Psicanalista SPFOR \nEu acredito na minha neurótica \nBarbosa Coutinho – Psicanalista SPFOR \nCoordenação – Inês Benevides – Psicanalista em formação SPFOR \n10h30 – 10h45 – Intervalo \n10h45 – 12h15 – “Primeiro eu tive de morrer”: a clínica dos sofrimentos narcísicos\nMaiza Colares – Psicanalista em formação SPFOR \nIolanda Mendes – Psicanalista em formação SPFOR  \n“Vivendo como em um filme”: desamparo e traumatismo primário\nRosane Müller – Psicanalista SPFOR  \nCoordenação – Erbon Araujo – Psicanalista SPFOR \n12h15 – 14h00 – Intervalo \n14h00 – 15h30 – O trauma e os caminhos tortos da sublimação \nErbon Araujo – Psicanalista SPFOR \nA prostituta e o Herr Professor em análise \nPaulo Marchon – Psicanalista SPFOR/SBPRJ \nCoordenação – José Alves Gurgel – Psicanalista SPFOR \n15h30 – 15h45 – Lançamento do livro “O catecúmeno: o Jenipapo desemboca no infinito”\nValton de Miranda Leitão – Psicanalista SPFOR \n15h45 – 16h15 – Pausa para lanche e assinatura de livros \n16h15 – 17h45 – Reflexão psicanalítica sobre o efeito traumático do capacitismo na pessoa com trissomia do cromossomo 21 \nHelder Pinheiro – Psicanalista em formação SPFOR \nAdolescência em cortes: mutilando traumas ou buscando sentido de vida? \nMarcela Ranier – Psicanalista em formação SPFOR \nCoordenação – Maria José de Andrade Souza – Psicanalista SPFOR / SBPSP \n17h45 – 19h15\nO analista trabalhando: apresentação de caso clínico \nFernanda Basílio – Psicanalista em formação SPFOR  \nComentadores \nAdalberto Goulart – Psicanalista NPA\nBerta Azevedo – Psicanalista SBPSP\nSandra Paraiso Sampaio – Psicanalista SPRPE \nCoordenação – Frederico Sancho – Psicanalista em formação SPFOR \n21.09.2024 – SÁBADO \n9h00 – 9h15 – Apresentação artística\nDalyla de Sousa – Intérprete criadora\, pesquisadora em dança e integrante de coletivos como o DIA (Dançar entre Infâncias e Autismos) \n9h15 – 11h15 – Excessos de presença e ausência na relação mãe-bebê\nLourdes Negreiros – Psicanalista SPFOR \nHeranças do trauma na família e na sociedade \nDaniel Franco – Psicanalista em formação SPFOR\nAdriana Augusta – Psicanalista em formação SPFOR \nA faca e o laço: trauma e elaboração psíquica na escrita de mulheres \nLina Schlachter – Psicanalista em formação SPFOR \nAna Valeska Maia – Psicanalista em formação SPFOR \nCoordenação – Suzette Telles Alves – Psicanalista em formação SPFOR \n11h15 – 11h30 – Intervalo \n11h30 – 13h00 – Continente-Contido na sessão de análise: trauma e experiência emocional\nAna Valeska Maia – Psicanalista em formação SPFOR \nPetrônio Magalhães – Psicanalista SPFOR \n“É escuro e frio aqui” – Um útero a ser elaborado\nKarina Bernardes – Psicanalista SPFOR \nCoordenação – Angélica Almada – Psicanalista em formação SPFOR \n13h – Despedida e agradecimentos \nFederadas presentes em nosso evento\nSBPSP – Sociedade Brasileira de Psicanálise de São Paulo \nSBPRJ – Sociedade Brasileira de Psicanálise do Rio de Janeiro \nNPA – Núcleo Psicanalítico de Aracaju\nSPRPE – Sociedade Psicanalítica do Recife \nServiço: VIII Jornada de Psicanálise da SPFOR | Data: 19 a 21 de setembro de 2024 | Local: Hotel Mareiro – Fortaleza-CE | Maiores informações: 85 98142 4811
URL:https://febrapsi.org/evento/viii-jornada-de-psicanalise-spfor-caminhos-do-trauma/
LOCATION:Hotel Mareiro – Fortaleza Ceara\, Av. Beira Mar 2380\, Fortaleza\, Ceara\, 60.165-120\, Brasil
CATEGORIES:Geral
ATTACH;FMTTYPE=image/jpeg:https://febrapsi.org/storage/2024/05/VIII-Jornada-spfor.jpg
ORGANIZER;CN="SPFOR":MAILTO:psicanalisefortaleza@gmail.com
END:VEVENT
BEGIN:VEVENT
DTSTART;TZID=America/Sao_Paulo:20240503T133000
DTEND;TZID=America/Sao_Paulo:20240504T170000
DTSTAMP:20260423T175800
CREATED:20240415T165600Z
LAST-MODIFIED:20240415T165600Z
UID:49618-1714743000-1714842000@febrapsi.org
SUMMARY:PSICANÁLISE E PEDIATRIA: INTERSEÇÕES
DESCRIPTION:03/05 Sexta-feira | 13h30 às 18h \n13h30: ABERTURA\nCarmen C. Mion\, Presidente da SBPSP \n14h às 15h: CONFERÊNCIA (On-line)\nDESENVOLVIMENTO E SAÚDE MENTAL: EVOLUÇÕES TEÓRICAS E SOCIOPOLÍTICAS \nBernard Golse (FRANÇA – APF) \n15h às 15h30: DISCUSSÃO \nCoordenação: Denise de Sousa Feliciano (SBPSP/SPSP) \n15h30 às 16h: INTERVALO \nMESA 1: PSICO → SOMA\nCoordenação: Ana Maria Stucchi Vannucchi (SBPSP) \n16h às 16h30: ENTRE A PEDIATRIA E A PSICANÁLISE\nLeonardo Posternak (INSTITUTO DA FAMÍLIA) \n16h30 às 17h: UMA PSICANALISTA QUE UM DIA SE ENCANTOU PELA PEDIATRIA\nRegina Elisabeth Lordello Coimbra (SBPSP) \n17h às 17h30: DO CORPO AO SÍMBOLO\nDenise de Sousa Feliciano (SBPSP / SPSP) \n17h30 às 18h: DISCUSSÃO \nCOQUETEL DE AUTÓGRAFO COM OS AUTORES DO LIVRO \nPediatria e Saúde Mental: Implicações Frente às Mudanças do Século XXI. \n  \n04/05 Sábado | 9h às 17h \nMESA 2: ALERTAS E CUIDADOS PRECOCÍSSIMOS\nCoordenação: Darcy Antonio Portolese (SBPSP) \n09h às 09h30: AS CONTRIBUIÇÕES DA NEUROCIÊNCIA\nVera Regina Jardim Ribeiro Marcondes Fonseca (SBPSP) \n09h30 às 10h: SINAIS PRECOCES DE ALTERAÇÕES NO NEURODESENVOLVIMENTO \nSaul Cypel (SPSP) \n10h às 10h30: COMENTÁRIOS \nFernando Lamano Ferreira (SPSP) \n10h30 às 11h: DISCUSSÃO \n11h às 11h30: INTERVALO \nMESA 3: COMUNICAÇÃO PELO SINTOMA\, AÇÃO NO SOFRIMENTO\nCoordenação: Walkiria Nunez Paulo dos Santos (SBPSP) \n11h30 às 12h: PELE ARRANHADA\, CORTADA\, MARCADA \nMaria Thereza de Barros França (SBPSP) \n12h às 12h30: MEDICALIZAÇÃO DA INFÂNCIA\nArianne Angelelli (SPSP) \n12h30 às 13h: COMENTÁRIOS: \nCleyton Angelelli (SPSP) \n13h às 14h: ALMOÇO POR ADESÃO (R$ 85\,00) \n14h15 às 16h15: CONFERÊNCIA (On-line)\nSINAIS DE RISCO DE AUTISMO NOS PRIMEIROS MESES DE VIDA. POR QUE VALE A PENA INTERVIR TÃO CEDO?\nMarie Christine Laznik (FRANÇA – ALI)\, com a participação gravada de Annik Baulieu – osteopata e psicanalista e Muriel Chauvet – psicomotricista. \n16h15 às 16h45: DISCUSSÃO \nCoordenação: Fátima Maria Vieira Batistelli (SBPSP/SPSP) \n16h45 às 17h: ENCERRAMENTO \nInvestimento: \nProfissionais (Público externo): R$ 250\,00\nMembros SBPSP e SPSP\, FEBRAPSI\, IPA\, FEPAL: R$ 150\,00\nMembros Filiados da SBPSP\, Estudantes de graduação\, \nAlunos de cursos da DAC\, Residentes de medicina e\nProfissionais da rede pública: R$ 100\,00.\n5 cotas para profissionais negros\, indígenas e refugiados.
URL:https://febrapsi.org/evento/psicanalise-e-pediatria-intersecoes/
LOCATION:Sede SBPSP\, Av. Dr. Cardoso de Melo\, 1450\, 9ª andar\, São Paulo\, São Paulo\, 04548005\, Brasil
CATEGORIES:Geral
ATTACH;FMTTYPE=image/png:https://febrapsi.org/storage/2024/04/PSICANALISE-E-PEDIATRIA.png
ORGANIZER;CN="SBPSP":MAILTO:contato@sbpsp.org.br
END:VEVENT
BEGIN:VEVENT
DTSTART;TZID=America/Sao_Paulo:20240504T100000
DTEND;TZID=America/Sao_Paulo:20240504T120000
DTSTAMP:20260423T175800
CREATED:20240402T133523Z
LAST-MODIFIED:20240410T114753Z
UID:49541-1714816800-1714824000@febrapsi.org
SUMMARY:Encontro Científico "Fanatismo e Negacionismo"
DESCRIPTION:O GEP Marília e Região promove o Encontro Científico “Fanatismo e Negacionismo” com Roosevelt Cassorla\, Analista Didata das SBPSP e SBPCamp; Coordenador do Working Party “Microscopia da Sessão Analítica” da FEPAL. \nOs temas de fanatismo\, terrorismo e negacionismo serão abordados como fatos sociais e conectados com fenômenos que ocorrem no campo analítico. A participação dos colegas com relatos de experiência contribuem com o debate. \nO Evento acontece no dia 04 de maio\, das 10h às 12h\, em formato on-line. \nInvestimento:\nR$120\,00 para Membros GEP Marilia e Região\, Febrapsi\, FEPAL e IPA\, psicólogos e médicos;\nR$60\,00 para estudantes. \nInscrições: https://forms.gle/PumyMyKi5Qqe9FDd7 \nMais informações: (14) 99614-6782 | www.psicanalisemarilia.com.br
URL:https://febrapsi.org/evento/encontro-cientifico-fanatismo-e-negacionismo/
LOCATION:Online – Plataforma Zoom
CATEGORIES:Geral
ATTACH;FMTTYPE=image/jpeg:https://febrapsi.org/storage/2024/04/431d374f-8724-470d-9ae3-d3ccb48a84ab.jpg
ORGANIZER;CN="GEP Mar%C3%ADlia e Regi%C3%A3o":MAILTO:contato@gepmariliaeregiao.com.br
END:VEVENT
BEGIN:VEVENT
DTSTART;TZID=America/Sao_Paulo:20240504T100000
DTEND;TZID=America/Sao_Paulo:20240504T123000
DTSTAMP:20260423T175800
CREATED:20240429T225244Z
LAST-MODIFIED:20240429T225244Z
UID:49699-1714816800-1714825800@febrapsi.org
SUMMARY:Psicanálise em Diálogo - O sonoro e subjetivo
DESCRIPTION:Psicanálise em Diálogo – O Sonoro e o Subjetivo \nEvento Híbrido \nDia: 04 de maio 2024 \nHorário: 10hs
URL:https://febrapsi.org/evento/psicanalise-em-dialogo-o-sonoro-e-subjetivo/
LOCATION:Evento híbrido
CATEGORIES:Geral
ATTACH;FMTTYPE=image/jpeg:https://febrapsi.org/storage/2024/04/Cartaz-04-5.jpeg
ORGANIZER;CN="SPRJ":MAILTO:sprj.rio1@sprj.org.br
END:VEVENT
BEGIN:VEVENT
DTSTART;TZID=America/Sao_Paulo:20240504T160000
DTEND;TZID=America/Sao_Paulo:20240504T190000
DTSTAMP:20260423T175800
CREATED:20240415T165600Z
LAST-MODIFIED:20240415T165600Z
UID:49658-1714838400-1714849200@febrapsi.org
SUMMARY:Cine Debate: Exibição e Discussão do Filme "O último duelo"
DESCRIPTION:No mês de maio\, o Cine Debate do GEP Marília e Região exibe e discute o filme “O último duelo”\, do diretor Ridley Scott.  \nO evento é híbrido e gratuito\, aberto ao público em geral. Conta com os comentários de Alceu Casseb\, Psiquiatra\, Doutor em Saúde Mental pela Unicamp\, Membro Efetivo e Analista Didata SBPSP\, Editor Associado Revista Uruguaia Psicanálise\, Editor Associado do Livro Anual do International Journal Psychoanalysis. \nOcorre no dia 04 de maio\, às 16h. \nPara participar presencialmente (35 vagas)\, inscreva-se por Whatsapp: (14) 99614-6782\nEndereço: Sede do GEP | R. Dr. Granadino de Batista\, 135\, Marília\, SP \nTambém teremos transmissão via Zoom: ID da reunião: 899 1974 1203 | Senha: 507468
URL:https://febrapsi.org/evento/cine-debate-exibicao-e-discussao-do-filme-o-ultimo-duelo/
LOCATION:São Paulo
CATEGORIES:Geral
ATTACH;FMTTYPE=image/jpeg:https://febrapsi.org/storage/2024/04/Cine-Debate-Maio.jpeg
ORGANIZER;CN="GEP Mar%C3%ADlia e Regi%C3%A3o":MAILTO:contato@gepmariliaeregiao.com.br
END:VEVENT
END:VCALENDAR