BEGIN:VCALENDAR
VERSION:2.0
PRODID:-//FEBRAPSI - ECPv6.15.20//NONSGML v1.0//EN
CALSCALE:GREGORIAN
METHOD:PUBLISH
X-ORIGINAL-URL:https://febrapsi.org
X-WR-CALDESC:Eventos para FEBRAPSI
REFRESH-INTERVAL;VALUE=DURATION:PT1H
X-Robots-Tag:noindex
X-PUBLISHED-TTL:PT1H
BEGIN:VTIMEZONE
TZID:America/Sao_Paulo
BEGIN:STANDARD
TZOFFSETFROM:-0300
TZOFFSETTO:-0300
TZNAME:-03
DTSTART:20230101T000000
END:STANDARD
END:VTIMEZONE
BEGIN:VEVENT
DTSTART;TZID=America/Sao_Paulo:20240502T203000
DTEND;TZID=America/Sao_Paulo:20240502T220000
DTSTAMP:20260423T180051
CREATED:20240429T225150Z
LAST-MODIFIED:20240502T155955Z
UID:49710-1714681800-1714687200@febrapsi.org
SUMMARY:Quinta Científica: “A ideologia que assombra a fantasia no processo identificatório”
DESCRIPTION:Considerando o estado de calamidade pública em decorrência da crise climática que está atingindo o Estado do RS\, a Diretoria da SPPA optou por cancelar a Quinta Científica: “A ideologia que assombra a fantasia no processo identificatório”\, de hoje\, dia 2 de maio\, quinta-feira. \nDesde já agradecemos a compreensão e esperamos que estejam bem e seguros. \nDiretoria da SPPA \n********************************************************** \nConvidamos para a Quinta Científica: “A ideologia que assombra a fantasia no processo identificatório”\, dia 2 de maio (quinta-feira)\, às 20h30. Atividade presencial Auditório SPPA para residentes em Porto Alegre e plataforma Zoom/SPPA para residentes fora de Porto Alegre. \nApresentadores:\nIgnácio Alves Paim Filho (SBPdePA)\nMagali Fischer (SPPA)\nMaria Cristina Garcia Vasconcellos (SPPA)\nRegina Pereira Klarmann (SPPA)\nRossana Nicoliello Pinho (SPMG)\nSandra Regina Souza Machado Wolffenbüttel (SPPA) \nCoordenação:\nMarli Bergel (Diretora Científica da SPPA) \nInscrições antecipadas:\nhttps://forms.gle/7FLyuZgqJcDpHJhf6\n \nAtividade aberta e gratuita
URL:https://febrapsi.org/evento/quinta-cientifica-a-ideologia-que-assombra-a-fantasia-no-processo-identificatorio/
LOCATION:SPPA\, Rua General Andrade Neves 14/0401\, Porto Alegre\, RS\, 90010210\, Brasil
CATEGORIES:Geral
ATTACH;FMTTYPE=image/jpeg:https://febrapsi.org/storage/2024/04/CANCELADA.jpg
ORGANIZER;CN="SPPA":MAILTO:sppa@sppa.org.br
END:VEVENT
END:VCALENDAR