BEGIN:VCALENDAR
VERSION:2.0
PRODID:-//FEBRAPSI - ECPv6.15.20//NONSGML v1.0//EN
CALSCALE:GREGORIAN
METHOD:PUBLISH
X-WR-CALNAME:FEBRAPSI
X-ORIGINAL-URL:https://febrapsi.org
X-WR-CALDESC:Eventos para FEBRAPSI
REFRESH-INTERVAL;VALUE=DURATION:PT1H
X-Robots-Tag:noindex
X-PUBLISHED-TTL:PT1H
BEGIN:VTIMEZONE
TZID:America/Sao_Paulo
BEGIN:STANDARD
TZOFFSETFROM:-0300
TZOFFSETTO:-0300
TZNAME:-03
DTSTART:20230101T000000
END:STANDARD
END:VTIMEZONE
BEGIN:VEVENT
DTSTART;TZID=America/Sao_Paulo:20240423T203000
DTEND;TZID=America/Sao_Paulo:20240423T220000
DTSTAMP:20260423T195634
CREATED:20240406T163007Z
LAST-MODIFIED:20240406T163007Z
UID:49581-1713904200-1713909600@febrapsi.org
SUMMARY:Atividade Inaugural da Diretoria de Ações na Comunidade da SPPA: “A escuta psicanalítica na comunidade: alcances e limites”
DESCRIPTION:Convidamos para a Atividade Inaugural da Diretoria de Ações na Comunidade da SPPA\, no dia 23 de abril (terça-feira)\, às 20h30\, na Plataforma Zoom/SPPA.\n“A escuta psicanalítica na comunidade: alcances e limites” \nConvidadas:\nJosiane Barbosa Oliveira (SBPRP)\nDiretora de Comunidade e Cultura da FEBRAPSI \nAlice Becker Lewkowicz (SPPA)\nParticipante do Grupo Rodaviva/SPPA \nCoordenação: \nLuciana Aranha Secco\nDiretora de Ações na Comunidade da SPPA \nInscrições Antecipadas:\nhttps://us06web.zoom.us/webinar/register/WN_2CgQYQN2RCad4UEAj7yt_w \nAtividade online\, aberta e gratuita
URL:https://febrapsi.org/evento/atividade-inaugural-da-diretoria-de-acoes-na-comunidade-da-sppa-a-escuta-psicanalitica-na-comunidade-alcances-e-limites/
LOCATION:Online – Plataforma Zoom
CATEGORIES:Geral
ATTACH;FMTTYPE=image/jpeg:https://febrapsi.org/storage/2024/04/2024-04-23-Comunidade.jpg
ORGANIZER;CN="SPPA":MAILTO:sppa@sppa.org.br
END:VEVENT
END:VCALENDAR