BEGIN:VCALENDAR
VERSION:2.0
PRODID:-//FEBRAPSI - ECPv6.15.20//NONSGML v1.0//EN
CALSCALE:GREGORIAN
METHOD:PUBLISH
X-WR-CALNAME:FEBRAPSI
X-ORIGINAL-URL:https://febrapsi.org
X-WR-CALDESC:Eventos para FEBRAPSI
REFRESH-INTERVAL;VALUE=DURATION:PT1H
X-Robots-Tag:noindex
X-PUBLISHED-TTL:PT1H
BEGIN:VTIMEZONE
TZID:America/Sao_Paulo
BEGIN:STANDARD
TZOFFSETFROM:-0300
TZOFFSETTO:-0300
TZNAME:-03
DTSTART:20230101T000000
END:STANDARD
END:VTIMEZONE
BEGIN:VEVENT
DTSTART;TZID=America/Sao_Paulo:20240312T080000
DTEND;TZID=America/Sao_Paulo:20240412T170000
DTSTAMP:20260423T194053
CREATED:20240315T135658Z
LAST-MODIFIED:20240406T163608Z
UID:49317-1710230400-1712941200@febrapsi.org
SUMMARY:Grupos de Estudos para a Comunidade - 2º/ 2024
DESCRIPTION: \n\n\n\nInscrições abertas para os Grupos de Estudos 1º semestre de 2024\n\n\nNo mês de março\, iniciam os encontros do 1º semestre dos grupos de estudos da Brasileira. Sob organização da Diretoria de Comunidade e Cultura – Área de Transmissão da Psicanálise – os encontros serão on-line ou híbridos e as frequências serão semanais ou quinzenais\, conforme os coordenadores. \nSão oito grupos de estudos que reúnem uma vasta programação com o objetivo de propiciar um espaço de discussão e trocas de conhecimento sobre os fundamentos da psicanálise\, bem como incentivar a formação continuada através de leituras e discussões de diferentes autores e temáticas. \nOs grupos são voltados principalmente para profissionais e estudantes das áreas da medicina\, da psicologia e da educação\, mas pessoas de outras áreas podem se informar sobre a possibilidade de participação na secretaria da SBPdePA. \n​Investimento mensal:\nGrupos semanais: R$ 200\,00;\nGrupos quinzenais: R$180\,00. \n​Haverá disponibilidade de quatro vagas gratuitas para profissionais ou estudantes da área psicanalítica que sejam negros\, negras ou indígenas. As inscrições podem ser efetuadas através do preenchimento do formulário no site. Informações: auxsecretaria@sbpdepa.org.br ou (51) 99252-5998. \n     
URL:https://febrapsi.org/evento/grupos-de-estudos-para-a-comunidade-2o-2024/
LOCATION:São Paulo
CATEGORIES:Geral
ATTACH;FMTTYPE=image/png:https://febrapsi.org/storage/2024/03/grupo-de-estudos-2024.png
END:VEVENT
BEGIN:VEVENT
DTSTART;TZID=America/Sao_Paulo:20240408T203000
DTEND;TZID=America/Sao_Paulo:20240408T214500
DTSTAMP:20260423T194053
CREATED:20240312T130145Z
LAST-MODIFIED:20240406T163808Z
UID:49279-1712608200-1712612700@febrapsi.org
SUMMARY:Seminário Aberto - Psicossomática Contemporânea
DESCRIPTION:Seminário Aberto – Psicossomática Contemporânea \nSob organização da Diretoria do Instituto de Psicanálise da SBPdePA e da Comissão Coordenadora do Projeto Ubuntu. Este evento promete uma imersão no estudo deste campo. A ênfase será na escola de Paris ao longo das últimas décadas e o desenvolvimento dos conceitos de pensamento operatório\, depressão essencial e comportamentos auto-calmantes\, além de explorar aspectos da clínica atual para aprimoramento da técnica psicanalítica.\n\nA ocasião contará com a presença da convidada Ana Paula Terra Machado e Membro em formação do IPSO Pierre Marty e Admar Horn Membro da Sociedade de Psicanálise de Paris – SPP. Membro da Sociedade Brasileira de Psicanálise do Rio de Janeiro – SBPRJ e Vice-presidente da Associação Internacional de Psicossomática Pierre Marty-AIPPM).\n\nInscrições abertas: sbpdepa.org.br\nInformações: comunicacao@sbpdepa.org.br\n \n 
URL:https://febrapsi.org/evento/seminario-aberto-sexualidade-e-genero-um-inicio-de-conversa/
LOCATION:Evento híbrido
CATEGORIES:Geral
ATTACH;FMTTYPE=image/jpeg:https://febrapsi.org/storage/2024/03/SEMINARIO-ABERTO-CONVIDADOS.jpeg
END:VEVENT
BEGIN:VEVENT
DTSTART;TZID=America/Sao_Paulo:20240408T203000
DTEND;TZID=America/Sao_Paulo:20240408T220000
DTSTAMP:20260423T194053
CREATED:20240326T140233Z
LAST-MODIFIED:20240326T140233Z
UID:49382-1712608200-1712613600@febrapsi.org
SUMMARY:Conversas sobre a formação em Psicanálise
DESCRIPTION:Venha conversar e tirar suas dúvidas com a Diretoria do Instituto de Psicanálise Regina Carvalho sobre a formação psicanalítica na SBPCamp/IPA.\nClique aqui para se inscrever e receber o link. Todos são bem-vindos! 
URL:https://febrapsi.org/evento/conversas-sobre-a-formacao-em-psicanalise/
LOCATION:Online – Plataforma Zoom
CATEGORIES:Geral
ATTACH;FMTTYPE=image/webp:https://febrapsi.org/storage/2024/03/SBPCamp-Conversas-sobre-a-Formacao-Arte-.webp
ORGANIZER;CN="SBPCamp":MAILTO:eventos@sbpcamp.org.br
END:VEVENT
END:VCALENDAR