BEGIN:VCALENDAR
VERSION:2.0
PRODID:-//FEBRAPSI - ECPv6.15.20//NONSGML v1.0//EN
CALSCALE:GREGORIAN
METHOD:PUBLISH
X-ORIGINAL-URL:https://febrapsi.org
X-WR-CALDESC:Eventos para FEBRAPSI
REFRESH-INTERVAL;VALUE=DURATION:PT1H
X-Robots-Tag:noindex
X-PUBLISHED-TTL:PT1H
BEGIN:VTIMEZONE
TZID:America/Sao_Paulo
BEGIN:STANDARD
TZOFFSETFROM:-0300
TZOFFSETTO:-0300
TZNAME:-03
DTSTART:20230101T000000
END:STANDARD
END:VTIMEZONE
BEGIN:VEVENT
DTSTART;TZID=America/Sao_Paulo:20240312T080000
DTEND;TZID=America/Sao_Paulo:20240412T170000
DTSTAMP:20260423T194758
CREATED:20240315T135658Z
LAST-MODIFIED:20240406T163608Z
UID:49317-1710230400-1712941200@febrapsi.org
SUMMARY:Grupos de Estudos para a Comunidade - 2º/ 2024
DESCRIPTION: \n\n\n\nInscrições abertas para os Grupos de Estudos 1º semestre de 2024\n\n\nNo mês de março\, iniciam os encontros do 1º semestre dos grupos de estudos da Brasileira. Sob organização da Diretoria de Comunidade e Cultura – Área de Transmissão da Psicanálise – os encontros serão on-line ou híbridos e as frequências serão semanais ou quinzenais\, conforme os coordenadores. \nSão oito grupos de estudos que reúnem uma vasta programação com o objetivo de propiciar um espaço de discussão e trocas de conhecimento sobre os fundamentos da psicanálise\, bem como incentivar a formação continuada através de leituras e discussões de diferentes autores e temáticas. \nOs grupos são voltados principalmente para profissionais e estudantes das áreas da medicina\, da psicologia e da educação\, mas pessoas de outras áreas podem se informar sobre a possibilidade de participação na secretaria da SBPdePA. \n​Investimento mensal:\nGrupos semanais: R$ 200\,00;\nGrupos quinzenais: R$180\,00. \n​Haverá disponibilidade de quatro vagas gratuitas para profissionais ou estudantes da área psicanalítica que sejam negros\, negras ou indígenas. As inscrições podem ser efetuadas através do preenchimento do formulário no site. Informações: auxsecretaria@sbpdepa.org.br ou (51) 99252-5998. \n     
URL:https://febrapsi.org/evento/grupos-de-estudos-para-a-comunidade-2o-2024/
LOCATION:São Paulo
CATEGORIES:Geral
ATTACH;FMTTYPE=image/png:https://febrapsi.org/storage/2024/03/grupo-de-estudos-2024.png
END:VEVENT
BEGIN:VEVENT
DTSTART;VALUE=DATE:20240406
DTEND;VALUE=DATE:20240407
DTSTAMP:20260423T194759
CREATED:20240402T133340Z
LAST-MODIFIED:20240402T133340Z
UID:49531-1712361600-1712447999@febrapsi.org
SUMMARY:Cine Debate: Exibição e Discussão do Filme "Saltburn"
DESCRIPTION:No mês de abril\, o Cine Debate do GEP Marília e Região exibe e discute o filme “Saltburn”. Com comentários de Luciana Saddi (Psicanalista\, Escritora\, Membro Efetivo e Docente Didata da SBPSP)\, o evento é híbrido e gratuito\, aberto ao público em geral. \nOcorre no dia 06 de abril\, às 16h. \nPara participar presencialmente (35 vagas)\, inscreva-se por Whatsapp: (14) 99614-6782\nEndereço: Sede do GEP | R. Dr. Granadino de Batista\, 135\, Marília\, SP \nTambém teremos transmissão via Zoom: https://us06web.zoom.us/j/84498528156?pwd=3t9t4cbCaUmWjyxb5nC6KebHm5SOUb.1\nID da reunião: 844 9852 8156 | Senha: 824825
URL:https://febrapsi.org/evento/cine-debate-exibicao-e-discussao-do-filme-saltburn/
LOCATION:GEP Marília e Região\, R. Dr. Granadino de Batista\, 135\, Marília\, SP\, 17502-180
CATEGORIES:Geral
ATTACH;FMTTYPE=image/jpeg:https://febrapsi.org/storage/2024/04/a9fd88e8-456b-40cd-9453-d01b6bc64941.jpg
ORGANIZER;CN="GEP Mar%C3%ADlia e Regi%C3%A3o":MAILTO:contato@gepmariliaeregiao.com.br
END:VEVENT
BEGIN:VEVENT
DTSTART;TZID=America/Sao_Paulo:20240406T090000
DTEND;TZID=America/Sao_Paulo:20240406T120000
DTSTAMP:20260423T194759
CREATED:20240208T114820Z
LAST-MODIFIED:20240208T114820Z
UID:48853-1712394000-1712404800@febrapsi.org
SUMMARY:WEBINAR PSICOSSOMA: DO NASCIMENTO AO ENVELHECIMENTO
DESCRIPTION:EVENTO HÍBRIDO | Presencial com transmissão On-line pela plataforma Zoom. \nABERTURA: \nGLAUCIA MARIA FERREIRA FURTADO\nDiretora Regional SBPSP \nPALESTRANTES:\nCARMEN C. MION\nPresidente SBPSP \nCÂNDIDA SÉ HOLOVKO\nMembro Efetivo SBPSP \nGLEY SILVA PACHECO COSTA\nMembro Titular da SBPdePA \nCOORDENAÇÃO: \nBENEDITA DE LOURDES CARVALHO RODRIGUES\nMembro Associado SBPSP \nINVESTIMENTO: \nSEM ÔNUS PARA MEMBROS SBPSP / FEBRAPSI / FEPAL / IPA\nPÚBLICO EXTERNO: R$ 90\,00\n5 cotas para profissionais negros\, indígenas e refugiados. \nLOCAL: Av. Dr. Cardoso de Melo\, 1450\, 1º andar\, Vila Olímpia – São Paulo/SP \nINSCRIÇÕES: www.sbpsp.org.br \nINFORMAÇÕES: fabiana@sbpsp.org.br
URL:https://febrapsi.org/evento/webinar-psicossoma-do-nascimento-ao-envelhecimento/
LOCATION:Sede SBPSP\, Av. Dr. Cardoso de Melo\, 1450\, 9ª andar\, São Paulo\, São Paulo\, 04548005\, Brasil
CATEGORIES:Geral
ATTACH;FMTTYPE=image/png:https://febrapsi.org/storage/2024/01/CARTAZ_WEBINAR_PSICOSSOMA.png
ORGANIZER;CN="SBPSP":MAILTO:contato@sbpsp.org.br
END:VEVENT
BEGIN:VEVENT
DTSTART;TZID=America/Sao_Paulo:20240406T090000
DTEND;TZID=America/Sao_Paulo:20240406T123000
DTSTAMP:20260423T194759
CREATED:20240315T135740Z
LAST-MODIFIED:20240315T135740Z
UID:49338-1712394000-1712406600@febrapsi.org
SUMMARY:Prata da Casa
DESCRIPTION:Prata da Casa \nDia: 06 de abril de 2024 \nHorário: 9h
URL:https://febrapsi.org/evento/prata-da-casa/
LOCATION:Evento híbrido
CATEGORIES:Geral
ATTACH;FMTTYPE=image/jpeg:https://febrapsi.org/storage/2024/03/Cartaz-6-4.jpeg
ORGANIZER;CN="SPRJ":MAILTO:sprj.rio1@sprj.org.br
END:VEVENT
BEGIN:VEVENT
DTSTART;TZID=America/Sao_Paulo:20240406T100000
DTEND;TZID=America/Sao_Paulo:20240406T120000
DTSTAMP:20260423T194759
CREATED:20240326T140233Z
LAST-MODIFIED:20240326T140233Z
UID:49373-1712397600-1712404800@febrapsi.org
SUMMARY:Ciência e Psicanálise: A música como agente de transformação no universo infanto-juvenil
DESCRIPTION:A Sociedade Brasileira de Psicanálise de Campinas (SBPCamp) convida a todos para a atividade on-line “A música como agente de transformação no universo infanto-juvenil”\, com Vasti Atique\, regente e diretora artística\, em conversa com Leila Gnatos Lombardi (SBPCamp e SBPSP)\, psicanalista de crianças e adolescentes pela IPA. Sábado 06 de abril das 10h00 às 12h00\, via Zoom. Inscrições aqui.
URL:https://febrapsi.org/evento/ciencia-e-psicanalise-a-musica-como-agente-de-transformacao-no-universo-infanto-juvenil/
LOCATION:Online – Plataforma Zoom
CATEGORIES:Geral
ATTACH;FMTTYPE=image/webp:https://febrapsi.org/storage/2024/03/SBPCamp-Ciencia-e-Psicanalise-1-copia.webp
ORGANIZER;CN="SBPCamp":MAILTO:eventos@sbpcamp.org.br
END:VEVENT
END:VCALENDAR