BEGIN:VCALENDAR
VERSION:2.0
PRODID:-//FEBRAPSI - ECPv6.15.20//NONSGML v1.0//EN
CALSCALE:GREGORIAN
METHOD:PUBLISH
X-WR-CALNAME:FEBRAPSI
X-ORIGINAL-URL:https://febrapsi.org
X-WR-CALDESC:Eventos para FEBRAPSI
REFRESH-INTERVAL;VALUE=DURATION:PT1H
X-Robots-Tag:noindex
X-PUBLISHED-TTL:PT1H
BEGIN:VTIMEZONE
TZID:America/Sao_Paulo
BEGIN:STANDARD
TZOFFSETFROM:-0300
TZOFFSETTO:-0300
TZNAME:-03
DTSTART:20230101T000000
END:STANDARD
END:VTIMEZONE
BEGIN:VEVENT
DTSTART;TZID=America/Sao_Paulo:20240312T080000
DTEND;TZID=America/Sao_Paulo:20240412T170000
DTSTAMP:20260423T195634
CREATED:20240315T135658Z
LAST-MODIFIED:20240406T163608Z
UID:49317-1710230400-1712941200@febrapsi.org
SUMMARY:Grupos de Estudos para a Comunidade - 2º/ 2024
DESCRIPTION: \n\n\n\nInscrições abertas para os Grupos de Estudos 1º semestre de 2024\n\n\nNo mês de março\, iniciam os encontros do 1º semestre dos grupos de estudos da Brasileira. Sob organização da Diretoria de Comunidade e Cultura – Área de Transmissão da Psicanálise – os encontros serão on-line ou híbridos e as frequências serão semanais ou quinzenais\, conforme os coordenadores. \nSão oito grupos de estudos que reúnem uma vasta programação com o objetivo de propiciar um espaço de discussão e trocas de conhecimento sobre os fundamentos da psicanálise\, bem como incentivar a formação continuada através de leituras e discussões de diferentes autores e temáticas. \nOs grupos são voltados principalmente para profissionais e estudantes das áreas da medicina\, da psicologia e da educação\, mas pessoas de outras áreas podem se informar sobre a possibilidade de participação na secretaria da SBPdePA. \n​Investimento mensal:\nGrupos semanais: R$ 200\,00;\nGrupos quinzenais: R$180\,00. \n​Haverá disponibilidade de quatro vagas gratuitas para profissionais ou estudantes da área psicanalítica que sejam negros\, negras ou indígenas. As inscrições podem ser efetuadas através do preenchimento do formulário no site. Informações: auxsecretaria@sbpdepa.org.br ou (51) 99252-5998. \n     
URL:https://febrapsi.org/evento/grupos-de-estudos-para-a-comunidade-2o-2024/
LOCATION:São Paulo
CATEGORIES:Geral
ATTACH;FMTTYPE=image/png:https://febrapsi.org/storage/2024/03/grupo-de-estudos-2024.png
END:VEVENT
BEGIN:VEVENT
DTSTART;TZID=America/Sao_Paulo:20240405T080000
DTEND;TZID=America/Sao_Paulo:20240405T170000
DTSTAMP:20260423T195634
CREATED:20240315T135658Z
LAST-MODIFIED:20240315T135658Z
UID:49313-1712304000-1712336400@febrapsi.org
SUMMARY:Novas Perspectivas sobre o TEA - SBPMG
DESCRIPTION:O Transtorno do Espectro Autista (TEA) é complexo\, multifatorial e\, por isso\, o tratamento deve ser multidisciplinar. O papel da psicanálise na abordagem terapêutica tem sido fundamental inclusive na integração da equipe envolvida no desenvolvimento integral da criança ou adolescentes na construção de um ambiente no qual a criança se sinta segura. \nOs estudos sobre o transtorno estão avançando e é sobre isso que falaremos no “Novas Perspectivas sobre o TEA”\, evento que será realizado ON-LINE\, pelo zoom meeting\, no dia 5 de abril\, às 20h. \n Conduzido pela Coordenadora da Infância e Adolescência da SBPMG\, a psicanalista Ana Carolina Tiuso\, o evento terá a participação da psicanalista didata\, docente e psicanalista de crianças e adolescentes pela IPA das Sociedades Brasileiras de Psicanálise de Campinas e de São Paulo\, Alicia Beatriz Dorado de Lisondo\, do Médico geneticista e anestesiologista. Mestre e doutorando em medicina molecular pela UFMG\, Dr. João Paulo Faria; e da Psiquiatra\, com Residência Médica pela UFMG e Mestrado em Pediatria UFMG\, Dra. Simone Facuri Lopes. \nInscrições www.sbpmg.org.br \nEsperamos por vocês!
URL:https://febrapsi.org/evento/novas-perspectivas-sobre-o-tea-sbpmg/
LOCATION:Evento Online
CATEGORIES:Geral
ATTACH;FMTTYPE=image/jpeg:https://febrapsi.org/storage/2024/03/WhatsApp-Image-2024-03-12-at-09.56.54.jpeg
ORGANIZER;CN="SBPMG":MAILTO:sbpmg@uol.com.br
END:VEVENT
BEGIN:VEVENT
DTSTART;TZID=America/Sao_Paulo:20240405T113000
DTEND;TZID=America/Sao_Paulo:20240405T130000
DTSTAMP:20260423T195634
CREATED:20240402T133748Z
LAST-MODIFIED:20240402T133748Z
UID:49528-1712316600-1712322000@febrapsi.org
SUMMARY:Reunião do Comitê de Psicanálise de Família e Casal da SPPA
DESCRIPTION:Este é um convite para nossa próxima Reunião do Comitê de Psicanálise de Família e Casal da SPPA\, que se realizará através da Plataforma Zoom/SPPA\, na sexta-feira\, dia 5 de abril\, das 11h30 às 12h45min\, para debater o tema da avaliação e indicação de atendimento de casal a partir do estímulo de uma vinheta clínica. \nParticipe!\nInscrições Antecipadas:\nhttps://us06web.zoom.us/meeting/register/tZ0vcuigrTssHN1wnJteSTxiZ5oRb5IyRpdF \nAtividade aberta aos membros SPPA e FEBRAPSI  \nUm abraço\,\nCarmem Emilia Keidann
URL:https://febrapsi.org/evento/reuniao-do-comite-de-psicanalise-de-familia-e-casal-da-sppa/
LOCATION:Evento Online
CATEGORIES:Geral
ATTACH;FMTTYPE=image/jpeg:https://febrapsi.org/storage/2024/04/2024-04-05-Familia-2.jpg
ORGANIZER;CN="SPPA":MAILTO:sppa@sppa.org.br
END:VEVENT
BEGIN:VEVENT
DTSTART;TZID=America/Sao_Paulo:20240405T170000
DTEND;TZID=America/Sao_Paulo:20240405T170000
DTSTAMP:20260423T195634
CREATED:20240315T135740Z
LAST-MODIFIED:20240315T135740Z
UID:49335-1712336400-1712336400@febrapsi.org
SUMMARY:Grupo de conversa - "Falar o quê? Ficamos mais resilientes com o nosso Envelhecimento x Juventude interna
DESCRIPTION:Grupo de conversa – “Falar o quê? Ficamos mais resilientes com o nosso Envelhecimento x Juventude interna \nDia: Sexta-feira\, 05 de abril de 2024 \nHorário: 17h
URL:https://febrapsi.org/evento/grupo-de-conversa-falar-o-que-ficamos-mais-resilientes-com-o-nosso-envelhecimento-x-juventude-interna/
LOCATION:Evento Online
CATEGORIES:Geral
ATTACH;FMTTYPE=image/jpeg:https://febrapsi.org/storage/2024/03/cartaz-05-4-2024.jpeg
ORGANIZER;CN="SPRJ":MAILTO:sprj.rio1@sprj.org.br
END:VEVENT
END:VCALENDAR