BEGIN:VCALENDAR
VERSION:2.0
PRODID:-//FEBRAPSI - ECPv6.15.20//NONSGML v1.0//EN
CALSCALE:GREGORIAN
METHOD:PUBLISH
X-WR-CALNAME:FEBRAPSI
X-ORIGINAL-URL:https://febrapsi.org
X-WR-CALDESC:Eventos para FEBRAPSI
REFRESH-INTERVAL;VALUE=DURATION:PT1H
X-Robots-Tag:noindex
X-PUBLISHED-TTL:PT1H
BEGIN:VTIMEZONE
TZID:America/Sao_Paulo
BEGIN:STANDARD
TZOFFSETFROM:-0300
TZOFFSETTO:-0300
TZNAME:-03
DTSTART:20230101T000000
END:STANDARD
END:VTIMEZONE
BEGIN:VEVENT
DTSTART;TZID=America/Sao_Paulo:20240312T080000
DTEND;TZID=America/Sao_Paulo:20240412T170000
DTSTAMP:20260423T213835
CREATED:20240315T135658Z
LAST-MODIFIED:20240406T163608Z
UID:49317-1710230400-1712941200@febrapsi.org
SUMMARY:Grupos de Estudos para a Comunidade - 2º/ 2024
DESCRIPTION: \n\n\n\nInscrições abertas para os Grupos de Estudos 1º semestre de 2024\n\n\nNo mês de março\, iniciam os encontros do 1º semestre dos grupos de estudos da Brasileira. Sob organização da Diretoria de Comunidade e Cultura – Área de Transmissão da Psicanálise – os encontros serão on-line ou híbridos e as frequências serão semanais ou quinzenais\, conforme os coordenadores. \nSão oito grupos de estudos que reúnem uma vasta programação com o objetivo de propiciar um espaço de discussão e trocas de conhecimento sobre os fundamentos da psicanálise\, bem como incentivar a formação continuada através de leituras e discussões de diferentes autores e temáticas. \nOs grupos são voltados principalmente para profissionais e estudantes das áreas da medicina\, da psicologia e da educação\, mas pessoas de outras áreas podem se informar sobre a possibilidade de participação na secretaria da SBPdePA. \n​Investimento mensal:\nGrupos semanais: R$ 200\,00;\nGrupos quinzenais: R$180\,00. \n​Haverá disponibilidade de quatro vagas gratuitas para profissionais ou estudantes da área psicanalítica que sejam negros\, negras ou indígenas. As inscrições podem ser efetuadas através do preenchimento do formulário no site. Informações: auxsecretaria@sbpdepa.org.br ou (51) 99252-5998. \n     
URL:https://febrapsi.org/evento/grupos-de-estudos-para-a-comunidade-2o-2024/
LOCATION:São Paulo
CATEGORIES:Geral
ATTACH;FMTTYPE=image/png:https://febrapsi.org/storage/2024/03/grupo-de-estudos-2024.png
END:VEVENT
BEGIN:VEVENT
DTSTART;TZID=America/Sao_Paulo:20240321T203000
DTEND;TZID=America/Sao_Paulo:20240326T220000
DTSTAMP:20260423T213835
CREATED:20240312T130145Z
LAST-MODIFIED:20240326T200618Z
UID:49256-1711053000-1711490400@febrapsi.org
SUMMARY:Roda de Conversa  Sexualidade e Gênero: Um início de conversa
DESCRIPTION:Roda de Conversa – Sexualidade e Gênero: Um início de conversa\n\n\nOrganizada pela Diretoria Científica da Sociedade Brasileira de Psicanálise de Porto Alegre (SBPdePA)\, esta atividade retoma o formato tradicional de encontros científicos da Brasileira. O objetivo é iniciar a discussão e debates dentro do tema proposto pela diretoria científica para o ano de 2024: Sexualidade e Gênero.\n\nMarque na sua agenda: 26 de março\, às 20h30. Este é apenas o começo de uma conversa essencial.\n\nLançamento da Revista Psicanálise da SBPdePA: Adicções e Dependências\n\n\nNesta quinta-feira (21)\, logo após a Roda de Conversa sobre Sexualidade e Gênero\, acontecerá o lançamento da Revista Psicanálise vol. 25: no 02/2023\, edição que tem como título “Adicções e Dependências” e\, por ocasião deste número\, conta com conferências e trabalhos apresentados na XV Jornada Científica da SBPdePA\, realizada em setembro de 2023.\n\n\nA nossa revista tem o papel de difundir a Psicanálise\, seus questionamentos e reflexões. Portanto\, seu lançamento\, sua história e seus avanços são fundamentais para o crescimento da Instituição.\n\n\nDestacamos que a revista\, além da sua versão impressa\, também está disponível na versão digital no nosso site e no linktree disponibilizado na bio do nosso Instagram.\n\n\nA coordenação do lançamento é da Diretora de Publicações da Brasileira e Editora do Jornal\, Katya de Azevedo Araújo.\n\n 
URL:https://febrapsi.org/evento/roda-de-conversa-sexualidade-e-genero-um-inicio-de-conversa/
LOCATION:Evento híbrido
CATEGORIES:Geral
ATTACH;FMTTYPE=image/jpeg:https://febrapsi.org/storage/2024/03/4cb7dd99-ded4-4316-a3b9-530e9748a875.jpg
END:VEVENT
BEGIN:VEVENT
DTSTART;TZID=America/Sao_Paulo:20240323T080000
DTEND;TZID=America/Sao_Paulo:20240323T170000
DTSTAMP:20260423T213835
CREATED:20240315T135658Z
LAST-MODIFIED:20240315T135658Z
UID:49309-1711180800-1711213200@febrapsi.org
SUMMARY: 34ª edição do Cinema e Psicanálise na SBPMG
DESCRIPTION:🎥 No dia 23 de março\, a SBPMG realizará a  34ª edição do Cinema e Psicanálise\, evento que irá analisar o filme “22 de julho”. \nBaseado em fatos REAIS\, a produção aborda o atentado ocorrido em 2011 em Oslo\, Noruega\, que resultou em 77 mortes. \nA trama se desenvolve em torno de um jovem sobrevivente do atentado e familiares das vítimas que precisam lidar com traumas emocionais e lutar por justiça. Para comentar sobre o filme teremos a presença do psicanalista Rossevelt Cassorla (@rooseveltcassorla) \n📅 Nossa sessão\, online e gratuita\, pela plataforma Zoom. \nInscrições pelo site da SBPMG: www.sbpmg.org.br \nVagas limitadas. \n 
URL:https://febrapsi.org/evento/34a-edicao-do-cinema-e-psicanalise-na-sbpmg/
LOCATION:Evento Online
CATEGORIES:Geral
ATTACH;FMTTYPE=image/jpeg:https://febrapsi.org/storage/2024/03/WhatsApp-Image-2024-03-05-at-17.01.16.jpeg
ORGANIZER;CN="SBPMG":MAILTO:sbpmg@uol.com.br
END:VEVENT
BEGIN:VEVENT
DTSTART;TZID=America/Sao_Paulo:20240323T090000
DTEND;TZID=America/Sao_Paulo:20240323T103000
DTSTAMP:20260423T213835
CREATED:20240312T130144Z
LAST-MODIFIED:20240315T141420Z
UID:49238-1711184400-1711189800@febrapsi.org
SUMMARY:Grupos de Estudos: "Conversas na sarjeta: a singularidade do método psicanalítico"
DESCRIPTION:Grupos de Estudos de Psicanálise da SBPRP \n\nCom muita alegria apresentamos o novo projeto da Diretoria de Cultura e Comunidade da SBPRP que consiste na formação de Grupos de Estudos de Psicanálise oferecidos à comunidade\, com a função de difusão\, transmissão e apreensão do conhecimento psicanalítico. \nO projeto se estruturou a partir da idéia de promover a coordenação dos Grupos de Estudos por psicanalistas da Sociedade Brasileira de Psicanalise de Ribeirão Preto\, visando o acesso da comunidade ao estudo singular de temas fundamentais da psicanálise contemporânea.     \nCom essa finalidade\, as reflexões e estudos propostos versarão sobre textos clínicos e teóricos livremente selecionados pelos psicanalistas coordenadores\, que terão autonomia para definir o tempo de duração de cada grupo (trimestral\, semestral\, anual)\, a frequência das reuniões (mensal\, quinzenal ou semanal) e o número de participantes de cada grupo. \nSendo assim\, temos o prazer de apresentar a primeira edição do Grupo de Estudos de Psicanálise da SBPRP\, “Conversas na sarjeta: a singularidade do método psicanalítico”. O mesmo contará com a coordenação e a presença concomitante de quatro psicanalistas com funções didáticas da nossa Sociedade – Paulo Ribeiro\, Mércia Maranhão\, Miguel Marques e Thaís Marques. \nAs reuniões deste grupo terão início em março e serão realizadas exclusivamente no formato online\, com a duração de uma hora e meia cada encontro\, das 9h00 às 10h30\, aos sábados\, nas seguintes datas 23 de março\, 27 de abril e 25 de maio. \n O público alvo consiste em estudantes e profissionais da área da saúde\, psico afins\, preferencialmente da medicina e/ou psicologia. \nO valor da inscrição é de 450\,00 reais e contempla a presença do inscrito nos três encontros mensais (150 reais cada encontro).  \nO evento poderá ser gravado mediante autorização dos psicanalistas coordenadores do grupo. \nLembrando que são vagas limitadas\, com duas vagas gratuitas para negros e/ ou indígenas.\nAs inscrições para membros da SBPRP poderão ser parceladas em 3 vezes no boleto da mensalidade. \n\n\nValores: \n \nValor único para os 3 encontros: R$450\,00 \n02 vagas gratuitas para negros e/ou indígenas. \nVagas limitadas. \nIMPORTANTE: Não enviamos link por e-mail\, caso tenha dificuldades em acessá-lo\, CLIQUE AQUI e siga o passo a passo. E não se esqueça de entrar com o nome completo\, pois verificamos a lista de inscritos \nPolítica de Devolução de Valores: \n\n\nA desistência deverá ser solicitada exclusivamente pelo e-mail sbprp.financeiro@gmail.com\, informando o nome completo da pessoa inscrita\, CPF e dados bancários para depósito da devolução do valor da inscrição; \n\n\nA devolução dar-se-á em até 30 dias após o término do evento\, via depósito na conta informada no e-mail de solicitação de cancelamento; \n\n\nDesistências informadas até 20 dias antes do evento terão direito a 50% do valor pago; \n\n\nDesistências informadas até 7 dias antes do evento terão direito a 30% do valor pago; \n\n\nDesistências informadas após 7 dias antes do evento não terão direito a devolução de valores. \n\n\n\n \n 
URL:https://febrapsi.org/evento/grupos-de-estudos-conversas-na-sarjeta-a-singularidade-do-metodo-psicanalitico/
LOCATION:Online – Plataforma Zoom
CATEGORIES:Geral
ATTACH;FMTTYPE=image/jpeg:https://febrapsi.org/storage/2024/03/Grupos-de-Estudos.jpg
ORGANIZER;CN="SBPRP":MAILTO:sbprp.secretaria@gmail.com
END:VEVENT
BEGIN:VEVENT
DTSTART;TZID=America/Sao_Paulo:20240323T090000
DTEND;TZID=America/Sao_Paulo:20240323T110000
DTSTAMP:20260423T213835
CREATED:20240312T130526Z
LAST-MODIFIED:20240312T130526Z
UID:49280-1711184400-1711191600@febrapsi.org
SUMMARY:Reflexão Psicanalítica - Sobre a observação de bebês: uma experiência transformadora
DESCRIPTION:Data: 23/03/24 das 9:00 ás 11:00hs – Sábado \nApresentação: Rosa Sender Lang – Membro Docente e Didata da SPRJ   \nEvento Gratuito \n 
URL:https://febrapsi.org/evento/reflexao-psicanalitica-sobre-a-observacao-de-bebes-uma-experiencia-transformadora/
LOCATION:Online – Plataforma Zoom
CATEGORIES:Geral
ATTACH;FMTTYPE=image/jpeg:https://febrapsi.org/storage/2024/03/Rosa-Lang.jpeg
END:VEVENT
BEGIN:VEVENT
DTSTART;TZID=America/Sao_Paulo:20240323T090000
DTEND;TZID=America/Sao_Paulo:20240323T123000
DTSTAMP:20260423T213835
CREATED:20240312T130144Z
LAST-MODIFIED:20240312T130144Z
UID:49264-1711184400-1711197000@febrapsi.org
SUMMARY:“Pensando com Bion” – Convidada: Gisèle de Mattos Brito
DESCRIPTION:Convidamos para a atividade “Pensando com Bion”\, que será realizada no dia 23 de março de 2024\, sábado\, às 9h. Atividade presencial Auditório SPPA para residentes em Porto Alegre e plataforma Zoom/SPPA para residentes fora de Porto Alegre \nNossa convidada é Gisèle de Mattos Brito\, psicanalista\, membro efetivo da Sociedade Brasileira de Psicanálise de São Paulo (SBPSP) e membro efetivo e analista didata da Sociedade Brasileira de Psicanálise de Minas Gerais (SBPMG); autora do livro “A mente primordial: entre luz e sombra”\, editora Blucher 2023. \nProgramação: \nData: 23 de março (sábado) \n9h às 10h15min\nConferência com Gisèle de Mattos Brito: Reflexões sobre a concepção “Urge to exist” em Bion\nComentários de Luisa Maria Rizzo (psicanalista\, membro associado da SPPA)\nCoordenação Katia Wagner Radke (Presidente SPPA) \n10h30min às 12h30min\nApresentação e comentários do material “Supervisões de Bion” com Gisèle de Mattos Brito\nComentários de Gustavo De Paiva Soares (psicanalista\, membro associado da SPPA)\nCoordenação Marli Bergel (Diretora Científica SPPA) \nInscrições Antecipadas:\nhttps://forms.gle/dvSUUCLWUWuQWB1WA \nValores:\nProfissionais: R$ 150\,00\nEstudantes de Graduação: R$ 75\,00\nMembros e Candidatos SPPA: isentos \nInscrições até sexta-feira\, 22 de março às 16h
URL:https://febrapsi.org/evento/pensando-com-bion-convidada-gisele-de-mattos-brito/
LOCATION:Evento híbrido
CATEGORIES:Geral
ATTACH;FMTTYPE=image/jpeg:https://febrapsi.org/storage/2024/03/2024-03-23-01-Bion.jpg
ORGANIZER;CN="SPPA":MAILTO:sppa@sppa.org.br
END:VEVENT
BEGIN:VEVENT
DTSTART;TZID=America/Sao_Paulo:20240323T100000
DTEND;TZID=America/Sao_Paulo:20240323T120000
DTSTAMP:20260423T213835
CREATED:20240227T122945Z
LAST-MODIFIED:20240227T122945Z
UID:49153-1711188000-1711195200@febrapsi.org
SUMMARY:LANÇAMENTO IDE 76
DESCRIPTION:É com profunda alegria que convidamos para o lançamento da Ide cujo tema foi a odisseia do encontro entre o feminino e o masculino. \nNosso encontro será dia 23 de março às 10h no auditório da Sociedade Brasileira de Psicanálise de São Paulo\, à Av. Dr. Cardoso de Melo\, n. 1450\, 1º andar. \nO mote da revista busca o diálogo de arte e psicanálise e para tanto convidamos Roberta Martinelli\, radialista da Eldorado e apresentadora do programa Som a Pino\, para conversar. \nTeremos a nossa presidente\, Carmen C. Mion\, apresentando o lançamento e a editora\, Anne Lise Scappaticci coordenando a conversa em nome da Ide. \nFaremos uma homenagem ao Antônio Muniz de Rezende com a presença de Sonia Rezende\, que irá expor seus quadros\, e Alicia Beatriz Dorado de Lisondo. \nA seguir\, teremos um coquetel acompanhado pelo piano de André Growald e pela bela voz de Camila Brasiliano. \nAguardamos a todos! \nUm abraço fraterno de Anne Lise e equipe. \n  \nInscrições: www.sbpsp.org.br \nInvestimento:\nMembros SBPSP\, Membros filiados\, FEBRAPSI\, IPA e FEPAL: Sem ônus\nPúblico externo: R$40\,00\n5 cotas para profissionais negros\, indígenas e refugiados.
URL:https://febrapsi.org/evento/lancamento-ide-76/
LOCATION:Sede SBPSP\, Av. Dr. Cardoso de Melo\, 1450\, 9ª andar\, São Paulo\, São Paulo\, 04548005\, Brasil
CATEGORIES:Geral
ATTACH;FMTTYPE=image/png:https://febrapsi.org/storage/2024/02/CONVITE-IDE-76.png
ORGANIZER;CN="SBPSP":MAILTO:contato@sbpsp.org.br
END:VEVENT
BEGIN:VEVENT
DTSTART;TZID=America/Sao_Paulo:20240323T100000
DTEND;TZID=America/Sao_Paulo:20240323T123000
DTSTAMP:20260423T213835
CREATED:20240129T125917Z
LAST-MODIFIED:20240208T114820Z
UID:48794-1711188000-1711197000@febrapsi.org
SUMMARY:PODER E AUTORIDADE
DESCRIPTION:PODER E AUTORIDADE \nApresentador: Muniz Sodré \n23 de Março 2024 \nÁs 10h
URL:https://febrapsi.org/evento/poder-e-autoridade/
LOCATION:Evento híbrido
CATEGORIES:Geral
ATTACH;FMTTYPE=image/jpeg:https://febrapsi.org/storage/2024/01/Cartaz-23-03-2024.jpeg
ORGANIZER;CN="SPRJ":MAILTO:sprj.rio1@sprj.org.br
END:VEVENT
END:VCALENDAR