BEGIN:VCALENDAR
VERSION:2.0
PRODID:-//FEBRAPSI - ECPv6.15.20//NONSGML v1.0//EN
CALSCALE:GREGORIAN
METHOD:PUBLISH
X-ORIGINAL-URL:https://febrapsi.org
X-WR-CALDESC:Eventos para FEBRAPSI
REFRESH-INTERVAL;VALUE=DURATION:PT1H
X-Robots-Tag:noindex
X-PUBLISHED-TTL:PT1H
BEGIN:VTIMEZONE
TZID:America/Sao_Paulo
BEGIN:STANDARD
TZOFFSETFROM:-0300
TZOFFSETTO:-0300
TZNAME:-03
DTSTART:20230101T000000
END:STANDARD
END:VTIMEZONE
BEGIN:VEVENT
DTSTART;TZID=America/Sao_Paulo:20240312T080000
DTEND;TZID=America/Sao_Paulo:20240412T170000
DTSTAMP:20260423T214034
CREATED:20240315T135658Z
LAST-MODIFIED:20240406T163608Z
UID:49317-1710230400-1712941200@febrapsi.org
SUMMARY:Grupos de Estudos para a Comunidade - 2º/ 2024
DESCRIPTION: \n\n\n\nInscrições abertas para os Grupos de Estudos 1º semestre de 2024\n\n\nNo mês de março\, iniciam os encontros do 1º semestre dos grupos de estudos da Brasileira. Sob organização da Diretoria de Comunidade e Cultura – Área de Transmissão da Psicanálise – os encontros serão on-line ou híbridos e as frequências serão semanais ou quinzenais\, conforme os coordenadores. \nSão oito grupos de estudos que reúnem uma vasta programação com o objetivo de propiciar um espaço de discussão e trocas de conhecimento sobre os fundamentos da psicanálise\, bem como incentivar a formação continuada através de leituras e discussões de diferentes autores e temáticas. \nOs grupos são voltados principalmente para profissionais e estudantes das áreas da medicina\, da psicologia e da educação\, mas pessoas de outras áreas podem se informar sobre a possibilidade de participação na secretaria da SBPdePA. \n​Investimento mensal:\nGrupos semanais: R$ 200\,00;\nGrupos quinzenais: R$180\,00. \n​Haverá disponibilidade de quatro vagas gratuitas para profissionais ou estudantes da área psicanalítica que sejam negros\, negras ou indígenas. As inscrições podem ser efetuadas através do preenchimento do formulário no site. Informações: auxsecretaria@sbpdepa.org.br ou (51) 99252-5998. \n     
URL:https://febrapsi.org/evento/grupos-de-estudos-para-a-comunidade-2o-2024/
LOCATION:São Paulo
CATEGORIES:Geral
ATTACH;FMTTYPE=image/png:https://febrapsi.org/storage/2024/03/grupo-de-estudos-2024.png
END:VEVENT
BEGIN:VEVENT
DTSTART;TZID=America/Sao_Paulo:20240319T080000
DTEND;TZID=America/Sao_Paulo:20240319T170000
DTSTAMP:20260423T214034
CREATED:20240208T114821Z
LAST-MODIFIED:20240318T142411Z
UID:48907-1710835200-1710867600@febrapsi.org
SUMMARY:CURSO – GEP MARÍLIA E REGIÃO - RECUPERANDO A VIDA NÃO VIVIDA
DESCRIPTION:Curso – Recuperando a Vida não Vivida\nPeríodo: Março a Junho de 2024 | Toda terça-feira das 20h às 20h30 – Online\nTaxa de inscrição: R$ 80\,00\nMensalidade: Membros do GEP e Sociedades: R$ 240\,00/mensais\nDemais participantes: R$ 450\,00/mensais\nInscrições: (14) 99614-6782
URL:https://febrapsi.org/evento/curso-gep-marilia-e-regiao-recuperando-a-vida-nao-vivida/
LOCATION:Evento Online
CATEGORIES:Geral
ATTACH;FMTTYPE=image/png:https://febrapsi.org/storage/2024/02/Recuperando-a-vida-nao-vivida-gep-marilia-e-regiao.png
ORGANIZER;CN="GEP Mar%C3%ADlia e Regi%C3%A3o":MAILTO:contato@gepmariliaeregiao.com.br
END:VEVENT
BEGIN:VEVENT
DTSTART;TZID=America/Sao_Paulo:20240319T084500
DTEND;TZID=America/Sao_Paulo:20240319T220000
DTSTAMP:20260423T214034
CREATED:20240315T135740Z
LAST-MODIFIED:20240315T135740Z
UID:49348-1710837900-1710885600@febrapsi.org
SUMMARY:Curso: Pensando a Técnica
DESCRIPTION:Curso: Pensando a Técnica \nInício: 19 de março de 2024 \nHorário: 20h45
URL:https://febrapsi.org/evento/curso-pensando-a-tecnica-2/
LOCATION:Evento Online
CATEGORIES:Geral
ATTACH;FMTTYPE=image/jpeg:https://febrapsi.org/storage/2024/03/Pensando-a-Tecnica.jpeg
ORGANIZER;CN="SPRJ":MAILTO:sprj.rio1@sprj.org.br
END:VEVENT
END:VCALENDAR