BEGIN:VCALENDAR
VERSION:2.0
PRODID:-//FEBRAPSI - ECPv6.15.20//NONSGML v1.0//EN
CALSCALE:GREGORIAN
METHOD:PUBLISH
X-WR-CALNAME:FEBRAPSI
X-ORIGINAL-URL:https://febrapsi.org
X-WR-CALDESC:Eventos para FEBRAPSI
REFRESH-INTERVAL;VALUE=DURATION:PT1H
X-Robots-Tag:noindex
X-PUBLISHED-TTL:PT1H
BEGIN:VTIMEZONE
TZID:America/Sao_Paulo
BEGIN:STANDARD
TZOFFSETFROM:-0300
TZOFFSETTO:-0300
TZNAME:-03
DTSTART:20230101T000000
END:STANDARD
END:VTIMEZONE
BEGIN:VEVENT
DTSTART;TZID=America/Sao_Paulo:20240305T173000
DTEND;TZID=America/Sao_Paulo:20240305T210000
DTSTAMP:20260423T213828
CREATED:20231116T193936Z
LAST-MODIFIED:20240208T114820Z
UID:48385-1709659800-1709672400@febrapsi.org
SUMMARY:CINAPSIA 2024
DESCRIPTION:Curso Introdutório ao Atendimento Psicanalítico da Infância e Adolescência.\nA Diretoria de Atendimento à Comunidade (DAC) da Sociedade Brasileira de Psicanálise de São Paulo abre novas inscrições para a nona turma do Curso Introdutório ao Atendimento Psicanalítico da Infância e Adolescência – CINAPSIA\, para 2024.\nO objetivo do curso é desenvolver a escuta\, o olhar e a postura psicanalítica. É destinado a profissionais de saúde e educação interessados no desenvolvimento de bebês\, crianças e adolescentes. \nCONTEÚDO PROGRAMÁTICO \nAULAS TEÓRICAS:\n1º Ano: Desenvolvimento emocional do bebê ao adolescente \ne a teoria da técnica do ponto de vista psicanalítico.\n2º Ano: Psicopatologia do desenvolvimento emocional do \nbebê ao adolescente e a teoria da técnica do ponto de \nvista psicanalítico. \nAULAS PRÁTICAS DO 1º E 2º ANOS:\nDiscussão em pequenos grupos de situações de trabalho \ndos alunos em suas diversas modalidades profissionais. \nCARGA HORÁRIA: 3 HORAS SEMANAIS\nÀs terças-feiras das 17h30 às 19h00 e das 19h30 às 21h00 \nCORPO DOCENTE: psicanalistas da SBPSP com experiência no atendimento de pais-bebês\, crianças e adolescentes. \nALESSANDRA RICCIARDI GORDON\nMembro Efetivo da SBPSP\nANA MARIA ROSA ROCCA RIVAROLA\nMembro Efetivo e Didata da SBPSP\nELIZABETH GNATOS LOMBARDI\nMembro Associado da SBPSP\nFÁTIMA MARIA VIEIRA BATISTELLI\nMembro Associado da SBPSP\nIARA SPADA BONDIOLI DE SOUZA NOTO\nMembro Efetivo da SBPSP\nJOICE CALZA MACEDO\nMembro Efetivo da SBPSP\nLIGIA TODESCAN LESSA MATTOS\nMembro Efetivo e Didata da SBPSP\nMARIA LÚCIA FERRÃO DE SOUSA CAMPOS\nMembro Efetivo da SBPSP\nMARIÂNGELA MENDES DE ALMEIDA\nMembro Associado da SBPSP\nMARIA REGINA JUNQUEIRA\nMembro Associado da SBPSP\nMARIA THEREZA DE BARROS FRANÇA\nMembro Efetivo e Didata da SBPSP \nMARÍLIA AMARO DA SILVEIRA MODESTO SANTOS\nMembro Efetivo da SBPSP\nNORMA LOTTENBERG SEMER\nMembro Efetivo da SBPSP\nRAQUEL ANDREUCCI PEREIRA GOMES\nMembro Associado da SBPSP\nROSELY MARIA RIBEIRO GARRAFA \n(Colaborador)Membro Filiado ao Instituto \nDurval Marcondes da SBPSP\nTANIA MARA ZALCBERG\nMembro Associado da SBPSP \nPROFESSORAS CONVIDADAS:\nANA MARIA STUCCHI VANNUCCHI\nMembro Efetivo e Didata da SBPSP\nMARIA CECÍLIA PEREIRA DA SILVA\nMembro Efetivo e Didata da SBPSP\nMARINA MIRANDA\nMembro Efetivo da SBPSP\nREGINA ELISABETH LORDELLO COIMBRA\nMembro Efetivo e Didata da SBPSP\nREGINA RAHMI\nMembro Efetivo da SBPSP \nINÍCIO DAS AULAS: 05/03/2024 \nINFORMAÇÕES: vinicius@sbpsp.org.br \nINSCRIÇÃO PARA O PROCESSO DE SELEÇÃO:\n16/10 a 08/12/23 pelo site: www.sbpsp.org.br \nPÚBLICO ALVO: Profissionais de saúde e educação. \nNÚMERO DE VAGAS: Mínimo 12\, máximo 24 alunos.\nSerão feitas entrevistas para seleção com os professores do CINAPSIA A SBPSP oferece 5 vagas referentes ao programa de cotas para profissionais negros\, indígenas e refugiados para este curso. \nPUBLICAÇÃO DOS RESULTADOS: 15/12/2023 \nMATRÍCULA: R$ 500\,00 \nAté 15/12/2023 para os candidatos selecionados. \nMENSALIDADE:\n1º ano: 8 parcelas de R$ 750\,00\n2º ano: matrícula R$ 500\,00 mais 8 parcelas de R$ 750\,00 \nRESPONSÁVEIS PELO CURSO:\nEste curso é promovido pela Diretoria de Atendimento à Comunidade (DAC) da SBPSP.\nDARCY PORTOLESE\nDiretor de Atendimento à Comunidade da SBPSP.\nNORMA LOTTENBERG SEMER\nCoordenadora do curso CINAPSIA.\nMembro Efetivo\, Analista de Crianças e Adolescentes.\nDocente do Instituto de Psicanálise “Durval Marcondes “da SBPSP. \nAnexo às inscrições:\nOs candidatos interessados\, além do preenchimento da ficha de inscrição\, deverão enviar \num currículo e um memorial. Anexar foto ao currículo.\nO currículo deve ser completo\, contendo dados da formação escolar e acadêmica\, da experiência profissional e terapêutica (se houver). \nO memorial deve conter uma descrição do percurso profissional e pessoal e do interesse \npelo curso CINAPSIA. \n 
URL:https://febrapsi.org/evento/cinapsia-2024/
LOCATION:Online – Plataforma Zoom
CATEGORIES:Geral
ATTACH;FMTTYPE=image/png:https://febrapsi.org/storage/2023/11/CARTAZ-CINAPSIA-2024-2.png
ORGANIZER;CN="SBPSP":MAILTO:contato@sbpsp.org.br
END:VEVENT
BEGIN:VEVENT
DTSTART;TZID=America/Sao_Paulo:20240305T193000
DTEND;TZID=America/Sao_Paulo:20240305T210000
DTSTAMP:20260423T213828
CREATED:20240227T122945Z
LAST-MODIFIED:20240227T122945Z
UID:49168-1709667000-1709672400@febrapsi.org
SUMMARY:WEBINAR AULA INAUGURAL CINAPSIA 2024
DESCRIPTION:O analista como artesão para construir e/ou ressignificar vidas de seres em formação: bebês\, crianças\, adolescentes com sofrimento psíquico. SOS Brasil. \nPalestrante: \nALICIA BEATRIZ DORADO DE LISONDO \nNa atualidade\, a falta de nutrição mental em bebês\, crianças\, adolescentes\, adultos na população carente e em instituições\, é alarmante. Como os psicanalistas\, conscientes de seu dever ético\, podem levar a esses seres necessitados o acervo psicanalítico desenvolvido na formação necessária?  \nSe nossa ‘‘caixa de ferramentas’’ estiver disponível e com interesse na clínica\, coragem para assumir desafios\, aprender e pensar\, mudanças psíquicas acontecem\, mesmo que limitadas. \nContamos com os atributos pessoais dos analistas como aliados no trabalho clínico com a comunidade\, tais como: mente analisada em contínua formação\, olhar treinado\, uso de palavras que sejam plenas de sentido e capacidade de explorar novas ferramentas. \nAnalista Didata e Docente da Sociedade Brasileira de Psicanálise de Campinas (SBPCamp) e da Sociedade Brasileira de Psicanálise de São Paulo (SBPSP). Co-fundadora do Grupo de Estudos Psicanalíticos de Campinas. Analista de Crianças\, Adolescentes pela IPA. Membro da Associação Latino Americana de Observação de Bebês-Método Esther Bick (ALOBB). Participante do Grupo Prisma de Psicanálise e Autismo (GPPA). Coordenadora do Projeto SOS Brasil com respaldo da FEBRAPSI\, FEPAL e IPA. Co-coordenadora do Grupo de Estudo sobre Adoção e Parentalidade na SBPSP. Coordenadora do Grupo de Estudo de Autismo:Clínica e Investigação na SBPSP. \nInscrições:\nSite: www.sbpsp.org.br\nE-mail: fabiana@sbpsp.org.br \nTaxa de inscrição:\nIsentos para os membros da SBPSP\, FEBRAPSI\, FEPAL e IPA\,\nAlunos e ex-alunos do CINAPSIA.\nPúblico externo: R$ 50\,00\n5 Cotas para profissionais negros\, indígenas e refugiados. \nComitê de boas vindas aos novos alunos:\nDARCY ANTONIO PORTOLESE\nDiretor da DAC\nNORMA LOTTENBERG SEMER\nCoordenadora Geral e do 2º ano\nMARÍLIA AMARO MODESTO SANTOS\nCoordenadora do 1º ano \nCOORDENAÇÃO: \nNORMA LOTTENBERG SEMER \nORGANIZAÇÃO: Corpo docente do CINAPSIA\nAlessandra R. Gordon\, Ana Maria Rocca Rivarola\, Elizabeth Lombardi\, \nFatima M. Vieira Batistelli\, Joice Calza Macedo\, Iara B. Souza Noto\, \nLigia T. Lessa Mattos\, Maria Lucia F.S.Campos\, M. Regina Junqueira\, \nM. Thereza de Barros França\, Mariângela Mendes de Almeida\, \nMarilia Amaro Modesto Santos\, Norma Lottenberg Semer\, \nRaquel Andreucci Pereira Gomes\, Rosely Garrafa (colaboradora)\ne Tânia Mara Zalcberg. \n 
URL:https://febrapsi.org/evento/webinar-aula-inaugural-cinapsia-2024/
LOCATION:Evento Online
CATEGORIES:Geral
ATTACH;FMTTYPE=image/png:https://febrapsi.org/storage/2024/02/CARTAZ_AULA-1-CINAPSIA-24.png
ORGANIZER;CN="SBPSP":MAILTO:contato@sbpsp.org.br
END:VEVENT
BEGIN:VEVENT
DTSTART;TZID=America/Sao_Paulo:20240305T200000
DTEND;TZID=America/Sao_Paulo:20240305T213000
DTSTAMP:20260423T213828
CREATED:20240216T123357Z
LAST-MODIFIED:20240216T123357Z
UID:48939-1709668800-1709674200@febrapsi.org
SUMMARY:A Diretoria da Infância e Adolescência convida para o evento "Pensando no arcaico a partir da relação mãe-bebê"
DESCRIPTION:A Diretoria da Infância e Adolescência convida para o evento “Pensando no arcaico a partir da relação mãe-bebê”. \nData: 05/03/2024\nHorário: 20h\nAtividade gratuita e online (Plataforma Zoom/SPPA)\nInscrições pelo site www.sppa.org.br ou pelo link da bio do Instagram. \nConvidadas: \nDébora Regina Unikowsky: membro efetivo e didata da Sociedade Psicanalítica do Rio de Janeiro\, analista de crianças e adolescentes e atual Diretora da Comissão de Formação de Analistas de Crianças e Adolescentes. Coordena\, com Marisa Leite Monteiro\, o grupo de Observação de Bebês – Método Esther Bick na SPRJ \nNara Amália Caron: médica\, psicanalista de crianças\, adolescentes e adultos\, membro efetivo da SPPA e coordenadora de grupos de observação de bebês Método Esther Bick \nCoordenação: Nazur Aragonez de Vasconcellos (Diretor da Infância e Adolescência da SPPA)\nParticipe!
URL:https://febrapsi.org/evento/a-diretoria-da-infancia-e-adolescencia-convida-para-o-evento-pensando-no-arcaico-a-partir-da-relacao-mae-bebe/
LOCATION:Online – Plataforma Zoom
CATEGORIES:Geral
ATTACH;FMTTYPE=image/jpeg:https://febrapsi.org/storage/2024/02/2024-03-05-DIA-1.jpg
ORGANIZER;CN="SPPA":MAILTO:sppa@sppa.org.br
END:VEVENT
END:VCALENDAR