BEGIN:VCALENDAR
VERSION:2.0
PRODID:-//FEBRAPSI - ECPv6.15.20//NONSGML v1.0//EN
CALSCALE:GREGORIAN
METHOD:PUBLISH
X-ORIGINAL-URL:https://febrapsi.org
X-WR-CALDESC:Eventos para FEBRAPSI
REFRESH-INTERVAL;VALUE=DURATION:PT1H
X-Robots-Tag:noindex
X-PUBLISHED-TTL:PT1H
BEGIN:VTIMEZONE
TZID:America/Sao_Paulo
BEGIN:STANDARD
TZOFFSETFROM:-0300
TZOFFSETTO:-0300
TZNAME:-03
DTSTART:20230101T000000
END:STANDARD
END:VTIMEZONE
BEGIN:VEVENT
DTSTART;TZID=America/Sao_Paulo:20240302T090000
DTEND;TZID=America/Sao_Paulo:20240302T120000
DTSTAMP:20260423T213958
CREATED:20231116T193936Z
LAST-MODIFIED:20240208T114820Z
UID:48389-1709370000-1709380800@febrapsi.org
SUMMARY:Curso Diálogos Psicanalíticos 2024
DESCRIPTION:Curso Diálogos Psicanalíticos III: A evolução do pensamento e da escuta na prática psicanalítica.\nMARÇO: 2/3/2024 \nTema: Sigmund Freud \nCoordenação: Ignácio Paim \nOrganização: Silvana Bressan e Cacilda Grama Pompilio Vilas Boas \nABRIL: 13/4/2024 \nTema: Melanie Klein \nCoordenação: Audrey Setton Lopes de Souza e Elaine Cardin \nOrganização: Maria das Dores Buratto Ferreira e Suzana Ponciano P. de Mattos \nMAIO: 18/5/2024 \nTema: Donald Winnicott\nCoordenação: Marlene Rozenberg e Maria Luiza Salomão \nOrganização: Mariangela Carvalho Canellas Silva e Ana Patrícia Ribeiro \nJUNHO: 22/6/2024 \nTema: Wilfred Bion \nCoordenação: Anne Lise Di Moisè Scappaticci e Lidia Queiroz Magnino \nOrganização: Mariangela Carvalho Canellas Silva e Rosangela Bernardi Gonçalves \nAGOSTO: 10/8/2024 \nTema: Donald Meltzer \nCoordenação: Luiz Meyer e Liana Pinto Chaves \nOrganização: Benedita de Lourdes Carvalho Rodrigues \nOrganização: Angela Jimenes Castro \nSETEMBRO: 14/9/2024 \nTema: Armando Ferrari \nCoordenação: Ana Maria Azevedo e Ana Vannucchi \nOrganização: Neuci Maria Gallazzi e Maria Angela Camargo Virgili \nOUTUBRO: 05/10/2024 \nTema: Thomas Ogden \nCoordenação: Elza Magnoler \ne Guilherme M. Guedes Azevedo Organização: Lidia Queiroz Magnino e Maria Aparecida Rocha \nNOVEMBRO: 09/11/2024 \nTema: Giuseppe Civitarese \nCoordenação: João Frayze \nOrganização: Ana Patrícia Ribeiros e Silvana Bressan \nInvestimento:\nAula individual: R$ 180\,00\nCurso completo: R$ 1.280\,00 \nINFORMAÇÕES: www.sbpsp.org.br\nadele.lacotis@sbpsp.org.br \nCotas para profissionais negros\, indígenas e refugiados ESGOTADAS!
URL:https://febrapsi.org/evento/curso-dialogos-psicanaliticos-2024/
LOCATION:Online – Plataforma Zoom
CATEGORIES:Geral
ATTACH;FMTTYPE=image/png:https://febrapsi.org/storage/2023/11/CARTAZ_DIALOGOS_2024_modelo.png
ORGANIZER;CN="SBPSP":MAILTO:contato@sbpsp.org.br
END:VEVENT
BEGIN:VEVENT
DTSTART;TZID=America/Sao_Paulo:20240302T110000
DTEND;TZID=America/Sao_Paulo:20240302T130000
DTSTAMP:20260423T213958
CREATED:20240227T122945Z
LAST-MODIFIED:20240227T122945Z
UID:49172-1709377200-1709384400@febrapsi.org
SUMMARY:LANÇAMENTO JORNAL DE PSICANÁLISE 105:  ‘‘Violações’’
DESCRIPTION:Conversa entre leitores e autores \nSábado 02/03/2023\, às 11h \nEVENTO HÍBRIDO E GRATUITO \nPRESENCIAL COM TRANSMISSÃO PELA PLATAFORMA ZOOM\nLOCAL: AUDITÓRIO DA SBPSP\nAV. DR. CARDOSO DE MELO\, 1450\, 1º ANDAR \nVILA OLÍMPIA\, SÃO PAULO/SP \n[INSCREVA-SE!]\nInscrições: mayara.lopes@sbpsp.org.br \n\nAbertura:\nCarmen C. Mion (Presidente da SBPSP)\nDora Tognolli (Diretora do Instituto Durval Marcondes)\nBerta Hoffmann Azevedo (Editora do Jornal de Psicanálise) \nCoordenação: Gizela Turkiewicz (Equipe Editorial do Jornal De Psicanálise) \nComentadores:\nLuciana Chauí Berlinck (IP/SBPSP)\nFlavia Vineyard Steuer (IP/SBPSP)\nAndreia Rocha de Vasconcellos (IP/SBPSP) \nO Jornal de Psicanálise pode ser comprado através do e-mail: secretaria@sbpsp.org.br\nAcesse gratuitamente pelo site: www.bivipsi.org/pt-br
URL:https://febrapsi.org/evento/lancamento-jornal-de-psicanalise-105-violacoes/
LOCATION:Sede SBPSP\, Av. Dr. Cardoso de Melo\, 1450\, 9ª andar\, São Paulo\, São Paulo\, 04548005\, Brasil
CATEGORIES:Geral
ATTACH;FMTTYPE=image/png:https://febrapsi.org/storage/2024/02/CONVITE_JP_105E.png
ORGANIZER;CN="SBPSP":MAILTO:contato@sbpsp.org.br
END:VEVENT
END:VCALENDAR