BEGIN:VCALENDAR
VERSION:2.0
PRODID:-//FEBRAPSI - ECPv6.15.20//NONSGML v1.0//EN
CALSCALE:GREGORIAN
METHOD:PUBLISH
X-ORIGINAL-URL:https://febrapsi.org
X-WR-CALDESC:Eventos para FEBRAPSI
REFRESH-INTERVAL;VALUE=DURATION:PT1H
X-Robots-Tag:noindex
X-PUBLISHED-TTL:PT1H
BEGIN:VTIMEZONE
TZID:America/Sao_Paulo
BEGIN:STANDARD
TZOFFSETFROM:-0300
TZOFFSETTO:-0300
TZNAME:-03
DTSTART:20220101T000000
END:STANDARD
END:VTIMEZONE
BEGIN:VEVENT
DTSTART;TZID=America/Sao_Paulo:20231013T103000
DTEND;TZID=America/Sao_Paulo:20231208T120000
DTSTAMP:20260424T062405
CREATED:20230918T192814Z
LAST-MODIFIED:20230918T192814Z
UID:47695-1697193000-1702036800@febrapsi.org
SUMMARY:Curso Os Primórdios da Psicossomática na Obra de Freud - Módulo 3 (2023)
DESCRIPTION:Curso “Os Primórdios da Psicossomática na Obra de Freud” – Módulo 3 (2023) \nCurso para profissionais psicanalistas e psicanalistas em formação  \nHaverá tradução simultânea  \nAs aulas não serão gravadas \nDatas: 13/10\, 10/11 e 08/12 | 10h30 – 12h (sextas-feiras) | via Zoom  \nMinistrado por Claude Smadja\, psicanalista\, membro titular\, formador da Sociedade de Psicanálise de Paris. Ex-médico chefe do Instituto de Psicossomática de Paris. Fundador e ex-presidente da Associação Internacional de Psicossomática Pierre Marty. Co-fundador da Revista Francesa de Psicossomática. Autor dos livros: A vida operatória e Os modelos psicanalíticos da psicossomática. Centenas de artigos de Psicossomática Psicanalítica publicados. \nEmenta: \nA Teoria da Escola de Psicossomática de Paris é de grande valia para nós\, psicanalistas da atualidade\, que\, com frequência\, fazemos atendimentos onde há uma neurose e ao mesmo tempo uma doença orgânica ou sintomas orgânicos e\, também\, cada vez mais atendemos pacientes da tão falada Clínica do Vazio. Toda uma teoria\, construída a partir da metapsicologia freudiana\, utilizando o conceito de neurose atual de Freud\, o aparelho psíquico dividido em instâncias\, a última concepção de trauma\, a segunda teoria das pulsões e\, também\, a última concepção do masoquismo\, de 1924\, com as noções de intrincação e desintrincação pulsional. A partir daí\, surgem os conceitos de mentalização\, pensamento operatório\, depressão essencial e desorganização progressiva\, entre tantos outros. \nDuas vagas gratuitas para profissionais psicanalistas e psicanalistas em formação: negros\, indígenas e refugiados. Inscrições pelo e-mail: sbprj@sbprj.org.br \nINSCRIÇÕES \nMais informações: sbprj@sbprj.org.br \nRealização:  \nAssociação Internacional de Psicossomática Pierre Marty (AIPPM) \nIPSO-Brasil \nCentro de Estudos Psicanalíticos SBPRJ \nPolítica do evento
URL:https://febrapsi.org/evento/curso-os-primordios-da-psicossomatica-na-obra-de-freud-modulo-3-2023/
LOCATION:São Paulo
CATEGORIES:Geral
ATTACH;FMTTYPE=image/png:https://febrapsi.org/storage/2023/09/Smadja_mod3-1.png
ORGANIZER;CN="SBPRJ":MAILTO:sbprj@sbprj.org.br
END:VEVENT
BEGIN:VEVENT
DTSTART;VALUE=DATE:20231027
DTEND;VALUE=DATE:20231029
DTSTAMP:20260424T062405
CREATED:20230630T194222Z
LAST-MODIFIED:20230630T194223Z
UID:46429-1698364800-1698537599@febrapsi.org
SUMMARY:Encontro Lacan na IPA XVI - Tema: O Psicanalista Frente aos “Ismos” e a Exclusão do Outro.
DESCRIPTION:– LACAN NA IPA XVI – \nEm final de outubro próximo\, a brasileira será sede do “Encontro Lacan na IPA”\, 2023\, Porto Alegre\, Brasil.\nAs conferências terão um formato semelhante ao das edições anteriores: três painéis teóricos\, cada um composto por três oradores e um coordenador. Além disso\, e como sempre\, teremos dois grupos de discussão clínica formados por um coordenador\, um apresentador e quatro colegas\, que farão pequenas intervenções iniciais previamente combinadas. Atividade presencial na sede da SBPdePA (Praça Dr. Maurício Cardoso\, 07 – Moinhos de Vento – Porto Alegre/RS – CEP: 90570-010) \nPara mais informações\, consulte a nossa secretaria administrativa através do telefone (51) 9925101-62/ (51) 3333.6857 ou e-mail: comunicacao@sbpdepa.org.br. \nSexta feira 27/10/2023 \n14h30 às 15h00 – Abertura \n15h00 às 17h00 – Painel 1 \nMedicalização do sofrimento? O cientificismo e a supressão do Outro \nMagdalena Filgueira – APU \nMarcelo Toyos – APA \nRonis Magdaleno SBPCamp \n17h00 às 17h30 – Intervalo \n17h30 às 19h30 – Mesa clínica \nSábado 28/10/2023 \n09h00 às 11h00 – Painel 2 \nCon – su – mismo / Con – su – Outro \nEnrique Alba – APdeBA \nLuis Bibbó – APU \nMaria Elisabeth Cimenti – SPPA \n11h00 às 11h30 Intervalo \n11h30 às 13h30 – Mesa Clínica \n13h30 às 15h00 –   Almoço \n15h00 às17h00 – Painel 3 \nA escuta do Outro limita os ismos? \nAlberto Cabral – APA \nEliana Mello – SPRJ \nCarlos Farate – SPP \n17h00 às 17h30 – Encerramento
URL:https://febrapsi.org/evento/encontro-lacan-na-ipa-xvi-tema-o-psicanalista-frente-aos-ismos-e-a-exclusao-do-outro/
LOCATION:SBPdePA\, 07 Praça Doutor Maurício Cardoso\, Porto Alegre\, RS\, 90570-010\, Brasil
CATEGORIES:Geral
ATTACH;FMTTYPE=image/jpeg:https://febrapsi.org/storage/2023/06/LACAN-NA-IPA.jpeg
ORGANIZER;CN="SBPdePA":MAILTO:secretaria@sbpdepa.org.br
END:VEVENT
BEGIN:VEVENT
DTSTART;TZID=America/Sao_Paulo:20231028T100000
DTEND;TZID=America/Sao_Paulo:20231028T130000
DTSTAMP:20260424T062405
CREATED:20230927T132952Z
LAST-MODIFIED:20230927T132952Z
UID:47810-1698487200-1698498000@febrapsi.org
SUMMARY:DICIONÁRIO ENCICLOPÉDICO INTER-REGIONAL DA IPA (IRED)
DESCRIPTION:O Dicionário Enciclopédico Inter-Regional da IPA (IRED) oferece uma nova forma de organizar o conhecimento psicanalítico\, representativo do complexo cenário psicanalítico pluralista policêntrico em todo o mundo. Como símbolo da linha de frente da visão científica unificadora da IPA\, o IRED se esforça para representar a diversidade regional e teórica\, incluindo contradições e controvérsias de múltiplas perspectivas em evolução. \nEvento com tradução simultânea. \nAbertura: CARMEN C. MION \nPresidente SBPSP\nCoordenação: ANA MARIA STUCCHI VANNUCCHI \nDiretora Científica da SBPSP \nCELIA FIX KORBIVCHER \nMembro da equipe da Diretoria Científica da SBPSP \nPalestrantes:\nEVA D. PAPIASVILI\nPh.D.\, ABPP é Presidente Global (Europa\, América do Norte\, América Latina) do comitê do Dicionário Enciclopédico Inter-Regional de Psicanálise (IRED) da Associação Psicanalítica Internacional.https://www.ipa.world/IPA/en/Encyclopedic_Dictionary/English/Home.aspx e membro da Associação Americana de Psicanálise e de seu Comitê de Psicanálise e Artes. Membro do Conselho Editorial do International Journal for Group Psychotherapy; Editor de números especiais e leitor editorial do Fórum Internacional de Psicanálise e da Investigação Psicanalítica. \nELIAS ROCHA BARROS\nAnalista didata da Sociedade Brasileira de Psicanálise de São Paulo SBPSP. Fellow da Sociedade Britânica de Psicanálise e do Instituto Britânico de Psicanálise. Premiado pelo Sigourney Award dos Estados Unidos. Foi Editor para a América Latina do International Journal of Psychoanalysis. \nVERA REGINA J. R. M. FONSECA\nMedica Psiquiatra pela Faculdade de Medicina da Universidade de São Paulo. Analista didata da Sociedade Brasileira de Psicanálise de São Paulo\, e docente do Instituto de Psicanálise Durval Marcondes desde 1998. Foi Diretora Científica da Sociedade Brasileira de Psicanálise de São Paulo e em seguida Diretora do Instituto de Psicanálise da mesma sociedade. É coordenadora do INSPIRA (International Symposium for Psychoanalytic Interregional Research on Autistic Disorders) . e membro do Conselho Editorial do International Journal of Psycho-Analysis. \nSTEFANO BOLOGNINI\nPsiquiatra\, Analista didata e Supervisor da Sociedade Psicanalítica Italiana. Ex-presidente da Sociedade Psicanalítica Italiana e ex-presidente da Associação Psicanalítica Internacional (2013-2017). Foi fundador (2014) do Dicionário Enciclopédico Inter-Regional de Psicanálise (IRED) do IPA\, onde atuou como presidente até 2021.Publicou 275 artigos psicanalíticos em livros e resenhas internacionais. É autor de vários livros\, traduzidos em vários idiomas. \nEvento sem ônus para Membros e Filiados da SBPSP\, Febrapsi\, IPA e Fepal. \nINFORMAÇÕES / INSCRIÇÕES: \nmayara.lopes@sbpsp.org.br
URL:https://febrapsi.org/evento/dicionario-enciclopedico-inter-regional-da-ipa-ired/
LOCATION:Online – Plataforma Zoom
CATEGORIES:Geral
ATTACH;FMTTYPE=image/png:https://febrapsi.org/storage/2023/09/CARTAZ_IRED.png
ORGANIZER;CN="SBPSP":MAILTO:contato@sbpsp.org.br
END:VEVENT
END:VCALENDAR