BEGIN:VCALENDAR
VERSION:2.0
PRODID:-//FEBRAPSI - ECPv6.15.20//NONSGML v1.0//EN
CALSCALE:GREGORIAN
METHOD:PUBLISH
X-WR-CALNAME:FEBRAPSI
X-ORIGINAL-URL:https://febrapsi.org
X-WR-CALDESC:Eventos para FEBRAPSI
REFRESH-INTERVAL;VALUE=DURATION:PT1H
X-Robots-Tag:noindex
X-PUBLISHED-TTL:PT1H
BEGIN:VTIMEZONE
TZID:America/Sao_Paulo
BEGIN:STANDARD
TZOFFSETFROM:-0300
TZOFFSETTO:-0300
TZNAME:-03
DTSTART:20220101T000000
END:STANDARD
END:VTIMEZONE
BEGIN:VEVENT
DTSTART;TZID=America/Sao_Paulo:20231013T103000
DTEND;TZID=America/Sao_Paulo:20231208T120000
DTSTAMP:20260424T062214
CREATED:20230918T192814Z
LAST-MODIFIED:20230918T192814Z
UID:47695-1697193000-1702036800@febrapsi.org
SUMMARY:Curso Os Primórdios da Psicossomática na Obra de Freud - Módulo 3 (2023)
DESCRIPTION:Curso “Os Primórdios da Psicossomática na Obra de Freud” – Módulo 3 (2023) \nCurso para profissionais psicanalistas e psicanalistas em formação  \nHaverá tradução simultânea  \nAs aulas não serão gravadas \nDatas: 13/10\, 10/11 e 08/12 | 10h30 – 12h (sextas-feiras) | via Zoom  \nMinistrado por Claude Smadja\, psicanalista\, membro titular\, formador da Sociedade de Psicanálise de Paris. Ex-médico chefe do Instituto de Psicossomática de Paris. Fundador e ex-presidente da Associação Internacional de Psicossomática Pierre Marty. Co-fundador da Revista Francesa de Psicossomática. Autor dos livros: A vida operatória e Os modelos psicanalíticos da psicossomática. Centenas de artigos de Psicossomática Psicanalítica publicados. \nEmenta: \nA Teoria da Escola de Psicossomática de Paris é de grande valia para nós\, psicanalistas da atualidade\, que\, com frequência\, fazemos atendimentos onde há uma neurose e ao mesmo tempo uma doença orgânica ou sintomas orgânicos e\, também\, cada vez mais atendemos pacientes da tão falada Clínica do Vazio. Toda uma teoria\, construída a partir da metapsicologia freudiana\, utilizando o conceito de neurose atual de Freud\, o aparelho psíquico dividido em instâncias\, a última concepção de trauma\, a segunda teoria das pulsões e\, também\, a última concepção do masoquismo\, de 1924\, com as noções de intrincação e desintrincação pulsional. A partir daí\, surgem os conceitos de mentalização\, pensamento operatório\, depressão essencial e desorganização progressiva\, entre tantos outros. \nDuas vagas gratuitas para profissionais psicanalistas e psicanalistas em formação: negros\, indígenas e refugiados. Inscrições pelo e-mail: sbprj@sbprj.org.br \nINSCRIÇÕES \nMais informações: sbprj@sbprj.org.br \nRealização:  \nAssociação Internacional de Psicossomática Pierre Marty (AIPPM) \nIPSO-Brasil \nCentro de Estudos Psicanalíticos SBPRJ \nPolítica do evento
URL:https://febrapsi.org/evento/curso-os-primordios-da-psicossomatica-na-obra-de-freud-modulo-3-2023/
LOCATION:São Paulo
CATEGORIES:Geral
ATTACH;FMTTYPE=image/png:https://febrapsi.org/storage/2023/09/Smadja_mod3-1.png
ORGANIZER;CN="SBPRJ":MAILTO:sbprj@sbprj.org.br
END:VEVENT
BEGIN:VEVENT
DTSTART;TZID=America/Sao_Paulo:20231025T083000
DTEND;TZID=America/Sao_Paulo:20231025T223000
DTSTAMP:20260424T062214
CREATED:20231026T231620Z
LAST-MODIFIED:20231026T231620Z
UID:48023-1698222600-1698273000@febrapsi.org
SUMMARY:O desafio da criatividade clínica e escrita psicanalítica
DESCRIPTION:Prezados colegas\,\n \n No dia 25 de outubro\, quarta-feira\, às 20h30\, o Cenapp terá o prazer de ter como convidada Silvia Lobo\, Psicanalista\, psicóloga\, socióloga\, membro efetivo e docente na Sociedade Brasileira de Psicanálise de São Paulo – SBPSP\, coordenadora do Grupo Espontâneo de Winnicott- SP e membro do Departamento de Psicanálise da Criança do instituto Sedes Sapientia\, para a 3ª Roda de Conversa\, com o tema: O desafio da criatividade clínica e escrita psicanalítica.\n \n\n \nFaça a sua inscrição aqui\n\n \n\n \nEsperamos encontrá-los lá! \n \nObs.: Aberto para membros da SPBsb\, membros do Instituto\, Federadas e público externo.\n \n \n 
URL:https://febrapsi.org/evento/o-desafio-da-criatividade-clinica-e-escrita-psicanalitica/
LOCATION:São Paulo
CATEGORIES:Geral
ATTACH;FMTTYPE=image/jpeg:https://febrapsi.org/storage/2023/10/Cenapp-Silvia-Lobo.jpg
END:VEVENT
BEGIN:VEVENT
DTSTART;TZID=America/Sao_Paulo:20231025T200000
DTEND;TZID=America/Sao_Paulo:20231025T210000
DTSTAMP:20260424T062214
CREATED:20231016T231620Z
LAST-MODIFIED:20231016T231620Z
UID:47930-1698264000-1698267600@febrapsi.org
SUMMARY:Cinema e psicanálise
DESCRIPTION:Nosso próximo Cinema e Psicanálise trará para o debate o filme francês “A Acusação” de 2021\, que traz em sua direção Yvan Attal.\nA partir das 20h na quarta-feira\, dia 25 de outubro\, Cinema e Psicanálise recebe as convidada psicanalista Edoarda Anna Giuditta Paron para esta discussão.\nO filme “A Acusação” pode ser encontrado nas plataformas Prime Video\, Globoplay e Imovision. Recomendamos que assistiam ao filme previamente.\nEste evento é uma realização do Grupo de Estudos de Psicanálise de São José do Rio Preto e região em parceria com OQVer Streaming e Cinema. A participação é gratuita. Aguardamos vocês. \nLink do evento: https://us02web.zoom.us/j/89608192155?pwd=Q0kvMW9oQ3JXTFRyN3Urb0NaOVhnZz09
URL:https://febrapsi.org/evento/cinema-e-psicanalise-2/
LOCATION:Evento Online
CATEGORIES:Geral
ATTACH;FMTTYPE=image/jpeg:https://febrapsi.org/storage/2023/10/WhatsApp-Image-2023-10-06-at-14.09.48.jpeg
ORGANIZER;CN="GEP Rio Preto e Regi%C3%A3o":MAILTO:gep.riopreto@gmail.com
END:VEVENT
END:VCALENDAR